BEGIN:VCALENDAR
VERSION:2.0
PRODID:-//www.dnesnivylet.cz                                                                                                                        Tip na výlet pro celou rodinu. - ECPv6.15.13.1//NONSGML v1.0//EN
CALSCALE:GREGORIAN
METHOD:PUBLISH
X-WR-CALNAME:www.dnesnivylet.cz                                                                                                                        Tip na výlet pro celou rodinu.
X-ORIGINAL-URL:https://dnesnivylet.cz
X-WR-CALDESC:Akce na www.dnesnivylet.cz                                                                                                                        Tip na výlet pro celou rodinu.
REFRESH-INTERVAL;VALUE=DURATION:PT1H
X-Robots-Tag:noindex
X-PUBLISHED-TTL:PT1H
BEGIN:VTIMEZONE
TZID:Europe/Prague
BEGIN:DAYLIGHT
TZOFFSETFROM:+0100
TZOFFSETTO:+0200
TZNAME:CEST
DTSTART:20250330T010000
END:DAYLIGHT
BEGIN:STANDARD
TZOFFSETFROM:+0200
TZOFFSETTO:+0100
TZNAME:CET
DTSTART:20251026T010000
END:STANDARD
BEGIN:DAYLIGHT
TZOFFSETFROM:+0100
TZOFFSETTO:+0200
TZNAME:CEST
DTSTART:20260329T010000
END:DAYLIGHT
BEGIN:STANDARD
TZOFFSETFROM:+0200
TZOFFSETTO:+0100
TZNAME:CET
DTSTART:20261025T010000
END:STANDARD
BEGIN:DAYLIGHT
TZOFFSETFROM:+0100
TZOFFSETTO:+0200
TZNAME:CEST
DTSTART:20270328T010000
END:DAYLIGHT
BEGIN:STANDARD
TZOFFSETFROM:+0200
TZOFFSETTO:+0100
TZNAME:CET
DTSTART:20271031T010000
END:STANDARD
END:VTIMEZONE
BEGIN:VEVENT
DTSTART;TZID=Europe/Prague:20260613T190000
DTEND;TZID=Europe/Prague:20260613T220000
DTSTAMP:20260419T225216
CREATED:20260106T092029Z
LAST-MODIFIED:20260106T092029Z
UID:16436-1781377200-1781388000@dnesnivylet.cz
SUMMARY:Travestie Cabaret Brno: Divas Show
DESCRIPTION:Travestie Cabaret Brno: Divas Show se uskuteční dne 2026-06-13 v 19:00 v Brno\, Cabaret des Péchés. \n🎟️ Koupit vstupenku \n\n  \nPřipravte se na noc\, která přepíše pravidla travesti show. \nNa scénu přichází unikátní drag & travesti spektákl\, jaký Česko ještě nezažilo. Tři hvězdy české travesti scény – Daina Divad\, Lolla de Schampagne a Ivory Divine – vás vtáhnou do světa proměn\, emocí\, krásy a výbuchu energie. Společně s velkou taneční company rozpoutají večer\, který vás nenechá vydechnout. \nTěšte se na největší hity české i světové pop music\, dechberoucí choreografie a speciální světelné efekty\, které promění prostor Cabaretu des Péchés ve scénu hodnou těch největších divadel a klubových show. \nTravesti. Tanec. Iluze. Emoce.  \nTohle není jen představení. Tohle je zážitek. \n  \nVíce informací: \n  \nTravestie Cabaret Brno je exkluzivní uskupení tří travesti umělkyň. Show je plná humoru\, bohatých kostýmů\, energických vystoupení a osobností populární hudby. Profesionální produkce a dokonalá iluze ženy umocňuje zážitek z perfektně připraveného programu. \nZakladatelky souboru Daina Divad a Lolla de Schampagne jsou na scéně již přes 25 let a dlouhodobě se věnují improvizaci\, ve které jsou pravými mistryněmi. Své dlouholeté zkušenosti využily například na poli divadla\, filmu a během moderování bezpočtu akcí. Dámy od nepaměti vyprodávají řadu podniků\, sálů i divadel – například Divadlo Husa na provázku nebo HaDivadlo. \nIvory Divine je přední brněnská Drag Queen a travesti umělkyně\, která pravidelně vystupuje od roku 2019\, ale tomuto oboru se věnuje již bezmála 15 let. Vedle svého účinkování ve skupině Travestie Cabaret Brno je k vidění také v několika kabaretních programech především v Brně a Praze. \nPři příležitosti vytvoření nové “Divas Show” bylo vybráno několik tanečníků a tanečnic\, spolu s fire / light performerkou\, kteří společně s travesti umělkyněmi tvoří zcela nový koncept show s velmi efektními choreografiemi.  \n  \nDoporučený dresscode – stylový večerní outfit s nádechem glamouru a odvahy\, klidně inspirovaný kabaretem\, dragem či výraznou módou\, ve kterém zazáříte stejně jako samotná show. \nShow je určena výhradně pro publikum starší 18 let – vstup osobám mladším 18 let není povolen \nUpozornění pro divákyTato inscenace obsahuje světelné efekty\, včetně stroboskopických záblesků a rychle se měnících světelných sekvencí. U osob s fotosenzitivní epilepsií nebo zvýšenou citlivostí na intenzivní světelné podněty mohou tyto efekty vyvolat nepříznivé zdravotní reakce. Divákům\, kterých by se tato skutečnost mohla týkat\, se doporučuje zvýšená opatrnost. \n\nTento tip na kulturní akci v Brno najdete v přehledu na Dnesnivylet.cz spolu s dalšími koncerty\, festivaly a divadelními představeními.Každý si vybere co se mu líbí. Nezapomeňte koupit vstupenky včas\, stačí kliknout a budete přesměrování na oficiálního prodejce vstupenek.
URL:https://dnesnivylet.cz/event/travestie-cabaret-brno-divas-show/
LOCATION:Cabaret des Péchés\, Brno\, Cabaret des Péchés\, Brno\, Česká republika
CATEGORIES:Zábava
ATTACH;FMTTYPE=image/jpeg:https://dnesnivylet.cz/wp-content/uploads/2026/01/320-0aaf70b0182b488985857d860b9303a2.jpg
END:VEVENT
END:VCALENDAR