BEGIN:VCALENDAR
VERSION:2.0
PRODID:-//www.dnesnivylet.cz                                                                                                                        Tip na výlet pro celou rodinu. - ECPv6.15.13.1//NONSGML v1.0//EN
CALSCALE:GREGORIAN
METHOD:PUBLISH
X-ORIGINAL-URL:https://dnesnivylet.cz
X-WR-CALDESC:Akce na www.dnesnivylet.cz                                                                                                                        Tip na výlet pro celou rodinu.
REFRESH-INTERVAL;VALUE=DURATION:PT1H
X-Robots-Tag:noindex
X-PUBLISHED-TTL:PT1H
BEGIN:VTIMEZONE
TZID:Europe/Prague
BEGIN:DAYLIGHT
TZOFFSETFROM:+0100
TZOFFSETTO:+0200
TZNAME:CEST
DTSTART:20250330T010000
END:DAYLIGHT
BEGIN:STANDARD
TZOFFSETFROM:+0200
TZOFFSETTO:+0100
TZNAME:CET
DTSTART:20251026T010000
END:STANDARD
BEGIN:DAYLIGHT
TZOFFSETFROM:+0100
TZOFFSETTO:+0200
TZNAME:CEST
DTSTART:20260329T010000
END:DAYLIGHT
BEGIN:STANDARD
TZOFFSETFROM:+0200
TZOFFSETTO:+0100
TZNAME:CET
DTSTART:20261025T010000
END:STANDARD
BEGIN:DAYLIGHT
TZOFFSETFROM:+0100
TZOFFSETTO:+0200
TZNAME:CEST
DTSTART:20270328T010000
END:DAYLIGHT
BEGIN:STANDARD
TZOFFSETFROM:+0200
TZOFFSETTO:+0100
TZNAME:CET
DTSTART:20271031T010000
END:STANDARD
END:VTIMEZONE
BEGIN:VEVENT
DTSTART;TZID=Europe/Prague:20260619T190000
DTEND;TZID=Europe/Prague:20260619T220000
DTSTAMP:20260420T002652
CREATED:20251122T075800Z
LAST-MODIFIED:20251122T075800Z
UID:13561-1781895600-1781906400@dnesnivylet.cz
SUMMARY:Historky z Tinderu Tour 2026
DESCRIPTION:Historky z Tinderu Tour 2026 se uskuteční dne 2026-06-19 v 19:00 v Mikulov\, Hotel Galant Mikulov. \n🎟️ Koupit vstupenku \n\nStand up comedy show s Lucií Macháčkovou\, Kateřinou Haškovou a Alenou Dolákovou. Diváci se ponoří do husté a pořádně peprné show\, ve které komičky prozradí vše\, co (ne)ví o vztazích\, lásce\, sexu a seznamování. NYNÍ VE VAŠEM MĚSTĚ! \n\nTento tip na kulturní akci v Mikulov najdete v přehledu na Dnesnivylet.cz spolu s dalšími koncerty\, festivaly a divadelními představeními.Každý si vybere co se mu líbí. Nezapomeňte koupit vstupenky včas\, stačí kliknout a budete přesměrování na oficiálního prodejce vstupenek.
URL:https://dnesnivylet.cz/event/historky-z-tinderu-tour-2026-20/
LOCATION:Hotel Galant Mikulov\, Mikulov\, Hotel Galant Mikulov\, Mikulov\, Česká republika
CATEGORIES:Zábava
ATTACH;FMTTYPE=image/jpeg:https://dnesnivylet.cz/wp-content/uploads/2025/11/320-6a8f403416b64c6bad488c89167627d6.jpg
END:VEVENT
BEGIN:VEVENT
DTSTART;TZID=Europe/Prague:20260619T190000
DTEND;TZID=Europe/Prague:20260619T220000
DTSTAMP:20260420T002652
CREATED:20251222T145808Z
LAST-MODIFIED:20251222T145809Z
UID:15877-1781895600-1781906400@dnesnivylet.cz
SUMMARY:Mafie na podpatcích
DESCRIPTION:Mafie na podpatcích se uskuteční dne 2026-06-19 v 19:00 v Brno\, Cabaret des Péchés. \n🎟️ Koupit vstupenku \n\nMafie na podpatcích: Bladed Heels \nKabaret\, co tě odrovná. \nRok 1927. Londýn. Elegance\, zločin a třpyt burlesky. V klubu plném svůdných tanečnic a podezřelých úsměvů se rozehrává příběh\, kde vysoké podpatky klapou jako výstřely a každé mrknutí oka může být poslední varování. Diváci od začátku tuší: někdo ukradl vzácný safír – a kufřík s ním se pohybuje mezi postavami… i vámi. \n\n\nMadam La Rouge – burleska s ďáblem v očích a plánem v srdci \n\n\nNebezpečný boss mafie \n\n\nA jeden večer\, kde zločin voní po parfému a šampaňském \n\n\n  \nKdy začínáme: \n\nProgram: 19:00 – 23:00 ( Bar otevřen od 18:00)\nShow: 20:00\n\n  \nCo čekat: \n\n\ncelovečerní program v mafiánském stylu  \n\n\nkabaretní show s příběhem  \n\n\ninteraktivní hry – soutěže\, bingo\, kolo osudu \n\n\ntématické kostýmy\, fotokoutek a exkluzivní koktejly pro pravé mafiány \n\n\n  \nO show: \n„Mafie na podpatcích“ je parodická kabaretní show v podobě tanečního divadla a revue\, kde se mísí humor\, svůdnost a nadsázka. Děj sleduje propracovaný příběh plný intrik\, komických zvratů a stylizovaných mafiánských postav. Každý umělec ztvárňuje vlastní roli a skrze tanec\, herectví a kabaretní čísla vtahuje diváky do světa podpatků\, kouře a gangsterské elegance. \n  \nZločin nikdy nevypadal tak svůdně! \n  \nUpozornění pro divákyTato inscenace obsahuje světelné efekty\, včetně stroboskopických záblesků a rychle se měnících světelných sekvencí. U osob s fotosenzitivní epilepsií nebo zvýšenou citlivostí na intenzivní světelné podněty mohou tyto efekty vyvolat nepříznivé zdravotní reakce. Divákům\, kterých by se tato skutečnost mohla týkat\, se doporučuje zvýšená opatrnost. \n\nTento tip na kulturní akci v Brno najdete v přehledu na Dnesnivylet.cz spolu s dalšími koncerty\, festivaly a divadelními představeními.Každý si vybere co se mu líbí. Nezapomeňte koupit vstupenky včas\, stačí kliknout a budete přesměrování na oficiálního prodejce vstupenek.
URL:https://dnesnivylet.cz/event/mafie-na-podpatcich-7/
LOCATION:Cabaret des Péchés\, Brno\, Cabaret des Péchés\, Brno\, Česká republika
CATEGORIES:Zábava
ATTACH;FMTTYPE=image/jpeg:https://dnesnivylet.cz/wp-content/uploads/2025/12/320-7059cecd04184045a2cebb40bb87dea1.jpg
END:VEVENT
BEGIN:VEVENT
DTSTART;TZID=Europe/Prague:20260619T200000
DTEND;TZID=Europe/Prague:20260619T230000
DTSTAMP:20260420T002652
CREATED:20260404T175606Z
LAST-MODIFIED:20260404T175606Z
UID:20048-1781899200-1781910000@dnesnivylet.cz
SUMMARY:1D Party - Praha
DESCRIPTION:1D Party – Praha se uskuteční dne 2026-06-19 v 20:00 v Praha\, PM Club. \n🎟️ Koupit vstupenku \n\nNejvětší ONE DIRECTION Party opět v Praze! 🎉 \nUž 19.6. si přijď zavzpomínat do P.M. Clubu na jednu z nejoblíbenějších kapel našeho dětství!  \nVrátíme se v čase do roku 2011\, kdy vyšel jejich debutový singl What Makes You Beautiful. Zatancujeme si společně taneček na One Way Or Another. Popláčeme si u písní jako jsou You & I\, Story Of My Life\, History nebo Night Changes. Nebudou chybět ani jejich sólové písně\, a také zavzpomínáme na Liama.⭐️ \n  \n🎁VIP vstupenka obsahuje přednostní vstup\, VIP prostor s vlastním barem\, záchody a originální 1D Podpisový plakát jako dáreček! 🎁 \nTěšit se můžeš na skvělou videoprojekci\, fotokoutek\, fotoreport a boží atmosféru!🎥  \nINFO: \n19.6.2026 📅 \nP.M. Club – Trojická 8\, 120 00\, Praha 📍 \nOPEN: 20:00 ⏰ \nSTART: 21:00 🏁 \nVěk: 15+ \n\nTento tip na kulturní akci v Praha najdete v přehledu na Dnesnivylet.cz spolu s dalšími koncerty\, festivaly a divadelními představeními.Každý si vybere co se mu líbí. Nezapomeňte koupit vstupenky včas\, stačí kliknout a budete přesměrování na oficiálního prodejce vstupenek.
URL:https://dnesnivylet.cz/event/1d-party-praha-2/
LOCATION:PM Club\, Praha\, PM Club\, Praha\, Česká republika
CATEGORIES:Zábava
ATTACH;FMTTYPE=image/jpeg:https://dnesnivylet.cz/wp-content/uploads/2026/04/320-1a54cf9295bc4516a7cef71ddf43d8fe.jpg
END:VEVENT
END:VCALENDAR