BEGIN:VCALENDAR
VERSION:2.0
PRODID:-//www.dnesnivylet.cz                                                                                                                        Tip na výlet pro celou rodinu. - ECPv6.15.13.1//NONSGML v1.0//EN
CALSCALE:GREGORIAN
METHOD:PUBLISH
X-WR-CALNAME:www.dnesnivylet.cz                                                                                                                        Tip na výlet pro celou rodinu.
X-ORIGINAL-URL:https://dnesnivylet.cz
X-WR-CALDESC:Akce na www.dnesnivylet.cz                                                                                                                        Tip na výlet pro celou rodinu.
REFRESH-INTERVAL;VALUE=DURATION:PT1H
X-Robots-Tag:noindex
X-PUBLISHED-TTL:PT1H
BEGIN:VTIMEZONE
TZID:Europe/Prague
BEGIN:DAYLIGHT
TZOFFSETFROM:+0100
TZOFFSETTO:+0200
TZNAME:CEST
DTSTART:20250330T010000
END:DAYLIGHT
BEGIN:STANDARD
TZOFFSETFROM:+0200
TZOFFSETTO:+0100
TZNAME:CET
DTSTART:20251026T010000
END:STANDARD
BEGIN:DAYLIGHT
TZOFFSETFROM:+0100
TZOFFSETTO:+0200
TZNAME:CEST
DTSTART:20260329T010000
END:DAYLIGHT
BEGIN:STANDARD
TZOFFSETFROM:+0200
TZOFFSETTO:+0100
TZNAME:CET
DTSTART:20261025T010000
END:STANDARD
BEGIN:DAYLIGHT
TZOFFSETFROM:+0100
TZOFFSETTO:+0200
TZNAME:CEST
DTSTART:20270328T010000
END:DAYLIGHT
BEGIN:STANDARD
TZOFFSETFROM:+0200
TZOFFSETTO:+0100
TZNAME:CET
DTSTART:20271031T010000
END:STANDARD
END:VTIMEZONE
BEGIN:VEVENT
DTSTART;TZID=Europe/Prague:20260627T130000
DTEND;TZID=Europe/Prague:20260627T160000
DTSTAMP:20260419T225217
CREATED:20260405T130656Z
LAST-MODIFIED:20260405T130656Z
UID:20272-1782565200-1782576000@dnesnivylet.cz
SUMMARY:Výroba skleněné figurky
DESCRIPTION:Výroba skleněné figurky se uskuteční dne 2026-06-27 v 13:00 v Třebíč\, Šmeralův statek. \n🎟️ Koupit vstupenku \n\nŘemeslný workshop na Šmeralově statku s Jiřinou Štrynclovou\, Nositelkou tradice lidových řemesel z Jizerských hor. \nDélka trvání workshopu – cca 4 hodiny. \n\nTento tip na kulturní akci v Třebíč najdete v přehledu na Dnesnivylet.cz spolu s dalšími koncerty\, festivaly a divadelními představeními.Každý si vybere co se mu líbí. Nezapomeňte koupit vstupenky včas\, stačí kliknout a budete přesměrování na oficiálního prodejce vstupenek.
URL:https://dnesnivylet.cz/event/vyroba-sklenene-figurky/
LOCATION:Šmeralův statek\, Třebíč\, Šmeralův statek\, Třebíč\, Česká republika
CATEGORIES:Zábava
ATTACH;FMTTYPE=image/jpeg:https://dnesnivylet.cz/wp-content/uploads/2026/04/320-0d4303b22322468090969eed4d2a59cf.jpg
END:VEVENT
BEGIN:VEVENT
DTSTART;TZID=Europe/Prague:20260627T190000
DTEND;TZID=Europe/Prague:20260627T220000
DTSTAMP:20260419T225217
CREATED:20251214T091745Z
LAST-MODIFIED:20251214T091746Z
UID:15428-1782586800-1782597600@dnesnivylet.cz
SUMMARY:Burlesque Tribute: Od kankánu po bizár
DESCRIPTION:Burlesque Tribute: Od kankánu po bizár se uskuteční dne 2026-06-27 v 19:00 v Brno\, Cabaret des Péchés. \n🎟️ Koupit vstupenku \n\nBURLESQUE TRIBUTE: OD KANKÁNU PO BIZÁR  \nVýpravná show\, která nemá ve světě obdoby. \nBurlesque Tribute je unikátní tříaktová podívaná\, která vás provede historií burlesky – od jejích kořenů v 19. století\, přes éru americké prohibice\, až po současnou neo-burlesku. Připravte se na večer\, kde se třpyt\, elegance\, humor i odvaha snoubí do show\, kterou jen tak někde neuvidíte. \nNaučné? Ano. Interaktivní? Rozhodně. Zábavné? Víc\, než čekáte. \nKaždý z aktů nabídne originální ztvárnění určité éry kabaretní a burleskní historie – včetně ikonických rekvizit\, autentických kostýmů a živých vystoupení. Na jevišti se objeví zpěvačky\, taneční ansámbl i performeři\, kteří vás vtáhnou nejen svými čísly\, ale i příběhem. A pozor – místy se do děje zapojí i samotné publikum. \nKostýmy inspirované ikonami burlesky a kabaretuNeočekávané momenty\, které posunou vaše představy o burlesceBurleska jako forma umění – zábavná\, odvážná\, vzdělávací \nBurlesque Tribute je oslavou minulosti i současnosti burlesky.Není to jen show. Je to zážitek. \nVIP vstupenky v prvních řadách s welcome drinkem \n  \nUpozornění pro divákyTato inscenace obsahuje světelné efekty\, včetně stroboskopických záblesků a rychle se měnících světelných sekvencí. U osob s fotosenzitivní epilepsií nebo zvýšenou citlivostí na intenzivní světelné podněty mohou tyto efekty vyvolat nepříznivé zdravotní reakce. Divákům\, kterých by se tato skutečnost mohla týkat\, se doporučuje zvýšená opatrnost. \n\nTento tip na kulturní akci v Brno najdete v přehledu na Dnesnivylet.cz spolu s dalšími koncerty\, festivaly a divadelními představeními.Každý si vybere co se mu líbí. Nezapomeňte koupit vstupenky včas\, stačí kliknout a budete přesměrování na oficiálního prodejce vstupenek.
URL:https://dnesnivylet.cz/event/burlesque-tribute-od-kankanu-po-bizar-2/
LOCATION:Cabaret des Péchés\, Brno\, Cabaret des Péchés\, Brno\, Česká republika
CATEGORIES:Zábava
ATTACH;FMTTYPE=image/jpeg:https://dnesnivylet.cz/wp-content/uploads/2025/12/320-c42848f003d245e2b4e3949e099feab3.jpg
END:VEVENT
END:VCALENDAR