BEGIN:VCALENDAR
VERSION:2.0
PRODID:-//www.dnesnivylet.cz                                                                                                                        Tip na výlet pro celou rodinu. - ECPv6.15.13.1//NONSGML v1.0//EN
CALSCALE:GREGORIAN
METHOD:PUBLISH
X-WR-CALNAME:www.dnesnivylet.cz                                                                                                                        Tip na výlet pro celou rodinu.
X-ORIGINAL-URL:https://dnesnivylet.cz
X-WR-CALDESC:Akce na www.dnesnivylet.cz                                                                                                                        Tip na výlet pro celou rodinu.
REFRESH-INTERVAL;VALUE=DURATION:PT1H
X-Robots-Tag:noindex
X-PUBLISHED-TTL:PT1H
BEGIN:VTIMEZONE
TZID:Europe/Prague
BEGIN:DAYLIGHT
TZOFFSETFROM:+0100
TZOFFSETTO:+0200
TZNAME:CEST
DTSTART:20250330T010000
END:DAYLIGHT
BEGIN:STANDARD
TZOFFSETFROM:+0200
TZOFFSETTO:+0100
TZNAME:CET
DTSTART:20251026T010000
END:STANDARD
BEGIN:DAYLIGHT
TZOFFSETFROM:+0100
TZOFFSETTO:+0200
TZNAME:CEST
DTSTART:20260329T010000
END:DAYLIGHT
BEGIN:STANDARD
TZOFFSETFROM:+0200
TZOFFSETTO:+0100
TZNAME:CET
DTSTART:20261025T010000
END:STANDARD
BEGIN:DAYLIGHT
TZOFFSETFROM:+0100
TZOFFSETTO:+0200
TZNAME:CEST
DTSTART:20270328T010000
END:DAYLIGHT
BEGIN:STANDARD
TZOFFSETFROM:+0200
TZOFFSETTO:+0100
TZNAME:CET
DTSTART:20271031T010000
END:STANDARD
END:VTIMEZONE
BEGIN:VEVENT
DTSTART;TZID=Europe/Prague:20260725T190000
DTEND;TZID=Europe/Prague:20260725T220000
DTSTAMP:20260420T002454
CREATED:20260306T172945Z
LAST-MODIFIED:20260306T172946Z
UID:19109-1785006000-1785016800@dnesnivylet.cz
SUMMARY:Balaton Open Air 2026
DESCRIPTION:Balaton Open Air 2026 se uskuteční dne 2026-07-25 v 19:00 v Nový Hrozenkov\, Jezero „Balaton“. \n🎟️ Koupit vstupenku \n\nBALATON OPEN AIR 2026  \nJedna z největších tanečních akcí na Moravě – Balaton Open Air– proběhne v sobotu 25. Července 2026\, u známého valašského jezera přezdívaného BALATON. \n Stage s obrovskou LED projekcí a světelnou show Velký výběr letních drinků Cocktail bar Grilované maso Foto a video report z akce. GoGo Dancers \n  \nPARTY\, KTERÁ SE OPAKUJE JEN JEDNOU ROČNĚ A NA KTERÉ NESMÍTE CHYBĚT! \nTakže si napište do svých deníků\, sobota 25. července 2026Těšíme se na Vás! \nBALATON OPEN AIR 2026 \n  \n\nTento tip na kulturní akci v Nový Hrozenkov najdete v přehledu na Dnesnivylet.cz spolu s dalšími koncerty\, festivaly a divadelními představeními.Každý si vybere co se mu líbí. Nezapomeňte koupit vstupenky včas\, stačí kliknout a budete přesměrování na oficiálního prodejce vstupenek.
URL:https://dnesnivylet.cz/event/balaton-open-air-2026/
LOCATION:Jezero „Balaton“\, Nový Hrozenkov\, Jezero "Balaton"\, Nový Hrozenkov\, Česká republika
CATEGORIES:Zábava
ATTACH;FMTTYPE=image/jpeg:https://dnesnivylet.cz/wp-content/uploads/2026/03/320-e2355203fd1b47dd9280bb560740b773.jpg
END:VEVENT
END:VCALENDAR