BEGIN:VCALENDAR
VERSION:2.0
PRODID:-//www.dnesnivylet.cz                                                                                                                        Tip na výlet pro celou rodinu. - ECPv6.15.13.1//NONSGML v1.0//EN
CALSCALE:GREGORIAN
METHOD:PUBLISH
X-ORIGINAL-URL:https://dnesnivylet.cz
X-WR-CALDESC:Akce na www.dnesnivylet.cz                                                                                                                        Tip na výlet pro celou rodinu.
REFRESH-INTERVAL;VALUE=DURATION:PT1H
X-Robots-Tag:noindex
X-PUBLISHED-TTL:PT1H
BEGIN:VTIMEZONE
TZID:Europe/Prague
BEGIN:DAYLIGHT
TZOFFSETFROM:+0100
TZOFFSETTO:+0200
TZNAME:CEST
DTSTART:20250330T010000
END:DAYLIGHT
BEGIN:STANDARD
TZOFFSETFROM:+0200
TZOFFSETTO:+0100
TZNAME:CET
DTSTART:20251026T010000
END:STANDARD
BEGIN:DAYLIGHT
TZOFFSETFROM:+0100
TZOFFSETTO:+0200
TZNAME:CEST
DTSTART:20260329T010000
END:DAYLIGHT
BEGIN:STANDARD
TZOFFSETFROM:+0200
TZOFFSETTO:+0100
TZNAME:CET
DTSTART:20261025T010000
END:STANDARD
BEGIN:DAYLIGHT
TZOFFSETFROM:+0100
TZOFFSETTO:+0200
TZNAME:CEST
DTSTART:20270328T010000
END:DAYLIGHT
BEGIN:STANDARD
TZOFFSETFROM:+0200
TZOFFSETTO:+0100
TZNAME:CET
DTSTART:20271031T010000
END:STANDARD
END:VTIMEZONE
BEGIN:VEVENT
DTSTART;TZID=Europe/Prague:20260807T170000
DTEND;TZID=Europe/Prague:20260807T200000
DTSTAMP:20260420T030420
CREATED:20260314T190437Z
LAST-MODIFIED:20260314T190437Z
UID:19529-1786122000-1786132800@dnesnivylet.cz
SUMMARY:EXIT At The Castle | Mikulov [house/techno edition]
DESCRIPTION:EXIT At The Castle | Mikulov [house/techno edition] se uskuteční dne 2026-08-07 v 17:00 v Mikulov\, Zámek Mikulov. \n🎟️ Koupit vstupenku \n\n𝐄𝐗𝐈𝐓 𝐀𝐭 𝐓𝐡𝐞 𝐂𝐚𝐬𝐭𝐥𝐞 zavítá i v roce 2026 na zámek 𝐌𝐢𝐤𝐮𝐥𝐨𝐯 s výhledem na Svatý kopeček!  Těšte se na dva dny plné elektronické hudby – pátek 7.8. bude patřit house a melodic technu! \n▌EXIT At The Castle▌Fri. 7.8.2026▌Zámek Mikulov▌Open Air → 17:00 – 22:00▌Afterparty → 22:00 – 05:00 (Zámecký sál) \nL̶i̶n̶e̶-̶u̶p̶:̶𝗙𝗿𝗶. 𝟳.𝟴. /𝗵𝗼𝘂𝘀𝗲 & 𝘁𝗲𝗰𝗵𝗻𝗼 𝗲𝗱𝗶𝘁𝗶𝗼𝗻/TBA – upřesníme \n  \n\nTento tip na kulturní akci v Mikulov najdete v přehledu na Dnesnivylet.cz spolu s dalšími koncerty\, festivaly a divadelními představeními.Každý si vybere co se mu líbí. Nezapomeňte koupit vstupenky včas\, stačí kliknout a budete přesměrování na oficiálního prodejce vstupenek.
URL:https://dnesnivylet.cz/event/exit-at-the-castle-mikulov-house-techno-edition/
LOCATION:Zámek Mikulov\, Mikulov\, Zámek Mikulov\, Mikulov\, Česká republika
CATEGORIES:Zábava
ATTACH;FMTTYPE=image/jpeg:https://dnesnivylet.cz/wp-content/uploads/2026/03/320-b8c8a916bb1541db842f4f627a266e46.jpg
END:VEVENT
END:VCALENDAR