BEGIN:VCALENDAR
VERSION:2.0
PRODID:-//www.dnesnivylet.cz                                                                                                                        Tip na výlet pro celou rodinu. - ECPv6.15.13.1//NONSGML v1.0//EN
CALSCALE:GREGORIAN
METHOD:PUBLISH
X-ORIGINAL-URL:https://dnesnivylet.cz
X-WR-CALDESC:Akce na www.dnesnivylet.cz                                                                                                                        Tip na výlet pro celou rodinu.
REFRESH-INTERVAL;VALUE=DURATION:PT1H
X-Robots-Tag:noindex
X-PUBLISHED-TTL:PT1H
BEGIN:VTIMEZONE
TZID:Europe/Prague
BEGIN:DAYLIGHT
TZOFFSETFROM:+0100
TZOFFSETTO:+0200
TZNAME:CEST
DTSTART:20250330T010000
END:DAYLIGHT
BEGIN:STANDARD
TZOFFSETFROM:+0200
TZOFFSETTO:+0100
TZNAME:CET
DTSTART:20251026T010000
END:STANDARD
BEGIN:DAYLIGHT
TZOFFSETFROM:+0100
TZOFFSETTO:+0200
TZNAME:CEST
DTSTART:20260329T010000
END:DAYLIGHT
BEGIN:STANDARD
TZOFFSETFROM:+0200
TZOFFSETTO:+0100
TZNAME:CET
DTSTART:20261025T010000
END:STANDARD
BEGIN:DAYLIGHT
TZOFFSETFROM:+0100
TZOFFSETTO:+0200
TZNAME:CEST
DTSTART:20270328T010000
END:DAYLIGHT
BEGIN:STANDARD
TZOFFSETFROM:+0200
TZOFFSETTO:+0100
TZNAME:CET
DTSTART:20271031T010000
END:STANDARD
END:VTIMEZONE
BEGIN:VEVENT
DTSTART;TZID=Europe/Prague:20260828T080000
DTEND;TZID=Europe/Prague:20260828T110000
DTSTAMP:20260420T030418
CREATED:20260419T122518Z
LAST-MODIFIED:20260419T122518Z
UID:20945-1787904000-1787914800@dnesnivylet.cz
SUMMARY:Amateur & Profi Jump Tour Finále Morava - Olomouc
DESCRIPTION:Amateur & Profi Jump Tour Finále Morava – Olomouc se uskuteční dne 2026-08-28 v 08:00 v Olomouc\, Equine sport center Olomouc. \n🎟️ Koupit vstupenku \n\nRádi bychom vás srdečně pozvali na jedinečnou událost roku – moravské finále seriálu Amateur Jump Tour 2026\, které se bude konat v moderním areálu ESC Olomouc ve dnech 28. – 30. srpna. Tato prestižní akce slibuje nejen napínavé soutěže v parkurovém skákání\, ale také nezapomenutelný zážitek pro všechny milovníky jezdeckého sportu. Uskuteční se soutěže do výšky 140 cm. \nBěhem tří dnů se můžete těšit na vrcholné výkony jezdců\, kteří se utkají o titul šampiona v rámci seriálu Amateur Jump Tour oblasti Morava. \nTato událost je ideální příležitostí k navázání nových kontaktů a sdílení zkušeností s ostatními nadšenci jezdeckého sportu. \nNezmeškejte šanci být součástí této výjimečné akce!  \n  \n\nTento tip na kulturní akci v Olomouc najdete v přehledu na Dnesnivylet.cz spolu s dalšími koncerty\, festivaly a divadelními představeními.Každý si vybere co se mu líbí. Nezapomeňte koupit vstupenky včas\, stačí kliknout a budete přesměrování na oficiálního prodejce vstupenek.
URL:https://dnesnivylet.cz/event/amateur-profi-jump-tour-finale-morava-olomouc/
LOCATION:Equine sport center Olomouc\, Olomouc\, Equine sport center Olomouc\, Olomouc\, Česká republika
CATEGORIES:Zábava
ATTACH;FMTTYPE=image/jpeg:https://dnesnivylet.cz/wp-content/uploads/2026/04/320-72aad2cd56674a5eb2528577fa3760bb.jpg
END:VEVENT
BEGIN:VEVENT
DTSTART;TZID=Europe/Prague:20260828T200000
DTEND;TZID=Europe/Prague:20260828T230000
DTSTAMP:20260420T030418
CREATED:20251105T193601Z
LAST-MODIFIED:20251105T193602Z
UID:12763-1787947200-1787958000@dnesnivylet.cz
SUMMARY:Blue Secret Show: vzdušná\, přitažlivá\, snová
DESCRIPTION:Blue Secret Show: vzdušná\, přitažlivá\, snová se uskuteční dne 2026-08-28 v 20:00 v Brno\, Cabaret des Péchés. \n🎟️ Koupit vstupenku \n\nCo se ti naposledy zdálo? \nJaký sen si necháš jen pro sebe? \nA prozradíš ho nám? \nVe snech nejsou pravidla. Neexistuje gravitace\, čas ani prostor. Máš odvahu nahlédnout do světa\, kde sny ožívají? Čeká tě představení plné akrobacie různého druhu\, poledance\, chairdance\, burleska\, tanec a světelná show. Přijď zažít estetickou vášeň\, autentickou zábavu a divokou kreativitu\, na kterou si možná ani netroufneš. \nProtože vždycky chceme vědět – o čem sní ti druzí. \nPředstavení je výjimečným spojením dvou úspěšných producentek – Ivany Kolcunové a Zorye Blue. \nPRO KOHO JE SHOW: \nSny nemají limity. Pokud milujete kvalitní program\, skvělé drinky a zábavu plnou emocí\, jste ti praví. Show je určena pro diváky 15+. \n  \nÚČINKUJÍCÍ: \nZorya Blue – performerka\, producentka Blue Secret Show\, lektorka burlesky. Charismatická\, plná ženskosti a energie\, která ohromí půvabem a fascinujícími kostýmy. \n  \nIvy Eyra – vzdušná akrobatka (šála a síť)\, jejíž show je nabitá adrenalinem\, vášní a ženskou silou. Producentka Blue Secret Show. \n  \nMarkét the Violinist – houslistka a performerka\, která na jevišti spojuje křehkost hudby s kouzlem okamžiku. \n  \nBarbora Elznic – performerka pole a chair dance\, která uhrane svými originálními a uměleckými kostýmy. Její styl je temný\, sexy a plný umělecké vášnivosti. \n  \nKateřina Horová – tanečnice\, akrobatka a performerka UV light & fire show. Její důvtip rozesměje\, ladný pohyb pohladí duši a úsměv rozzáří každý okamžik. \n  \nDRESS CODE: \nJe to Váš večer. Vyberte si outfit\, který podtrhne vaši jedinečnost\, protože naše sny a tajemství jsou jen naše. \nShow má 100 minut. Bar je otevřen od 18h. Show začne ve 20h. \n  \nPRODUKČNÍ TÝM BLUE SECRET SHOW: \nZorya Blue – Jedna z nejvýraznějších žen současné burlesque scény. Její show slaví úspěchy po celé České republice i v zahraničí. Produkuje Blue Burlesque Show a Blue Pleasure Show. V roce 2023 získala pětkrát „ano“ v soutěži Česko Slovensko má talent a na World Burlesque Games v Londýně obsadila třetí místo v kategorii International Crown. Její Czech Burlesque School prošly tisíce účastnic. \nIvy Eyra – Profesionální vzdušná akrobatka\, která svým uměním posouvá hranice možného. Má za sebou stovky vystoupení na české i zahraniční scéně\, a to jak v sálech\, tak ve výšce 17 metrů bez jištění. Je autorkou dvou psychologických inscenací obnaŽENA a přistiŽENA. Získala nominaci na festivalovou cenu Mind Blown Award na Göteborg Fringe 2024 a dvakrát zvítězila v British Aerial Acrobatics Championship (2019\, 2020). \n  \nBAR 18:00 \nSHOW 20:00 \n  \nTěšíme se na Vás! \nTým Cabaretu \nThe performance is suitable for English-speaking audiences. \n\nTento tip na kulturní akci v Brno najdete v přehledu na Dnesnivylet.cz spolu s dalšími koncerty\, festivaly a divadelními představeními.Každý si vybere co se mu líbí. Nezapomeňte koupit vstupenky včas\, stačí kliknout a budete přesměrování na oficiálního prodejce vstupenek.
URL:https://dnesnivylet.cz/event/blue-secret-show-vzdusna-pritazliva-snova-8/
LOCATION:Cabaret des Péchés\, Brno\, Cabaret des Péchés\, Brno\, Česká republika
CATEGORIES:Zábava
ATTACH;FMTTYPE=image/jpeg:https://dnesnivylet.cz/wp-content/uploads/2025/11/320-876f9f02f30a44a486b5dcb4d011c11d.jpg
END:VEVENT
END:VCALENDAR