BEGIN:VCALENDAR
VERSION:2.0
PRODID:-//www.dnesnivylet.cz                                                                                                                        Tip na výlet pro celou rodinu. - ECPv6.15.13.1//NONSGML v1.0//EN
CALSCALE:GREGORIAN
METHOD:PUBLISH
X-WR-CALNAME:www.dnesnivylet.cz                                                                                                                        Tip na výlet pro celou rodinu.
X-ORIGINAL-URL:https://dnesnivylet.cz
X-WR-CALDESC:Akce na www.dnesnivylet.cz                                                                                                                        Tip na výlet pro celou rodinu.
REFRESH-INTERVAL;VALUE=DURATION:PT1H
X-Robots-Tag:noindex
X-PUBLISHED-TTL:PT1H
BEGIN:VTIMEZONE
TZID:Europe/Prague
BEGIN:DAYLIGHT
TZOFFSETFROM:+0100
TZOFFSETTO:+0200
TZNAME:CEST
DTSTART:20250330T010000
END:DAYLIGHT
BEGIN:STANDARD
TZOFFSETFROM:+0200
TZOFFSETTO:+0100
TZNAME:CET
DTSTART:20251026T010000
END:STANDARD
BEGIN:DAYLIGHT
TZOFFSETFROM:+0100
TZOFFSETTO:+0200
TZNAME:CEST
DTSTART:20260329T010000
END:DAYLIGHT
BEGIN:STANDARD
TZOFFSETFROM:+0200
TZOFFSETTO:+0100
TZNAME:CET
DTSTART:20261025T010000
END:STANDARD
BEGIN:DAYLIGHT
TZOFFSETFROM:+0100
TZOFFSETTO:+0200
TZNAME:CEST
DTSTART:20270328T010000
END:DAYLIGHT
BEGIN:STANDARD
TZOFFSETFROM:+0200
TZOFFSETTO:+0100
TZNAME:CET
DTSTART:20271031T010000
END:STANDARD
END:VTIMEZONE
BEGIN:VEVENT
DTSTART;TZID=Europe/Prague:20260904T080000
DTEND;TZID=Europe/Prague:20260904T110000
DTSTAMP:20260420T030248
CREATED:20260419T122708Z
LAST-MODIFIED:20260419T122709Z
UID:20962-1788508800-1788519600@dnesnivylet.cz
SUMMARY:Amateur Jump Tour - Písek
DESCRIPTION:Amateur Jump Tour – Písek se uskuteční dne 2026-09-04 v 08:00 v Písek\, Zemský hřebčinec Písek. \n🎟️ Koupit vstupenku \n\nS potěšením Vás zveme na jedinečnou událost v jezdeckém kalendáři roku 2026 – Amateur Jump Tour \, která se koná v krásném prostředí zemského hřebčince v Písku ve dnech 4.-6. září. Tato prestižní soutěž v parkurovém skákání přivítá jezdce všech úrovní a slibuje nezapomenutelné zážitky pro všechny milovníky jezdeckého sportu. \nTěšit se můžete na napínavé soutěže\, kde se představí děti\, junioři a talentovaní amatéři\, kteří předvedou své dovednosti na překážkách různé obtížnosti až do výšky parkurů 130 cm \nNenechte si ujít příležitost být součástí této výjimečné akce\, která nabízí nejen soutěžní vzrušení\, ale také skvělou příležitost k navázání nových kontaktů v jezdecké komunitě. \n  \n\nTento tip na kulturní akci v Písek najdete v přehledu na Dnesnivylet.cz spolu s dalšími koncerty\, festivaly a divadelními představeními.Každý si vybere co se mu líbí. Nezapomeňte koupit vstupenky včas\, stačí kliknout a budete přesměrování na oficiálního prodejce vstupenek.
URL:https://dnesnivylet.cz/event/amateur-jump-tour-pisek/
LOCATION:Zemský hřebčinec Písek\, Písek\, Zemský hřebčinec Písek\, Písek\, Česká republika
CATEGORIES:Zábava
ATTACH;FMTTYPE=image/jpeg:https://dnesnivylet.cz/wp-content/uploads/2026/04/320-76c80f2ddeea420a97ff0c6d66cd5a83.jpg
END:VEVENT
END:VCALENDAR