BEGIN:VCALENDAR
VERSION:2.0
PRODID:-//www.dnesnivylet.cz                                                                                                                        Tip na výlet pro celou rodinu. - ECPv6.15.13.1//NONSGML v1.0//EN
CALSCALE:GREGORIAN
METHOD:PUBLISH
X-ORIGINAL-URL:https://dnesnivylet.cz
X-WR-CALDESC:Akce na www.dnesnivylet.cz                                                                                                                        Tip na výlet pro celou rodinu.
REFRESH-INTERVAL;VALUE=DURATION:PT1H
X-Robots-Tag:noindex
X-PUBLISHED-TTL:PT1H
BEGIN:VTIMEZONE
TZID:Europe/Prague
BEGIN:DAYLIGHT
TZOFFSETFROM:+0100
TZOFFSETTO:+0200
TZNAME:CEST
DTSTART:20250330T010000
END:DAYLIGHT
BEGIN:STANDARD
TZOFFSETFROM:+0200
TZOFFSETTO:+0100
TZNAME:CET
DTSTART:20251026T010000
END:STANDARD
BEGIN:DAYLIGHT
TZOFFSETFROM:+0100
TZOFFSETTO:+0200
TZNAME:CEST
DTSTART:20260329T010000
END:DAYLIGHT
BEGIN:STANDARD
TZOFFSETFROM:+0200
TZOFFSETTO:+0100
TZNAME:CET
DTSTART:20261025T010000
END:STANDARD
BEGIN:DAYLIGHT
TZOFFSETFROM:+0100
TZOFFSETTO:+0200
TZNAME:CEST
DTSTART:20270328T010000
END:DAYLIGHT
BEGIN:STANDARD
TZOFFSETFROM:+0200
TZOFFSETTO:+0100
TZNAME:CET
DTSTART:20271031T010000
END:STANDARD
END:VTIMEZONE
BEGIN:VEVENT
DTSTART;TZID=Europe/Prague:20260307T160000
DTEND;TZID=Europe/Prague:20260307T190000
DTSTAMP:20260419T143000
CREATED:20260306T171859Z
LAST-MODIFIED:20260306T171900Z
UID:18960-1772899200-1772910000@dnesnivylet.cz
SUMMARY:II. Jarní (na)ladění - Minifestival ženských pěveckých sborů
DESCRIPTION:II. Jarní (na)ladění – Minifestival ženských pěveckých sborů se uskuteční dne 2026-03-07 v 16:00 v Babice\, Kulturní dům. \n🎟️ Koupit vstupenku \n\nŽENY\, POŘÁDÁME PRO VÁS OSLAVU! \n🌸 2. ročník Jarního (na)ladění je tady! 🌸 \nOrganizátorem je Pěvecký sbor Kalinka\, který doprovodí CM Lintava. Ta vám zahraje po skončení koncertu také k tanci\, zpěvu i poslechu v rámci besedy u cimbálu. \nDalšími skvělými hosty jsou: \n🎶 Pěvecký sbor BLAženky & Jarda Žižka (akordeon) \n🎶 Dívčí sbor Fěrtúšky s CM Romana Sokola \n🎶 Folková skupina Děvčice \n\nTento tip na kulturní akci v Babice najdete v přehledu na Dnesnivylet.cz spolu s dalšími koncerty\, festivaly a divadelními představeními.Každý si vybere co se mu líbí. Nezapomeňte koupit vstupenky včas\, stačí kliknout a budete přesměrování na oficiálního prodejce vstupenek.
URL:https://dnesnivylet.cz/event/ii-jarni-naladeni-minifestival-zenskych-peveckych-sboru/
LOCATION:Kulturní dům\, Babice\, Kulturní dům\, Babice\, Česká republika
CATEGORIES:Festival
ATTACH;FMTTYPE=image/jpeg:https://dnesnivylet.cz/wp-content/uploads/2026/03/320-f8863e1420714b9a972460875da009c8.jpg
END:VEVENT
END:VCALENDAR