BEGIN:VCALENDAR
VERSION:2.0
PRODID:-//www.dnesnivylet.cz                                                                                                                        Tip na výlet pro celou rodinu. - ECPv6.15.13.1//NONSGML v1.0//EN
CALSCALE:GREGORIAN
METHOD:PUBLISH
X-WR-CALNAME:www.dnesnivylet.cz                                                                                                                        Tip na výlet pro celou rodinu.
X-ORIGINAL-URL:https://dnesnivylet.cz
X-WR-CALDESC:Akce na www.dnesnivylet.cz                                                                                                                        Tip na výlet pro celou rodinu.
REFRESH-INTERVAL;VALUE=DURATION:PT1H
X-Robots-Tag:noindex
X-PUBLISHED-TTL:PT1H
BEGIN:VTIMEZONE
TZID:Europe/Prague
BEGIN:DAYLIGHT
TZOFFSETFROM:+0100
TZOFFSETTO:+0200
TZNAME:CEST
DTSTART:20250330T010000
END:DAYLIGHT
BEGIN:STANDARD
TZOFFSETFROM:+0200
TZOFFSETTO:+0100
TZNAME:CET
DTSTART:20251026T010000
END:STANDARD
BEGIN:DAYLIGHT
TZOFFSETFROM:+0100
TZOFFSETTO:+0200
TZNAME:CEST
DTSTART:20260329T010000
END:DAYLIGHT
BEGIN:STANDARD
TZOFFSETFROM:+0200
TZOFFSETTO:+0100
TZNAME:CET
DTSTART:20261025T010000
END:STANDARD
BEGIN:DAYLIGHT
TZOFFSETFROM:+0100
TZOFFSETTO:+0200
TZNAME:CEST
DTSTART:20270328T010000
END:DAYLIGHT
BEGIN:STANDARD
TZOFFSETFROM:+0200
TZOFFSETTO:+0100
TZNAME:CET
DTSTART:20271031T010000
END:STANDARD
END:VTIMEZONE
BEGIN:VEVENT
DTSTART;TZID=Europe/Prague:20260318T190000
DTEND;TZID=Europe/Prague:20260318T220000
DTSTAMP:20260420T002939
CREATED:20251212T185313Z
LAST-MODIFIED:20251212T185313Z
UID:14854-1773860400-1773871200@dnesnivylet.cz
SUMMARY:Kafe u Osmanyho | Bechyně
DESCRIPTION:Kafe u Osmanyho | Bechyně se uskuteční dne 2026-03-18 v 19:00 v Bechyně\, Kulturní středisko města. \n🎟️ Koupit vstupenku \n\nOriginální zábavný pořad populárního módního návrháře kubánského původu Osmanyho Laffity. \nMnohdy neuvěřitelné historky ze života Osmanyho Laffity\, při kterých se divák baví od první chvíle. Život Osmanyho je totiž velmi pestrý a co jiný nezažijí za celý život\, on už dávno zvládnul. \nModeruje: Eva DecasteloÚčinkují: Osmany Laffita \n\nTento tip na kulturní akci v Bechyně najdete v přehledu na Dnesnivylet.cz spolu s dalšími koncerty\, festivaly a divadelními představeními.Každý si vybere co se mu líbí. Nezapomeňte koupit vstupenky včas\, stačí kliknout a budete přesměrování na oficiálního prodejce vstupenek.
URL:https://dnesnivylet.cz/event/kafe-u-osmanyho-bechyne/
LOCATION:Kulturní středisko města\, Bechyně\, Kulturní středisko města\, Bechyně\, Česká republika
CATEGORIES:Zábava
ATTACH;FMTTYPE=image/jpeg:https://dnesnivylet.cz/wp-content/uploads/2025/12/320-144bae8eb2164b36a74411609791bfe6.jpg
END:VEVENT
END:VCALENDAR