BEGIN:VCALENDAR
VERSION:2.0
PRODID:-//www.dnesnivylet.cz                                                                                                                        Tip na výlet pro celou rodinu. - ECPv6.15.13.1//NONSGML v1.0//EN
CALSCALE:GREGORIAN
METHOD:PUBLISH
X-ORIGINAL-URL:https://dnesnivylet.cz
X-WR-CALDESC:Akce na www.dnesnivylet.cz                                                                                                                        Tip na výlet pro celou rodinu.
REFRESH-INTERVAL;VALUE=DURATION:PT1H
X-Robots-Tag:noindex
X-PUBLISHED-TTL:PT1H
BEGIN:VTIMEZONE
TZID:Europe/Prague
BEGIN:DAYLIGHT
TZOFFSETFROM:+0100
TZOFFSETTO:+0200
TZNAME:CEST
DTSTART:20250330T010000
END:DAYLIGHT
BEGIN:STANDARD
TZOFFSETFROM:+0200
TZOFFSETTO:+0100
TZNAME:CET
DTSTART:20251026T010000
END:STANDARD
BEGIN:DAYLIGHT
TZOFFSETFROM:+0100
TZOFFSETTO:+0200
TZNAME:CEST
DTSTART:20260329T010000
END:DAYLIGHT
BEGIN:STANDARD
TZOFFSETFROM:+0200
TZOFFSETTO:+0100
TZNAME:CET
DTSTART:20261025T010000
END:STANDARD
BEGIN:DAYLIGHT
TZOFFSETFROM:+0100
TZOFFSETTO:+0200
TZNAME:CEST
DTSTART:20270328T010000
END:DAYLIGHT
BEGIN:STANDARD
TZOFFSETFROM:+0200
TZOFFSETTO:+0100
TZNAME:CET
DTSTART:20271031T010000
END:STANDARD
END:VTIMEZONE
BEGIN:VEVENT
DTSTART;TZID=Europe/Prague:20260303T190000
DTEND;TZID=Europe/Prague:20260303T220000
DTSTAMP:20260420T003031
CREATED:20251212T185724Z
LAST-MODIFIED:20251212T185724Z
UID:14959-1772564400-1772575200@dnesnivylet.cz
SUMMARY:Bohumil Pečinka a Petros Michopulos: Kecy a Politika Live
DESCRIPTION:Bohumil Pečinka a Petros Michopulos: Kecy a Politika Live se uskuteční dne 2026-03-03 v 19:00 v Benátky nad Jizerou\, Společenský sál „Záložna“. \n🎟️ Koupit vstupenku \n\nKecy a politika komentátorů Bohumila Pečinky a Petrose Michopulose. Současná politika pohledem dvou rozdílných osobností\, kteří se nebojí říct své názory.  \nBohumil PečinkaPolitický komentátor a dlouholetý zástupce šéfredaktora Reflexu.Petros MichopulosExpert na politický marketing \n\nTento tip na kulturní akci v Benátky nad Jizerou najdete v přehledu na Dnesnivylet.cz spolu s dalšími koncerty\, festivaly a divadelními představeními.Každý si vybere co se mu líbí. Nezapomeňte koupit vstupenky včas\, stačí kliknout a budete přesměrování na oficiálního prodejce vstupenek.
URL:https://dnesnivylet.cz/event/bohumil-pecinka-a-petros-michopulos-kecy-a-politika-live/
LOCATION:Společenský sál „Záložna“\, Benátky nad Jizerou\, Společenský sál "Záložna"\, Benátky nad Jizerou\, Česká republika
CATEGORIES:Zábava
ATTACH;FMTTYPE=image/jpeg:https://dnesnivylet.cz/wp-content/uploads/2025/12/320-1003ab8faf2643628708850a0f2e602d.jpg
END:VEVENT
END:VCALENDAR