BEGIN:VCALENDAR
VERSION:2.0
PRODID:-//www.dnesnivylet.cz                                                                                                                        Tip na výlet pro celou rodinu. - ECPv6.15.13.1//NONSGML v1.0//EN
CALSCALE:GREGORIAN
METHOD:PUBLISH
X-WR-CALNAME:www.dnesnivylet.cz                                                                                                                        Tip na výlet pro celou rodinu.
X-ORIGINAL-URL:https://dnesnivylet.cz
X-WR-CALDESC:Akce na www.dnesnivylet.cz                                                                                                                        Tip na výlet pro celou rodinu.
REFRESH-INTERVAL;VALUE=DURATION:PT1H
X-Robots-Tag:noindex
X-PUBLISHED-TTL:PT1H
BEGIN:VTIMEZONE
TZID:Europe/Prague
BEGIN:DAYLIGHT
TZOFFSETFROM:+0100
TZOFFSETTO:+0200
TZNAME:CEST
DTSTART:20240331T010000
END:DAYLIGHT
BEGIN:STANDARD
TZOFFSETFROM:+0200
TZOFFSETTO:+0100
TZNAME:CET
DTSTART:20241027T010000
END:STANDARD
BEGIN:DAYLIGHT
TZOFFSETFROM:+0100
TZOFFSETTO:+0200
TZNAME:CEST
DTSTART:20250330T010000
END:DAYLIGHT
BEGIN:STANDARD
TZOFFSETFROM:+0200
TZOFFSETTO:+0100
TZNAME:CET
DTSTART:20251026T010000
END:STANDARD
BEGIN:DAYLIGHT
TZOFFSETFROM:+0100
TZOFFSETTO:+0200
TZNAME:CEST
DTSTART:20260329T010000
END:DAYLIGHT
BEGIN:STANDARD
TZOFFSETFROM:+0200
TZOFFSETTO:+0100
TZNAME:CET
DTSTART:20261025T010000
END:STANDARD
BEGIN:DAYLIGHT
TZOFFSETFROM:+0100
TZOFFSETTO:+0200
TZNAME:CEST
DTSTART:20270328T010000
END:DAYLIGHT
BEGIN:STANDARD
TZOFFSETFROM:+0200
TZOFFSETTO:+0100
TZNAME:CET
DTSTART:20271031T010000
END:STANDARD
END:VTIMEZONE
BEGIN:VEVENT
DTSTART;TZID=Europe/Prague:20260416T190000
DTEND;TZID=Europe/Prague:20260416T220000
DTSTAMP:20260420T035649
CREATED:20260107T192227Z
LAST-MODIFIED:20260107T192227Z
UID:16551-1776366000-1776376800@dnesnivylet.cz
SUMMARY:Michael Szatmary - Lokálny sexsymbol - Stand-up speciál
DESCRIPTION:Michael Szatmary – Lokálny sexsymbol – Stand-up speciál se uskuteční dne 2026-04-16 v 19:00 v Benešov\, Městské divadlo Na Poště. \n🎟️ Koupit vstupenku \n\nMichael Szatmary\, jedno z největších a nejzářivějších jmen slovenské stand-up komediální scény\, který je velmi oblíbený i českým publikem\, vyráží na turné se svým Stand-up comedy speciálem. \nMůžete se těšit na 80. minutovou show\, ve které vás Michael nebude šetřit a celý večer se budete smát jeho nejlepším historkám. \n\nTento tip na kulturní akci v Benešov najdete v přehledu na Dnesnivylet.cz spolu s dalšími koncerty\, festivaly a divadelními představeními.Každý si vybere co se mu líbí. Nezapomeňte koupit vstupenky včas\, stačí kliknout a budete přesměrování na oficiálního prodejce vstupenek.
URL:https://dnesnivylet.cz/event/michael-szatmary-lokalny-sexsymbol-stand-up-special-9/
LOCATION:Městské divadlo Na Poště\, Benešov\, Městské divadlo Na Poště\, Benešov\, Česká republika
CATEGORIES:Zábava
ATTACH;FMTTYPE=image/jpeg:https://dnesnivylet.cz/wp-content/uploads/2026/01/320-511600f13a8c4e1fac9dae796c30907f.jpg
END:VEVENT
BEGIN:VEVENT
DTSTART;TZID=Europe/Prague:20260325T190000
DTEND;TZID=Europe/Prague:20260325T220000
DTSTAMP:20260420T035649
CREATED:20251103T194639Z
LAST-MODIFIED:20251103T194639Z
UID:12296-1774465200-1774476000@dnesnivylet.cz
SUMMARY:Historky z Tinderu Tour 2026
DESCRIPTION:Historky z Tinderu Tour 2026 se uskuteční dne 2026-03-25 v 19:00 v Benešov\, KD Karlov. \n🎟️ Koupit vstupenku \n\nStand up comedy show s Lucií Macháčkovou\, Kateřinou Haškovou a Alenou Dolákovou. Diváci se ponoří do husté a pořádně peprné show\, ve které komičky prozradí vše\, co (ne)ví o vztazích\, lásce\, sexu a seznamování. NYNÍ VE VAŠEM MĚSTĚ! \n\nTento tip na kulturní akci v Benešov najdete v přehledu na Dnesnivylet.cz spolu s dalšími koncerty\, festivaly a divadelními představeními.Každý si vybere co se mu líbí. Nezapomeňte koupit vstupenky včas\, stačí kliknout a budete přesměrování na oficiálního prodejce vstupenek.
URL:https://dnesnivylet.cz/event/historky-z-tinderu-tour-2026-12/
LOCATION:KD Karlov\, Benešov\, KD Karlov\, Benešov\, Česká republika
CATEGORIES:Zábava
ATTACH;FMTTYPE=image/jpeg:https://dnesnivylet.cz/wp-content/uploads/2025/11/320-8d89120c17594afca834fd800c5606af.jpg
END:VEVENT
BEGIN:VEVENT
DTSTART;TZID=Europe/Prague:20260325T190000
DTEND;TZID=Europe/Prague:20260325T220000
DTSTAMP:20260420T035649
CREATED:20251103T194639Z
LAST-MODIFIED:20251103T194639Z
UID:12297-1774465200-1774476000@dnesnivylet.cz
SUMMARY:Historky z Tinderu Tour 2026
DESCRIPTION:Historky z Tinderu Tour 2026 se uskuteční dne 2026-03-25 v 19:00 v Benešov\, KD Karlov. \n🎟️ Koupit vstupenku \n\nStand up comedy show s Lucií Macháčkovou\, Kateřinou Haškovou a Alenou Dolákovou. Diváci se ponoří do husté a pořádně peprné show\, ve které komičky prozradí vše\, co (ne)ví o vztazích\, lásce\, sexu a seznamování. NYNÍ VE VAŠEM MĚSTĚ! \n\nTento tip na kulturní akci v Benešov najdete v přehledu na Dnesnivylet.cz spolu s dalšími koncerty\, festivaly a divadelními představeními.Každý si vybere co se mu líbí. Nezapomeňte koupit vstupenky včas\, stačí kliknout a budete přesměrování na oficiálního prodejce vstupenek.
URL:https://dnesnivylet.cz/event/historky-z-tinderu-tour-2026-11/
LOCATION:KD Karlov\, Benešov\, KD Karlov\, Benešov\, Česká republika
CATEGORIES:Zábava
ATTACH;FMTTYPE=image/jpeg:https://dnesnivylet.cz/wp-content/uploads/2025/11/320-8d89120c17594afca834fd800c5606af-1.jpg
END:VEVENT
BEGIN:VEVENT
DTSTART;TZID=Europe/Prague:20260322T190000
DTEND;TZID=Europe/Prague:20260322T220000
DTSTAMP:20260420T035649
CREATED:20260209T193959Z
LAST-MODIFIED:20260209T193959Z
UID:17849-1774206000-1774216800@dnesnivylet.cz
SUMMARY:Pocta Haně Hegerové v Benešově
DESCRIPTION:Pocta Haně Hegerové v Benešově se uskuteční dne 2026-03-22 v 19:00 v Benešov\, Městské divadlo Na Poště. \n🎟️ Koupit vstupenku \n\nHudební zážitek\, na který jen tak nezapomenete. Budete plakat\, smát se\, a mít husí kůži po těle. \nLegendární dílo Hany Hegerové v podání Zuzany Němcové Šmejkalové. Zpěvačka s hlubokým\, sametovým hlasem a intenzivním hereckým projevem přináší osobitou interpretaci ikonických písní první dámy československého šansonu. \nVečer plný mistrovské klavírní hry Doubravky Linhartové a rafinovaných bubenických rytmů Jakuba Němce slibuje výjimečný umělecký zážitek\, který s úctou nahlédne do díla Hany Hegerové a zasáhne i ty nejcitlivější struny vaší duše. \nPřijďte vzdát hold legendě a prožít znovu její písně. \n„Ať žije Hegerová!“ \n\nTento tip na kulturní akci v Benešov najdete v přehledu na Dnesnivylet.cz spolu s dalšími koncerty\, festivaly a divadelními představeními.Každý si vybere co se mu líbí. Nezapomeňte koupit vstupenky včas\, stačí kliknout a budete přesměrování na oficiálního prodejce vstupenek.
URL:https://dnesnivylet.cz/event/pocta-hane-hegerove-v-benesove/
LOCATION:Městské divadlo Na Poště\, Benešov\, Městské divadlo Na Poště\, Benešov\, Česká republika
CATEGORIES:Koncert
ATTACH;FMTTYPE=image/jpeg:https://dnesnivylet.cz/wp-content/uploads/2026/02/320-fdd4c1feba4646f0a79ffd4c4bb55a7d.jpg
END:VEVENT
BEGIN:VEVENT
DTSTART;TZID=Europe/Prague:20260314T200000
DTEND;TZID=Europe/Prague:20260314T230000
DTSTAMP:20260420T035649
CREATED:20251030T145531Z
LAST-MODIFIED:20251030T145531Z
UID:10672-1773518400-1773529200@dnesnivylet.cz
SUMMARY:Retro Dance Párty
DESCRIPTION:Retro Dance Párty se uskuteční dne 2026-03-14 v 20:00 v Benešov\, KD Karlov. \n🎟️ Koupit vstupenku \n\nV rámci našeho největšího turné\, které bude zakončeno 20. 11. 2026 v O2 universum v Praze\, se vracíme do Benešova! \nRETRO DANCE PÁRTY je šestihodinový disco ples těch největších hitů od sedmdesátých let až po milénium. Zkrátka od Abby přes Modern Talking až po Rihannu. \nPřijďte klidně v džínech\, ale nejlépe retro! Nejlepší dobové kostýmy budou odměněny v naší velké soutěži. Hlavní cenou jsou dvě vstupenky na naši mega show do O2 universa v Praze! \nTěšit se můžete na skvělý zvuk\, retro fotokoutek\, opět nový rozsáhlejší světelný park a hity našeho mládí v originálních verzích. \nNa místě budou k dispozici vstupenky v jednotné ceně 390 Kč bez garance sezení.  \nDoba je zlá\, tak tancujme\, dokud můžeme! \n  \n  \n\nTento tip na kulturní akci v Benešov najdete v přehledu na Dnesnivylet.cz spolu s dalšími koncerty\, festivaly a divadelními představeními.Každý si vybere co se mu líbí. Nezapomeňte koupit vstupenky včas\, stačí kliknout a budete přesměrování na oficiálního prodejce vstupenek.
URL:https://dnesnivylet.cz/event/retro-dance-party-3/
LOCATION:KD Karlov\, Benešov\, KD Karlov\, Benešov\, Česká republika
CATEGORIES:Zábava
ATTACH;FMTTYPE=image/jpeg:https://dnesnivylet.cz/wp-content/uploads/2025/10/320-097075e85c054c9aaf794040d493ae06.jpg
END:VEVENT
BEGIN:VEVENT
DTSTART;TZID=Europe/Prague:20260301T100000
DTEND;TZID=Europe/Prague:20260301T130000
DTSTAMP:20260420T035649
CREATED:20251105T193643Z
LAST-MODIFIED:20251105T193644Z
UID:12772-1772359200-1772370000@dnesnivylet.cz
SUMMARY:Muzikál Tlapkové patroly | Benešov
DESCRIPTION:Muzikál Tlapkové patroly | Benešov se uskuteční dne 2026-03-01 v 10:00 v Benešov\, Městské divadlo Na Poště. \n🎟️ Koupit vstupenku \n\nOblíbení hrdinové z Tlapkové patroly se chystají na své jediné rodinné muzikálové turné v České republice\, které se už nikdy nebude opakovat!Populární psí záchranáři přinášejí show\, která nadchne malé i velké diváky.🐶 \nČeká vás nezapomenutelný rodinný muzikál plný hudby\, tance a dobrodružství!Děti se mohou těšit na Chase\, Marshalla\, Skye i další statečné pejsky\, kteří předvedou napínavý příběh v doprovodu pohádkové atmosféry 🌈 \nMuzikál Tlapkové patroly vykouzlí úsměv na tváři každému dítěti a nabídne jedinečnou možnost zažít jejich dobrodružství naživo! 🎭 \n🚨 POZOR! 🚨👉 JEDINÉ turné v ČR\, které se už nikdy nebude opakovat! \n🕤 Otevření sálu: od 9:30🎬 Představení: 10:00 – 11:00⏰ Konec programu: přibližně v 11:30 \nNepropásněte tuto jedinečnou příležitost a zajistěte si své vstupenky včas! 🎟️🌟 \n\nTento tip na kulturní akci v Benešov najdete v přehledu na Dnesnivylet.cz spolu s dalšími koncerty\, festivaly a divadelními představeními.Každý si vybere co se mu líbí. Nezapomeňte koupit vstupenky včas\, stačí kliknout a budete přesměrování na oficiálního prodejce vstupenek.
URL:https://dnesnivylet.cz/event/muzikal-tlapkove-patroly-benesov/
LOCATION:Městské divadlo Na Poště\, Benešov\, Městské divadlo Na Poště\, Benešov\, Česká republika
CATEGORIES:Zábava
ATTACH;FMTTYPE=image/jpeg:https://dnesnivylet.cz/wp-content/uploads/2025/11/320-2ea5652c02e84ec9b21859b6987a3a5b.jpg
END:VEVENT
BEGIN:VEVENT
DTSTART;TZID=Europe/Prague:20251125T190000
DTEND;TZID=Europe/Prague:20251125T220000
DTSTAMP:20260420T035649
CREATED:20251020T153307Z
LAST-MODIFIED:20251020T153307Z
UID:9209-1764097200-1764108000@dnesnivylet.cz
SUMMARY:Filmová hudba Hanse Zimmera při svíčkách
DESCRIPTION:Filmová hudba Hanse Zimmera při svíčkách se uskuteční dne 2025-11-25 v 19:00 v Benešov\, KD Karlov. \n🎟️ Koupit vstupenku \n\nKoncert filmové hudby Hanse Zimmera při svíčkách! \nNenechte si ujít nezapomenutelný večer plný nejkrásnější filmové hudby\, během kterého zazní melodie jednoho z nejvýznamnějších skladatelů filmové hudby na světě\, Hanse Zimmera\, v podání mezinárodně uznávaného pianisty Alexandra Starého. Záře stovek svíček vytvoří nezapomenutelnou atmosféru koncertu. \nHans Zimmer je známý svou emocionální a dojemnou filmovou hudbou\, která dokonale podtrhuje děj na plátně. Během své téměř čtyřicetileté kariéry vytvořil ikonické soundtracky k mnoha slavným filmům\, jako jsou Gladiátor\, Počátek\, Interstellar\, Piráti z Karibiku\, Lví král a mnoho dalších. Jeho kompozice si získaly srdce milionů fanoušků po celém světě a jeho koncerty vyprodávají nejprestižnější koncertní sály. \nTento výjimečný koncert nabízí mnohem více než jen hudbu. Stovky mihotajících se svíček rozzáří celý prostor a vytvoří tajemnou a magickou atmosféru. Každá z nich přispěje k vytvoření nezapomenutelného hudebního zážitku. \nV rámci Evropské tour alternují také: František Panáček a Lucie Kubátová.  \nAkce je přístupná od 12 let. Každý účastník musí předložit platnou vstupenku  zakoupenou výhradně v síti SMS ticket. \n„Celé představení si můžete naplno vychutnat\, díky korunnímu klenotu mezi koncertními klavíry C. Bechstein D 282.Tímto děkujeme našemu partnerovi C. Bechstein – www.bechstein.com za podporu akce.“ \n\nTento tip na kulturní akci v Benešov najdete v přehledu na Dnesnivylet.cz spolu s dalšími koncerty\, festivaly a divadelními představeními.Každý si vybere co se mu líbí. Nezapomeňte koupit vstupenky včas\, stačí kliknout a budete přesměrování na oficiálního prodejce vstupenek.
URL:https://dnesnivylet.cz/event/filmova-hudba-hanse-zimmera-pri-svickach/
LOCATION:KD Karlov\, Benešov\, KD Karlov\, Benešov\, Česká republika
CATEGORIES:Koncert
ATTACH;FMTTYPE=image/jpeg:https://dnesnivylet.cz/wp-content/uploads/2025/10/320-550ce121ea10480f8ff4665c741bcf8f.jpg
END:VEVENT
BEGIN:VEVENT
DTSTART;TZID=Europe/Prague:20251106T170000
DTEND;TZID=Europe/Prague:20251106T200000
DTSTAMP:20260420T035649
CREATED:20251031T193736Z
LAST-MODIFIED:20251031T193736Z
UID:10792-1762448400-1762459200@dnesnivylet.cz
SUMMARY:Alenka v říši divů I Benešov
DESCRIPTION:Alenka v říši divů I Benešov se uskuteční dne 2025-11-06 v 17:00 v Benešov\, KD Karlov. \n🎟️ Koupit vstupenku \n\n✨Vezměte děti do světa\, kde realita ztrácí pevnou půdu pod nohama – do říše divů\, která ožije přímo před jejich očima! \n„Alenka v říši divů“ – interaktivní muzikál\, který přenese děti do světa fantazie\, kde se stěny hýbou\, stropy dýchají a housenky se plazí světelnými projekcemi po celém divadle. \n⏰Nečekejte obyčejné představení – čeká vás vizuální velkolepost\, která doslova vtáhne malé diváky přímo do příběhu! Kombinace špičkové datové projekce\, interaktivních scén\, světelných efektů a živé hudby promění divadlo v dechberoucí svět plný zázraků. \n🧒 Vaše děti nebudou jen sedět v hledišti – stanou se součástí děje: \n\n\npomohou Alence řešit tajemné hádanky\, \n\n\nzazpívají s ní kouzelné písničky\, \n\n\nzapojí se do pátrání po neviditelném kocourovi\, \n\n\na po představení se vyfotí přímo na jevišti se všemi postavami z říše divů! \n\n\n  \n🎁 Posledních 38 DÁRKŮ zdarma ke každé dětské vstupence (* jen do vyčerpání zásob) \n  \n🎭Tohle je zážitek\, na který se nezapomíná – tohle je jejich první opravdové dobrodružství v divadle. \nČeká vás říše\, kde se čaj pije o půlnoci\, králíci nosí hodinky\, kočky mluví a všechno dává smysl dětské fantazii. Příběh je hravě a srozumitelně upraven i pro nejmenší děti. \n  \nMuzikál od zkušených tvůrců inscenací Popelka a Vánoční loupež! \n\nTento tip na kulturní akci v Benešov najdete v přehledu na Dnesnivylet.cz spolu s dalšími koncerty\, festivaly a divadelními představeními.Každý si vybere co se mu líbí. Nezapomeňte koupit vstupenky včas\, stačí kliknout a budete přesměrování na oficiálního prodejce vstupenek.
URL:https://dnesnivylet.cz/event/alenka-v-risi-divu-i-benesov/
LOCATION:KD Karlov\, Benešov\, KD Karlov\, Benešov\, Česká republika
CATEGORIES:Divadlo
ATTACH;FMTTYPE=image/jpeg:https://dnesnivylet.cz/wp-content/uploads/2025/10/320-f6beae6ab61a4aac94d5338c41997fef.jpg
END:VEVENT
BEGIN:VEVENT
DTSTART;TZID=Europe/Prague:20251104T190000
DTEND;TZID=Europe/Prague:20251104T220000
DTSTAMP:20260420T035649
CREATED:20251102T202314Z
LAST-MODIFIED:20251102T202315Z
UID:11369-1762282800-1762293600@dnesnivylet.cz
SUMMARY:Petr Tomeček / Panova flétna v melodiích Karla Svobody
DESCRIPTION:Petr Tomeček / Panova flétna v melodiích Karla Svobody se uskuteční dne 2025-11-04 v 19:00 v Benešov\, Městské divadlo Na Poště. \n🎟️ Koupit vstupenku \n\nSrdečně vás zveme na jedinečný hudební večer\, který propojí výjimečný zvuk vzácného hudebního nástroje Panovy flétny s nezaměnitelnou a nadčasovou tvorbou Karla Svobody\, jednoho z nejgeniálnějších českých skladatelů. \nPanova flétna\, nástroj s tisíciletou historií a kouzelně éterickým zvukem\, rozezní známé melodie\, které se zapsaly do srdcí několika generací. Zazní slavné filmové a televizní skladby v novém\, překvapivém podání – dojemné\, energické i snové. \nCelý koncert doprovodí obrazová a světelná projekce\, která umocní atmosféru a promění vystoupení v multisenzorický zážitek. \nPřijďte si užít večer plný emocí\, krásy a originálního hudebního spojení\, které se rodí jen výjimečně. \n\nTento tip na kulturní akci v Benešov najdete v přehledu na Dnesnivylet.cz spolu s dalšími koncerty\, festivaly a divadelními představeními.Každý si vybere co se mu líbí. Nezapomeňte koupit vstupenky včas\, stačí kliknout a budete přesměrování na oficiálního prodejce vstupenek.
URL:https://dnesnivylet.cz/event/petr-tomecek-panova-fletna-v-melodiich-karla-svobody-5/
LOCATION:Městské divadlo Na Poště\, Benešov\, Městské divadlo Na Poště\, Benešov\, Česká republika
CATEGORIES:Koncert
ATTACH;FMTTYPE=image/jpeg:https://dnesnivylet.cz/wp-content/uploads/2025/11/320-8ee9c3d0feab4bd583d42b22caa6e2aa.jpg
END:VEVENT
BEGIN:VEVENT
DTSTART;TZID=Europe/Prague:20251022T190000
DTEND;TZID=Europe/Prague:20251022T220000
DTSTAMP:20260420T035649
CREATED:20251022T064358Z
LAST-MODIFIED:20251022T064359Z
UID:9578-1761159600-1761170400@dnesnivylet.cz
SUMMARY:Tigran Hovakimyan - Tigran je ve městě - Benešov
DESCRIPTION:Tigran Hovakimyan – Tigran je ve městě – Benešov se uskuteční dne 2025-10-22 v 19:00 v Benešov\, KD Karlov. \n🎟️ Koupit vstupenku \n\nTigran Hovakimyan pochází z Arménie a mluví plynule čtyřmi jazyky. Vyzkoušel mnoho zaměstnání\, ale nakonec začal pracovat jako amatérský herec v divadle pro děti. Díky tomu získal mnoho zkušeností s tím\, jak a na co reaguje publikum. Divadlu také vděčí za posun k sólové stand-up comedy\, které je mu blíž\, protože se na pódiu spoléhá jen sám na sebe. \nV roce 2025/2026 vyráží na velkou TOUR po celé ČR se svým speciálem. Čeká vás nezapomenutelný stand-up večer plný humoru\, energie a skvělých vtipů! \nTigranův předskokan bude vždy nějaký český stand-up komik.  \n\nTento tip na kulturní akci v Benešov najdete v přehledu na Dnesnivylet.cz spolu s dalšími koncerty\, festivaly a divadelními představeními.Každý si vybere co se mu líbí. Nezapomeňte koupit vstupenky včas\, stačí kliknout a budete přesměrování na oficiálního prodejce vstupenek.
URL:https://dnesnivylet.cz/event/tigran-hovakimyan-tigran-je-ve-meste-benesov/
LOCATION:KD Karlov\, Benešov\, KD Karlov\, Benešov\, Česká republika
CATEGORIES:Zábava
ATTACH;FMTTYPE=image/jpeg:https://dnesnivylet.cz/wp-content/uploads/2025/10/320-28144371f3af494481270205be191837.jpg
END:VEVENT
END:VCALENDAR