BEGIN:VCALENDAR
VERSION:2.0
PRODID:-//www.dnesnivylet.cz                                                                                                                        Tip na výlet pro celou rodinu. - ECPv6.15.13.1//NONSGML v1.0//EN
CALSCALE:GREGORIAN
METHOD:PUBLISH
X-WR-CALNAME:www.dnesnivylet.cz                                                                                                                        Tip na výlet pro celou rodinu.
X-ORIGINAL-URL:https://dnesnivylet.cz
X-WR-CALDESC:Akce na www.dnesnivylet.cz                                                                                                                        Tip na výlet pro celou rodinu.
REFRESH-INTERVAL;VALUE=DURATION:PT1H
X-Robots-Tag:noindex
X-PUBLISHED-TTL:PT1H
BEGIN:VTIMEZONE
TZID:Europe/Prague
BEGIN:DAYLIGHT
TZOFFSETFROM:+0100
TZOFFSETTO:+0200
TZNAME:CEST
DTSTART:20240331T010000
END:DAYLIGHT
BEGIN:STANDARD
TZOFFSETFROM:+0200
TZOFFSETTO:+0100
TZNAME:CET
DTSTART:20241027T010000
END:STANDARD
BEGIN:DAYLIGHT
TZOFFSETFROM:+0100
TZOFFSETTO:+0200
TZNAME:CEST
DTSTART:20250330T010000
END:DAYLIGHT
BEGIN:STANDARD
TZOFFSETFROM:+0200
TZOFFSETTO:+0100
TZNAME:CET
DTSTART:20251026T010000
END:STANDARD
BEGIN:DAYLIGHT
TZOFFSETFROM:+0100
TZOFFSETTO:+0200
TZNAME:CEST
DTSTART:20260329T010000
END:DAYLIGHT
BEGIN:STANDARD
TZOFFSETFROM:+0200
TZOFFSETTO:+0100
TZNAME:CET
DTSTART:20261025T010000
END:STANDARD
BEGIN:DAYLIGHT
TZOFFSETFROM:+0100
TZOFFSETTO:+0200
TZNAME:CEST
DTSTART:20270328T010000
END:DAYLIGHT
BEGIN:STANDARD
TZOFFSETFROM:+0200
TZOFFSETTO:+0100
TZNAME:CET
DTSTART:20271031T010000
END:STANDARD
END:VTIMEZONE
BEGIN:VEVENT
DTSTART;TZID=Europe/Prague:20260324T190000
DTEND;TZID=Europe/Prague:20260324T220000
DTSTAMP:20260419T200033
CREATED:20251021T054529Z
LAST-MODIFIED:20251021T054530Z
UID:9435-1774378800-1774389600@dnesnivylet.cz
SUMMARY:ŠVANCI SHOW - JÁ SU JÁ - Bohumín
DESCRIPTION:ŠVANCI SHOW – JÁ SU JÁ – Bohumín se uskuteční dne 2026-03-24 v 19:00 v Bohumín\, K3 Bohumín – Kino. \n🎟️ Koupit vstupenku \n\nNová zábavná show „JÁ SU JÁ“ vyráží na TOUR po celé České republice. \nČekají vás vtipné historky\, od kariéry fotbalisty\, velkolepé rozlučky za Lužánkami\, návštěv různých zábavních pořadů\, až po účast v reality show Survivor. Dále se těšte na prostor pro otázky na tělo\, autogramiádu\, focení a mnoho dalšího. \nJak moc dobře mě znáš? Jak vypadá můj život po kariéře fotbalisty? Chceš znát více informací o reality show Surviror? \nNejen to se dozvíš ve zbrusu nové zábavné show „JÁ SU JÁ“. \nPřijď se podívat a užít si legraci\, popovídat si s legendou fotbalu\, moderátorem\, bavičem a dát si třeba fotku\, nebo si nechat cokoliv podepsat. \nPořad není vhodný mladším 15 let! \n\nTento tip na kulturní akci v Bohumín najdete v přehledu na Dnesnivylet.cz spolu s dalšími koncerty\, festivaly a divadelními představeními.Každý si vybere co se mu líbí. Nezapomeňte koupit vstupenky včas\, stačí kliknout a budete přesměrování na oficiálního prodejce vstupenek.
URL:https://dnesnivylet.cz/event/svanci-show-ja-su-ja-bohumin/
LOCATION:K3 Bohumín – Kino\, Bohumín\, K3 Bohumín - Kino\, Bohumín\, Česká republika
CATEGORIES:Zábava
ATTACH;FMTTYPE=image/jpeg:https://dnesnivylet.cz/wp-content/uploads/2025/10/320-e833edc015cb48498aeb35c01fddc0fb.jpg
END:VEVENT
BEGIN:VEVENT
DTSTART;TZID=Europe/Prague:20260120T190000
DTEND;TZID=Europe/Prague:20260120T220000
DTSTAMP:20260419T200033
CREATED:20251114T145943Z
LAST-MODIFIED:20251114T145943Z
UID:13454-1768935600-1768946400@dnesnivylet.cz
SUMMARY:Hudba Bridgerton při svíčkách
DESCRIPTION:Hudba Bridgerton při svíčkách se uskuteční dne 2026-01-20 v 19:00 v Bohumín\, K3 Bohumín – Kino. \n🎟️ Koupit vstupenku \n\nNenechte si ujít večer plný romantiky a elegance\, kde zazní ty nejznámější melodie a písně z oblíbeného seriálu Bridgerton. Světlo stovky svíček vytvoří okouzlující atmosféru koncertu. \nProgram v jedinečném provedení smyčcového kvarteta představí výběr hudebních skladeb z tohoto populárního seriálu\, inspirovaných klasickými díly i moderními popovými melodiemi\, které si získaly srdce diváků po celém světě. \nTento koncert nabídne víc než jen hudbu; stovky svíček rozzáří prostor a vytvoří atmosféru plnou noblesy\, romantiky a neodolatelného kouzla historické doby. \nAkce je přístupná od 12 let. Každý účastník musí předložit platnou vstupenku  zakoupenou výhradně v síti smsticket. \n\nTento tip na kulturní akci v Bohumín najdete v přehledu na Dnesnivylet.cz spolu s dalšími koncerty\, festivaly a divadelními představeními.Každý si vybere co se mu líbí. Nezapomeňte koupit vstupenky včas\, stačí kliknout a budete přesměrování na oficiálního prodejce vstupenek.
URL:https://dnesnivylet.cz/event/hudba-bridgerton-pri-svickach-13/
LOCATION:K3 Bohumín – Kino\, Bohumín\, K3 Bohumín - Kino\, Bohumín\, Česká republika
CATEGORIES:Koncert
ATTACH;FMTTYPE=image/jpeg:https://dnesnivylet.cz/wp-content/uploads/2025/11/320-e6647da1e48c4358ba93d284be72be9c.jpg
END:VEVENT
BEGIN:VEVENT
DTSTART;TZID=Europe/Prague:20251220T170000
DTEND;TZID=Europe/Prague:20251220T200000
DTSTAMP:20260419T200033
CREATED:20251105T193324Z
LAST-MODIFIED:20251105T193324Z
UID:12718-1766250000-1766260800@dnesnivylet.cz
SUMMARY:VÁNOČNÍ LOUPEŽ I Bohumín
DESCRIPTION:VÁNOČNÍ LOUPEŽ I Bohumín se uskuteční dne 2025-12-20 v 17:00 v Bohumín\, K3 Bohumín – Kino. \n🎟️ Koupit vstupenku \n\nVÁNOČNÍ LOUPĚŽ Rodinný zábavný muzikál. \nObjevte kouzlo klasického vánočního příběhu\, který ožívá na jevišti.Zelený bručoun se možná pokusí překazit sváteční atmosféru svým krkáním\, pšoukáním a brbláním\, dokonce ukradne i všechny vánoční dárky!!Ale to určitě není nic\, s čím by si malí návštěvníci tohoto rodinného muzikálu nemohli poradit. Pomohou ostatním obyvatelům kouzelné vesničky Kdovíkde zachránit Vánoce a svou láskou rozehřát Grinčovo chladné srdce?Přijďte a oslavte Vánoce tím\, že se stanete součástí tohoto svátečního dobrodružství plného zpěvu\, tance a emocí. \nNa motivy knižní předlohy.   \n                        \nP.S.: \nuŠ JSem TADi UŽ JSem TU!VÁnOCE JÁ nesNESU!KRK\, PRD TRA La La!UŽ ŽÁDNÁÁÁ VELKÁ ZÁBAVA!                                                   GRINŠ. \n  \n\nDélka představení 50 minut.\nNa konci představení focení s hlavními postavami.\nVhodné pro děti od 2 let.\nPoprvé v ČR!\n\n\nTento tip na kulturní akci v Bohumín najdete v přehledu na Dnesnivylet.cz spolu s dalšími koncerty\, festivaly a divadelními představeními.Každý si vybere co se mu líbí. Nezapomeňte koupit vstupenky včas\, stačí kliknout a budete přesměrování na oficiálního prodejce vstupenek.
URL:https://dnesnivylet.cz/event/vanocni-loupez-i-bohumin/
LOCATION:K3 Bohumín – Kino\, Bohumín\, K3 Bohumín - Kino\, Bohumín\, Česká republika
CATEGORIES:Divadlo
ATTACH;FMTTYPE=image/jpeg:https://dnesnivylet.cz/wp-content/uploads/2025/11/320-53707000bf60489ba57667275eafd8f0.jpg
END:VEVENT
END:VCALENDAR