BEGIN:VCALENDAR
VERSION:2.0
PRODID:-//www.dnesnivylet.cz                                                                                                                        Tip na výlet pro celou rodinu. - ECPv6.15.13.1//NONSGML v1.0//EN
CALSCALE:GREGORIAN
METHOD:PUBLISH
X-WR-CALNAME:www.dnesnivylet.cz                                                                                                                        Tip na výlet pro celou rodinu.
X-ORIGINAL-URL:https://dnesnivylet.cz
X-WR-CALDESC:Akce na www.dnesnivylet.cz                                                                                                                        Tip na výlet pro celou rodinu.
REFRESH-INTERVAL;VALUE=DURATION:PT1H
X-Robots-Tag:noindex
X-PUBLISHED-TTL:PT1H
BEGIN:VTIMEZONE
TZID:Europe/Prague
BEGIN:DAYLIGHT
TZOFFSETFROM:+0100
TZOFFSETTO:+0200
TZNAME:CEST
DTSTART:20250330T010000
END:DAYLIGHT
BEGIN:STANDARD
TZOFFSETFROM:+0200
TZOFFSETTO:+0100
TZNAME:CET
DTSTART:20251026T010000
END:STANDARD
BEGIN:DAYLIGHT
TZOFFSETFROM:+0100
TZOFFSETTO:+0200
TZNAME:CEST
DTSTART:20260329T010000
END:DAYLIGHT
BEGIN:STANDARD
TZOFFSETFROM:+0200
TZOFFSETTO:+0100
TZNAME:CET
DTSTART:20261025T010000
END:STANDARD
BEGIN:DAYLIGHT
TZOFFSETFROM:+0100
TZOFFSETTO:+0200
TZNAME:CEST
DTSTART:20270328T010000
END:DAYLIGHT
BEGIN:STANDARD
TZOFFSETFROM:+0200
TZOFFSETTO:+0100
TZNAME:CET
DTSTART:20271031T010000
END:STANDARD
END:VTIMEZONE
BEGIN:VEVENT
DTSTART;TZID=Europe/Prague:20260530T190000
DTEND;TZID=Europe/Prague:20260530T220000
DTSTAMP:20260420T035631
CREATED:20260222T142849Z
LAST-MODIFIED:20260222T142850Z
UID:18513-1780167600-1780178400@dnesnivylet.cz
SUMMARY:ROCK HRAD
DESCRIPTION:ROCK HRAD se uskuteční dne 2026-05-30 v 19:00 v Brumov-Bylnice\, Hrad Brumov. \n🎟️ Koupit vstupenku \n\nZveme Vás na rockový svátek do Brumova-Bylnice. Akce se uskuteční na hradě Brumov\, který tomu dodá tu pravou atmosféru. \nTohoto svátku se zúčastní 4 kapely\, konkrétně DONOR\, 12:PIET\, VANAHEIM a ŠPAGÁT \nMalé představení kapel: \nDONORKapela vznikla v roce 2012\, pocházející z Valašska (jedná se o domácí kapelu). Právě v březnu roku 2025 zde v Brumově-Bylnici křtili své poslední album v beznadějně vyprodaném kulturním domě. \nSestavaZpěv – Josef Fritschka Kytara – Miroslav Husek Kytara – Michal Banovský Baskytara – Mira Šipula Bicí – Roman Mužikovský  \nKapela v minulosti začínala s cover-písněmi\, ale brzy přešla na vlastní autorské skladby.Hudba DONOR je melodický heavy/power metal s důrazem na silné kytarové riffy a vícevokální zpěv. Texty zpívají česky. Kapela nezůstává pouze u klasického power metalu — někdy čerpá i z jiných metalových vlivů\, ale melodie a zpěv zůstávají základním rysem.  \n12:PIETSme hudební skupina ze Slovácka\, kerá sa nebójí propójit tradiční aj moderní hudební prvky. Naša muzika spojuje žánry jak sú folk\, diskotéka\, elektronika aj cimbálovka a tým vykvasí jedinečný mix\, kerý si získává pozornosť posluchačú všeckých věkových katégórií.  \nNaše vystúpení sú nabité energijú a spontánnosťú. Garantujeme epesní zážitek\, kerý vás vtahne do děja rychlého tempa\, překvapení a improvizace. Ide nám o to\, aby naše hity měly ne enom švuňk\, ale aj texty\, keré vytáhnú k tanci aj békání. Fanúšci sa tak ocitnú v rozjuchaném prostoru\, kde sa je možné uvolnit\, zasmát sa a užívat si večera všeckýma smyslama. Naša kapela dokáže rozprúdit atmosféru na barzjakéj akci – móže ít o klubové vystúpení\, festivál nebo súkromú párty. \nVANAHEIMJe česká heavy/power/metalová kapela z města Chlumec nad Cidlinou. Kapela vznikla koncem roku 2015. Zakladateli byli bubeník Libor Král a kytarista Martin Drobný. Styl hudby je heavy / power metal s vikingskou / historickou / trochu folk / metalovou tématikou a texty v češtině.  \nŠPAGÁTKapela Špagát je česká metalová formace pocházející z Horní Lidče\, vesnice na Valašsku. Na hudební scéně působí od roku 2005\, kdy začínala hrát cover verze písní od striktně českých autorů\, jako jsou Harlej\, Arakain\, Alkehol\, Kabát apod. Postupně začala kapela skládat vlastní písně a vyprofilovala si svůj vlastní osobitý styl charakteristický silnými kytarovými riffy a ryze českými texty. Dnes již vystupuje pouze s vlastní tvorbou a v roce 2024 vydala konečně kapela svoje vlastní undergroundové album pod názvem Drtič kostí. \nLine-up: BUDE UPŘESNĚN \nV případě nepříznivého počasí se akce přesouvá do kulturního domu Brumov.  \n\nTento tip na kulturní akci v Brumov-Bylnice najdete v přehledu na Dnesnivylet.cz spolu s dalšími koncerty\, festivaly a divadelními představeními.Každý si vybere co se mu líbí. Nezapomeňte koupit vstupenky včas\, stačí kliknout a budete přesměrování na oficiálního prodejce vstupenek.
URL:https://dnesnivylet.cz/event/rock-hrad/
LOCATION:Hrad Brumov\, Brumov-Bylnice\, Hrad Brumov\, Brumov-Bylnice\, Česká republika
CATEGORIES:Koncert
ATTACH;FMTTYPE=image/jpeg:https://dnesnivylet.cz/wp-content/uploads/2026/02/320-1288b559a55d4fd9a6168210c3243e4c.jpg
END:VEVENT
BEGIN:VEVENT
DTSTART;TZID=Europe/Prague:20261128T190000
DTEND;TZID=Europe/Prague:20261128T220000
DTSTAMP:20260420T035631
CREATED:20260405T130343Z
LAST-MODIFIED:20260405T130343Z
UID:20213-1795892400-1795903200@dnesnivylet.cz
SUMMARY:Travesti show Divoké kočky v Brumově - Bylnici
DESCRIPTION:Travesti show Divoké kočky v Brumově – Bylnici se uskuteční dne 2026-11-28 v 19:00 v Brumov-Bylnice\, KD Brumov-Bylnice. \n🎟️ Koupit vstupenku \n\nTravesti skupina Divoké kočky z Ostravy přijíždí v rámci svého turné se svým novým programem opět do Brumova – Bylnice\, kde vystoupí 28.11.2026 od 19:00 na sále kulturního domu Brumov – Bylnice. Celovečerní zábavný program je plný nezapomenutelných legračních scének\, písniček\, známých zpěvaček\, krásných kostýmů\, situačního humoru a hlavně smíchu a je vhodný jak pro ženské tak pánské publikum. Jejich vystoupení se těší stálé větší oblibě a tak si každý divák přijde na své. Přijdte se sami přesvědčit\, že na travesti představení není nic špatného a v podání ostravských umělců se budete určitě dobře bavit. Divoké kočky jezdí se svým programem do Brumova pravidelně\, a proto se těší opět na úžasné místní publikum\, atmosféru a skvělý večer. Na závěr programu Vám členové souboru ukážou svou pravou tvář. \n\nTento tip na kulturní akci v Brumov-Bylnice najdete v přehledu na Dnesnivylet.cz spolu s dalšími koncerty\, festivaly a divadelními představeními.Každý si vybere co se mu líbí. Nezapomeňte koupit vstupenky včas\, stačí kliknout a budete přesměrování na oficiálního prodejce vstupenek.
URL:https://dnesnivylet.cz/event/travesti-show-divoke-kocky-v-brumove-bylnici-2/
LOCATION:KD Brumov-Bylnice\, Brumov-Bylnice\, KD Brumov-Bylnice\, Brumov-Bylnice\, Česká republika
CATEGORIES:Zábava
ATTACH;FMTTYPE=image/jpeg:https://dnesnivylet.cz/wp-content/uploads/2026/04/320-9bab511887f04ff9bf869b35d2820439.jpg
END:VEVENT
END:VCALENDAR