BEGIN:VCALENDAR
VERSION:2.0
PRODID:-//www.dnesnivylet.cz                                                                                                                        Tip na výlet pro celou rodinu. - ECPv6.15.13.1//NONSGML v1.0//EN
CALSCALE:GREGORIAN
METHOD:PUBLISH
X-WR-CALNAME:www.dnesnivylet.cz                                                                                                                        Tip na výlet pro celou rodinu.
X-ORIGINAL-URL:https://dnesnivylet.cz
X-WR-CALDESC:Akce na www.dnesnivylet.cz                                                                                                                        Tip na výlet pro celou rodinu.
REFRESH-INTERVAL;VALUE=DURATION:PT1H
X-Robots-Tag:noindex
X-PUBLISHED-TTL:PT1H
BEGIN:VTIMEZONE
TZID:Europe/Prague
BEGIN:DAYLIGHT
TZOFFSETFROM:+0100
TZOFFSETTO:+0200
TZNAME:CEST
DTSTART:20250330T010000
END:DAYLIGHT
BEGIN:STANDARD
TZOFFSETFROM:+0200
TZOFFSETTO:+0100
TZNAME:CET
DTSTART:20251026T010000
END:STANDARD
BEGIN:DAYLIGHT
TZOFFSETFROM:+0100
TZOFFSETTO:+0200
TZNAME:CEST
DTSTART:20260329T010000
END:DAYLIGHT
BEGIN:STANDARD
TZOFFSETFROM:+0200
TZOFFSETTO:+0100
TZNAME:CET
DTSTART:20261025T010000
END:STANDARD
BEGIN:DAYLIGHT
TZOFFSETFROM:+0100
TZOFFSETTO:+0200
TZNAME:CEST
DTSTART:20270328T010000
END:DAYLIGHT
BEGIN:STANDARD
TZOFFSETFROM:+0200
TZOFFSETTO:+0100
TZNAME:CET
DTSTART:20271031T010000
END:STANDARD
END:VTIMEZONE
BEGIN:VEVENT
DTSTART;TZID=Europe/Prague:20260411T200000
DTEND;TZID=Europe/Prague:20260411T230000
DTSTAMP:20260419T234414
CREATED:20260306T172012Z
LAST-MODIFIED:20260306T172012Z
UID:18978-1775937600-1775948400@dnesnivylet.cz
SUMMARY:PŘESUNUTO: Koncert Doktor Triceratops a Trilobit-Rock
DESCRIPTION:PŘESUNUTO: Koncert Doktor Triceratops a Trilobit-Rock se uskuteční dne 2026-04-11 v 20:00 v Černošice\, Club Kino. \n🎟️ Koupit vstupenku \n\nRock Metalový koncert kapel Trilobit-Rock a Doktor Triceratops  \n\nTento tip na kulturní akci v Černošice najdete v přehledu na Dnesnivylet.cz spolu s dalšími koncerty\, festivaly a divadelními představeními.Každý si vybere co se mu líbí. Nezapomeňte koupit vstupenky včas\, stačí kliknout a budete přesměrování na oficiálního prodejce vstupenek.
URL:https://dnesnivylet.cz/event/presunuto-koncert-doktor-triceratops-a-trilobit-rock/
LOCATION:Club Kino\, Černošice\, Club Kino\, Černošice\, Česká republika
CATEGORIES:Koncert
ATTACH;FMTTYPE=image/jpeg:https://dnesnivylet.cz/wp-content/uploads/2026/03/320-ba95337f2bbc4b12bd7cfd4ba9c025a4.jpg
END:VEVENT
BEGIN:VEVENT
DTSTART;TZID=Europe/Prague:20260130T200000
DTEND;TZID=Europe/Prague:20260130T230000
DTSTAMP:20260419T234414
CREATED:20251113T092044Z
LAST-MODIFIED:20251113T092044Z
UID:13390-1769803200-1769814000@dnesnivylet.cz
SUMMARY:Hudba Praha
DESCRIPTION:Hudba Praha se uskuteční dne 2026-01-30 v 20:00 v Černošice\, Club Kino. \n🎟️ Koupit vstupenku \n\nCharakteristický souzvuk kytar bratří Zatloukalů\, zakládajících členů skupin Jasná Páka a Hudba Praha\, doplněný dunivou basovou kytarou Jirky Jelínka je zárukou původního soundu kapely Hudba Praha. K sestavě dále patří frontman Zdeněk Hnyk\, jehož hlas můžete znát i z vysílání pražského Radia 1\, bubeník Tomáš Stloukal\, saxofonista Jakub Douda a alternující zpěvačky Eva Lazáriková\, Karolína Matochová\, Kateřina Žahourová nebo Michaela Dvořáková. Hudba Praha hraje svoje největší hity od doby Jasné páky po současnost: Zákon o zachování energie\, Špinavý záda\, Pal vocuď\, Cizej chlap\, Marihuana\, Máma táta\, Můry\, Lunapark a další známé pecky doplňují nové písničky z desky Barevný sny\, která vznikla ještě pod názvem Hudba Praha band v roce 2021. Po smrti Michala Ambrože se kapela z pochopitelných důvodů vrací k původnímu názvu Hudba Praha. \n\nTento tip na kulturní akci v Černošice najdete v přehledu na Dnesnivylet.cz spolu s dalšími koncerty\, festivaly a divadelními představeními.Každý si vybere co se mu líbí. Nezapomeňte koupit vstupenky včas\, stačí kliknout a budete přesměrování na oficiálního prodejce vstupenek.
URL:https://dnesnivylet.cz/event/hudba-praha/
LOCATION:Club Kino\, Černošice\, Club Kino\, Černošice\, Česká republika
CATEGORIES:Koncert
ATTACH;FMTTYPE=image/jpeg:https://dnesnivylet.cz/wp-content/uploads/2025/11/320-4502976926904345a7ef506e4b697b8c.jpg
END:VEVENT
BEGIN:VEVENT
DTSTART;TZID=Europe/Prague:20260123T200000
DTEND;TZID=Europe/Prague:20260123T230000
DTSTAMP:20260419T234414
CREATED:20251105T193450Z
LAST-MODIFIED:20251105T193451Z
UID:12750-1769198400-1769209200@dnesnivylet.cz
SUMMARY:Pocta Zuzaně Navarové
DESCRIPTION:Pocta Zuzaně Navarové se uskuteční dne 2026-01-23 v 20:00 v Černošice\, Club Kino. \n🎟️ Koupit vstupenku \n\nKapela Pocta Zuzaně Navarové je jednou z nejautentičtějších revival kapel této hudby. Osobitost členů kapely jen podtrhává jedinečný zážitek\, který si odnesete z každého koncertu. Nádherné písničky kapel Nerez a Koa\, emoce\, živost\, tanec\, slzy\, smích a radost\, to všechno je kapela Pocta Zuzaně Navarové. Hrají s velkou energií a vášní a jejich koncerty jsou vzpomínkové\, ale i taneční a radostné. S pokorou vzpomínají na Zuzanu Navarovou a jejím písním dávají druhý dech. Skupina o projektu říká: „Zuzky tvorba je nesmrtelná a pro nás i publikum jsou to vždy velmi emotivní koncerty. Každý koncert hrajeme s velkou pokorou. Kapela působí na scéně již skoro deset let\, a má za sebou malé ale i velké koncerty\, festivaly a plno krásných spoluprací\, například společný koncert s Máriem Bihárim v roce 2024.Kapelu tvoří Barbora Červinková – zpěv\, perkuse\, Tomáš Pecka – zpěv\, kytara\, cello\, mandolína\, piano\, Antonín Jína – zpěv\, bicí\, perkuse\, Stanislav Šedivý – kytara\, perkuse\,Jan Neruda – baskytara\, zpěv\, Nicholas Roy Arthofer – trubka\, zpěv\, perkuse. \n  \n\nTento tip na kulturní akci v Černošice najdete v přehledu na Dnesnivylet.cz spolu s dalšími koncerty\, festivaly a divadelními představeními.Každý si vybere co se mu líbí. Nezapomeňte koupit vstupenky včas\, stačí kliknout a budete přesměrování na oficiálního prodejce vstupenek.
URL:https://dnesnivylet.cz/event/pocta-zuzane-navarove-3/
LOCATION:Club Kino\, Černošice\, Club Kino\, Černošice\, Česká republika
CATEGORIES:Koncert
ATTACH;FMTTYPE=image/jpeg:https://dnesnivylet.cz/wp-content/uploads/2025/11/320-f644e4e7beca465383f8fc5b7f2606d1.jpg
END:VEVENT
END:VCALENDAR