BEGIN:VCALENDAR
VERSION:2.0
PRODID:-//www.dnesnivylet.cz                                                                                                                        Tip na výlet pro celou rodinu. - ECPv6.15.13.1//NONSGML v1.0//EN
CALSCALE:GREGORIAN
METHOD:PUBLISH
X-ORIGINAL-URL:https://dnesnivylet.cz
X-WR-CALDESC:Akce na www.dnesnivylet.cz                                                                                                                        Tip na výlet pro celou rodinu.
REFRESH-INTERVAL;VALUE=DURATION:PT1H
X-Robots-Tag:noindex
X-PUBLISHED-TTL:PT1H
BEGIN:VTIMEZONE
TZID:Europe/Prague
BEGIN:DAYLIGHT
TZOFFSETFROM:+0100
TZOFFSETTO:+0200
TZNAME:CEST
DTSTART:20250330T010000
END:DAYLIGHT
BEGIN:STANDARD
TZOFFSETFROM:+0200
TZOFFSETTO:+0100
TZNAME:CET
DTSTART:20251026T010000
END:STANDARD
BEGIN:DAYLIGHT
TZOFFSETFROM:+0100
TZOFFSETTO:+0200
TZNAME:CEST
DTSTART:20260329T010000
END:DAYLIGHT
BEGIN:STANDARD
TZOFFSETFROM:+0200
TZOFFSETTO:+0100
TZNAME:CET
DTSTART:20261025T010000
END:STANDARD
BEGIN:DAYLIGHT
TZOFFSETFROM:+0100
TZOFFSETTO:+0200
TZNAME:CEST
DTSTART:20270328T010000
END:DAYLIGHT
BEGIN:STANDARD
TZOFFSETFROM:+0200
TZOFFSETTO:+0100
TZNAME:CET
DTSTART:20271031T010000
END:STANDARD
END:VTIMEZONE
BEGIN:VEVENT
DTSTART;TZID=Europe/Prague:20260411T190000
DTEND;TZID=Europe/Prague:20260411T220000
DTSTAMP:20260420T040446
CREATED:20251027T155013Z
LAST-MODIFIED:20251027T155014Z
UID:10492-1775934000-1775944800@dnesnivylet.cz
SUMMARY:Kollárovci
DESCRIPTION:Kollárovci se uskuteční dne 2026-04-11 v 19:00 v Český Krumlov\, Zámecká jízdárna. \n🎟️ Koupit vstupenku \n\nSrdečně vás zveme na jedinečný koncert oblíbené slovenské kapely Kollárovci! \nKollárovci jsou hudební skupina\, hrající od roku 1997. Své první CD vydali až v roce 2002. Hrají a skládají hlavně folklórní písně\, blízké folklóru východního Slovenska. Při zpěvu často používají goralské nářečí\, které je směsí slovenštiny\, polštiny a ukrajinštiny a nepodobá se těšínskému nářečí. \nTěšit se můžete na hudebně zábavnou show\, v níž vynikající zpěvy a nádherná muzika nenechají nikoho sedět na židli. Přijďte i vy zažít fantastickou atmosféru.  \nKollárovci:Tomáš Kollár – housle\, zpěvŠtefan Kollár – akordeon\, saxofon\, zpěvMarek Kollár – housle\, zpěvJuraj Švedlár – kontrabas\, zpěvJúlius – Michal Hudi – cimbálPatrik Červenák – bicí nástroje \n\nTento tip na kulturní akci v Český Krumlov najdete v přehledu na Dnesnivylet.cz spolu s dalšími koncerty\, festivaly a divadelními představeními.Každý si vybere co se mu líbí. Nezapomeňte koupit vstupenky včas\, stačí kliknout a budete přesměrování na oficiálního prodejce vstupenek.
URL:https://dnesnivylet.cz/event/kollarovci-2/
LOCATION:Zámecká jízdárna\, Český Krumlov\, Zámecká jízdárna\, Český Krumlov\, Česká republika
CATEGORIES:Koncert
ATTACH;FMTTYPE=image/jpeg:https://dnesnivylet.cz/wp-content/uploads/2025/10/320-dbc55db66fa44e75ab9509e3131084e5.jpg
END:VEVENT
BEGIN:VEVENT
DTSTART;TZID=Europe/Prague:20260529T190000
DTEND;TZID=Europe/Prague:20260529T220000
DTSTAMP:20260420T040446
CREATED:20251212T065703Z
LAST-MODIFIED:20251212T065703Z
UID:14811-1780081200-1780092000@dnesnivylet.cz
SUMMARY:Lunetic retro párty
DESCRIPTION:Lunetic retro párty se uskuteční dne 2026-05-29 v 19:00 v Český Krumlov\, Zámecká jízdárna. \n🎟️ Koupit vstupenku \n\nRetro párty na jízdárně bude tentokrát obohacena o dvouhodinový koncert kapely LUNETIC!  \nKoncert kapely proběhne od 19 hodin\, poté bude pokračovat volná taneční zábava ve stylu retro až do 1 hodiny noční. \n\nTento tip na kulturní akci v Český Krumlov najdete v přehledu na Dnesnivylet.cz spolu s dalšími koncerty\, festivaly a divadelními představeními.Každý si vybere co se mu líbí. Nezapomeňte koupit vstupenky včas\, stačí kliknout a budete přesměrování na oficiálního prodejce vstupenek.
URL:https://dnesnivylet.cz/event/lunetic-retro-party/
LOCATION:Zámecká jízdárna\, Český Krumlov\, Zámecká jízdárna\, Český Krumlov\, Česká republika
CATEGORIES:Koncert
ATTACH;FMTTYPE=image/jpeg:https://dnesnivylet.cz/wp-content/uploads/2025/12/320-7608090938f44842bb46a14923750d1e.jpg
END:VEVENT
END:VCALENDAR