BEGIN:VCALENDAR
VERSION:2.0
PRODID:-//www.dnesnivylet.cz                                                                                                                        Tip na výlet pro celou rodinu. - ECPv6.15.13.1//NONSGML v1.0//EN
CALSCALE:GREGORIAN
METHOD:PUBLISH
X-WR-CALNAME:www.dnesnivylet.cz                                                                                                                        Tip na výlet pro celou rodinu.
X-ORIGINAL-URL:https://dnesnivylet.cz
X-WR-CALDESC:Akce na www.dnesnivylet.cz                                                                                                                        Tip na výlet pro celou rodinu.
REFRESH-INTERVAL;VALUE=DURATION:PT1H
X-Robots-Tag:noindex
X-PUBLISHED-TTL:PT1H
BEGIN:VTIMEZONE
TZID:Europe/Prague
BEGIN:DAYLIGHT
TZOFFSETFROM:+0100
TZOFFSETTO:+0200
TZNAME:CEST
DTSTART:20240331T010000
END:DAYLIGHT
BEGIN:STANDARD
TZOFFSETFROM:+0200
TZOFFSETTO:+0100
TZNAME:CET
DTSTART:20241027T010000
END:STANDARD
BEGIN:DAYLIGHT
TZOFFSETFROM:+0100
TZOFFSETTO:+0200
TZNAME:CEST
DTSTART:20250330T010000
END:DAYLIGHT
BEGIN:STANDARD
TZOFFSETFROM:+0200
TZOFFSETTO:+0100
TZNAME:CET
DTSTART:20251026T010000
END:STANDARD
BEGIN:DAYLIGHT
TZOFFSETFROM:+0100
TZOFFSETTO:+0200
TZNAME:CEST
DTSTART:20260329T010000
END:DAYLIGHT
BEGIN:STANDARD
TZOFFSETFROM:+0200
TZOFFSETTO:+0100
TZNAME:CET
DTSTART:20261025T010000
END:STANDARD
BEGIN:DAYLIGHT
TZOFFSETFROM:+0100
TZOFFSETTO:+0200
TZNAME:CEST
DTSTART:20270328T010000
END:DAYLIGHT
BEGIN:STANDARD
TZOFFSETFROM:+0200
TZOFFSETTO:+0100
TZNAME:CET
DTSTART:20271031T010000
END:STANDARD
END:VTIMEZONE
BEGIN:VEVENT
DTSTART;TZID=Europe/Prague:20260318T190000
DTEND;TZID=Europe/Prague:20260318T220000
DTSTAMP:20260419T174045
CREATED:20251108T171145Z
LAST-MODIFIED:20251108T171145Z
UID:13000-1773860400-1773871200@dnesnivylet.cz
SUMMARY:ŠVANCI SHOW - JÁ SU JÁ - Cheb
DESCRIPTION:ŠVANCI SHOW – JÁ SU JÁ – Cheb se uskuteční dne 2026-03-18 v 19:00 v Cheb\, Kulturní centrum Svoboda. \n🎟️ Koupit vstupenku \n\nNová zábavná show „JÁ SU JÁ“ vyráží na TOUR po celé České republice. \nČekají vás vtipné historky\, od kariéry fotbalisty\, velkolepé rozlučky za Lužánkami\, návštěv různých zábavních pořadů\, až po účast v reality show Survivor. Dále se těšte na prostor pro otázky na tělo\, autogramiádu\, focení a mnoho dalšího. \nJak moc dobře mě znáš? Jak vypadá můj život po kariéře fotbalisty? Chceš znát více informací o reality show Surviror? \nNejen to se dozvíš ve zbrusu nové zábavné show „JÁ SU JÁ“. \nPřijď se podívat a užít si legraci\, popovídat si s legendou fotbalu\, moderátorem\, bavičem a dát si třeba fotku\, nebo si nechat cokoliv podepsat. \nPořad není vhodný mladším 15 let! \n\nTento tip na kulturní akci v Cheb najdete v přehledu na Dnesnivylet.cz spolu s dalšími koncerty\, festivaly a divadelními představeními.Každý si vybere co se mu líbí. Nezapomeňte koupit vstupenky včas\, stačí kliknout a budete přesměrování na oficiálního prodejce vstupenek.
URL:https://dnesnivylet.cz/event/svanci-show-ja-su-ja-cheb/
LOCATION:Kulturní centrum Svoboda\, Cheb\, Kulturní centrum Svoboda\, Cheb\, Česká republika
CATEGORIES:Zábava
ATTACH;FMTTYPE=image/jpeg:https://dnesnivylet.cz/wp-content/uploads/2025/11/320-da825ff091d4479e950651b45ebd7247.jpg
END:VEVENT
BEGIN:VEVENT
DTSTART;TZID=Europe/Prague:20260218T190000
DTEND;TZID=Europe/Prague:20260218T220000
DTSTAMP:20260419T174045
CREATED:20251104T190720Z
LAST-MODIFIED:20251104T190721Z
UID:12410-1771441200-1771452000@dnesnivylet.cz
SUMMARY:Martin Hranáč - CRAZY SHOW - Cheb
DESCRIPTION:Martin Hranáč – CRAZY SHOW – Cheb se uskuteční dne 2026-02-18 v 19:00 v Cheb\, Kulturní centrum Svoboda. \n🎟️ Koupit vstupenku \n\nChcete vstoupit do světa humoru a improvizace? Tak je CRAZY SHOW právě pro VÁS! Připravte se na nezapomenutelný večer plný smíchu s Martinem Hranáčem – komikem\, hercem\, číšníkem a optimistou\, který svým jedinečným smyslem pro humor baví lidi na sociálních sítích. Martinův příběh číšníka a jeho každodenní zážitky z gastronomie se stávají zábavným vyprávěním\, které osloví naprosto všechny. \nKaždé vystoupení je unikátní a plné improvizace\, protože Martin miluje improvizaci a scénáře mění v průběhu večera\, což občas vykolejí jeho sestru Štěpánku Šmídovou\, která mu dělá skvělou společnost během celé show. Všechny scénky a historky vychází z Martinových zkušeností a zážitků\, jak profesního\, tak soukromého života. Jeho humor je nekorektní\, sebeironický a nebojí se jít na hranu – právě to dělá jeho show nezapomenutelnou! \nNenechte si ujít tento jedinečný zážitek! Vstupenky v prodeji! \nPořad není vhodný mladším 15 let! \n\nTento tip na kulturní akci v Cheb najdete v přehledu na Dnesnivylet.cz spolu s dalšími koncerty\, festivaly a divadelními představeními.Každý si vybere co se mu líbí. Nezapomeňte koupit vstupenky včas\, stačí kliknout a budete přesměrování na oficiálního prodejce vstupenek.
URL:https://dnesnivylet.cz/event/martin-hranac-crazy-show-cheb/
LOCATION:Kulturní centrum Svoboda\, Cheb\, Kulturní centrum Svoboda\, Cheb\, Česká republika
CATEGORIES:Zábava
ATTACH;FMTTYPE=image/jpeg:https://dnesnivylet.cz/wp-content/uploads/2025/11/320-43072371179c4c9fad12fb97bdd358c2.jpg
END:VEVENT
BEGIN:VEVENT
DTSTART;TZID=Europe/Prague:20251116T190000
DTEND;TZID=Europe/Prague:20251116T220000
DTSTAMP:20260419T174045
CREATED:20251103T192349Z
LAST-MODIFIED:20251103T192349Z
UID:11863-1763319600-1763330400@dnesnivylet.cz
SUMMARY:Classicum Mozarteum / koncert roku 2025
DESCRIPTION:Classicum Mozarteum / koncert roku 2025 se uskuteční dne 2025-11-16 v 19:00 v Cheb\, Valdštejnská obrazárna Muzeum Cheb. \n🎟️ Koupit vstupenku \n\nZveme vás na jedinečný hudební večer\, který propojuje krásu klasické hudby s mladistvou energií a osobitým pojetím. Projekt CLASSICUM MOZARTEUM se v rámci turné Cheb\, Kyjov a Praha představí s exkluzivním programem\, jehož základ je postaven na operní tvorbě Wolfganga Amadea Mozarta – skladatele\, jehož dílo se stalo symbolem nadčasové dokonalosti. \nMůžete se těšit na pestrý repertoár\, jehož součástí jsou virtuózní klavírní kusy\, intimní písně a dramatické operní árie\, které definovaly epochu klasicismu. Mozartovy nejslavnější árie z oper Idomeneo\, Don Giovanni\, La clemenza di Tito či Così fan tutte zazní vedle lyrických klenotů Franze Schuberta\, dramatického náboje Ludwiga van Beethovena a čisté krásy operní hudby Christopha Willibalda Glucka. \n  \nObsazení: \n\nLukáš Sidorják\, operní pěvec s téměř patnáctiletou praxí\, jehož interpretace je oceňována pro přirozený výraz a muzikálnost. Je laureátem několika pěveckých soutěží a pravidelným hostem koncertních pódií.\nIlaybüke Algür\, klavíristka a skladatelka původem z Istanbulu\, absolventka Pražské konzervatoře. Její interpretace v sobě spojuje technickou bravuru s citem pro barvu a atmosféru.\nInspiratio Quintet\, dechový kvintet složený z mladých a talentovaných hudebníků\, který získal ocenění na mezinárodních soutěžích. Se svým repertoárem vystupuje nejen ve velkých městech České republiky\, ale také v dalších městech střední Evropy.\n\n  \nKoncertní turné CLASSICUM MOZARTEUM není jen koncert. Je to oslava hudby\, která přetrvává staletí\, a přesto nás dokáže znovu překvapovat. Přijďte se stát součástí večera\, na který jen tak nezapomenete. \nDélka koncertu: 1 hodina 40 minut (včetně 20 minutové přestávky). \n\nTento tip na kulturní akci v Cheb najdete v přehledu na Dnesnivylet.cz spolu s dalšími koncerty\, festivaly a divadelními představeními.Každý si vybere co se mu líbí. Nezapomeňte koupit vstupenky včas\, stačí kliknout a budete přesměrování na oficiálního prodejce vstupenek.
URL:https://dnesnivylet.cz/event/classicum-mozarteum-koncert-roku-2025-2/
LOCATION:Valdštejnská obrazárna Muzeum Cheb\, Cheb\, Valdštejnská obrazárna Muzeum Cheb\, Cheb\, Česká republika
CATEGORIES:Koncert
ATTACH;FMTTYPE=image/jpeg:https://dnesnivylet.cz/wp-content/uploads/2025/11/320-65a7a7a8543e4e30b758bc64bdaf50c1.jpg
END:VEVENT
END:VCALENDAR