BEGIN:VCALENDAR
VERSION:2.0
PRODID:-//www.dnesnivylet.cz                                                                                                                        Tip na výlet pro celou rodinu. - ECPv6.15.13.1//NONSGML v1.0//EN
CALSCALE:GREGORIAN
METHOD:PUBLISH
X-WR-CALNAME:www.dnesnivylet.cz                                                                                                                        Tip na výlet pro celou rodinu.
X-ORIGINAL-URL:https://dnesnivylet.cz
X-WR-CALDESC:Akce na www.dnesnivylet.cz                                                                                                                        Tip na výlet pro celou rodinu.
REFRESH-INTERVAL;VALUE=DURATION:PT1H
X-Robots-Tag:noindex
X-PUBLISHED-TTL:PT1H
BEGIN:VTIMEZONE
TZID:Europe/Prague
BEGIN:DAYLIGHT
TZOFFSETFROM:+0100
TZOFFSETTO:+0200
TZNAME:CEST
DTSTART:20240331T010000
END:DAYLIGHT
BEGIN:STANDARD
TZOFFSETFROM:+0200
TZOFFSETTO:+0100
TZNAME:CET
DTSTART:20241027T010000
END:STANDARD
BEGIN:DAYLIGHT
TZOFFSETFROM:+0100
TZOFFSETTO:+0200
TZNAME:CEST
DTSTART:20250330T010000
END:DAYLIGHT
BEGIN:STANDARD
TZOFFSETFROM:+0200
TZOFFSETTO:+0100
TZNAME:CET
DTSTART:20251026T010000
END:STANDARD
BEGIN:DAYLIGHT
TZOFFSETFROM:+0100
TZOFFSETTO:+0200
TZNAME:CEST
DTSTART:20260329T010000
END:DAYLIGHT
BEGIN:STANDARD
TZOFFSETFROM:+0200
TZOFFSETTO:+0100
TZNAME:CET
DTSTART:20261025T010000
END:STANDARD
BEGIN:DAYLIGHT
TZOFFSETFROM:+0100
TZOFFSETTO:+0200
TZNAME:CEST
DTSTART:20270328T010000
END:DAYLIGHT
BEGIN:STANDARD
TZOFFSETFROM:+0200
TZOFFSETTO:+0100
TZNAME:CET
DTSTART:20271031T010000
END:STANDARD
END:VTIMEZONE
BEGIN:VEVENT
DTSTART;TZID=Europe/Prague:20260227T100000
DTEND;TZID=Europe/Prague:20260227T130000
DTSTAMP:20260420T003720
CREATED:20260212T124316Z
LAST-MODIFIED:20260212T124316Z
UID:18198-1772186400-1772197200@dnesnivylet.cz
SUMMARY:HAF - Hravá psí minipohádka (Divadlo L)
DESCRIPTION:HAF – Hravá psí minipohádka (Divadlo L) se uskuteční dne 2026-02-27 v 10:00 v Chýně\, ZŠ Chýně\, aula. \n🎟️ Koupit vstupenku \n\nHAF hravá psí minipohádka \nHravá psí minipohádka pro lidská mláďata od 0 roků do 6 let a jejich rodiče. \nCo se stalo\, když se jeden takový pes vydal poprvé a úplně sám na výlet? První něžné setkání s divadlem pro nejmenšího diváka\, které jim hravou a interaktivní formou vypráví o tom\, že na dobrodružných výpravách je nejlepší\, když se zase vrátíme domů\, do bezpečí vlastního pelíšku. \nPo každém představení následuje psí hernička aneb Jeviště je hřiště. \nBěhem představení spolupracuje rodič a dítě v interakci s rozmanitými rekvizitami dotvářející celkový divadelní prožitek. \n_________________________________________________________________ \nDélka představení: 20 minut představení + 30 minut herna \nZačátek v 10 hodin\, pro děti 0-6 let \nAula bude pro veřejnost otevřena již 15 minut před představením. \nKomorní uspořádání na zemi na matracích. Volný pohyb dětí i konzumace během představení je samozřejmostí (zvláště u dětí 1-3 roky). \n\nTento tip na kulturní akci v Chýně najdete v přehledu na Dnesnivylet.cz spolu s dalšími koncerty\, festivaly a divadelními představeními.Každý si vybere co se mu líbí. Nezapomeňte koupit vstupenky včas\, stačí kliknout a budete přesměrování na oficiálního prodejce vstupenek.
URL:https://dnesnivylet.cz/event/haf-hrava-psi-minipohadka-divadlo-l/
LOCATION:ZŠ Chýně\, aula\, Chýně\, ZŠ Chýně\, aula\, Chýně\, Česká republika
CATEGORIES:Divadlo
ATTACH;FMTTYPE=image/jpeg:https://dnesnivylet.cz/wp-content/uploads/2026/02/320-0eafa3d00b834cb98d231e0fe916a1af.jpg
END:VEVENT
BEGIN:VEVENT
DTSTART;TZID=Europe/Prague:20251207T093000
DTEND;TZID=Europe/Prague:20251207T123000
DTSTAMP:20260420T003720
CREATED:20251129T075121Z
LAST-MODIFIED:20251129T075121Z
UID:14238-1765099800-1765110600@dnesnivylet.cz
SUMMARY:Hravé čtení pohádky Louskáček (Divadlo L)
DESCRIPTION:Hravé čtení pohádky Louskáček (Divadlo L) se uskuteční dne 2025-12-07 v 09:30 v Chýně\, ZŠ Chýně\, aula. \n🎟️ Koupit vstupenku \n\nHRAVÉ ČTENÍ \nHravou a interaktivní formou se společně pokusíme objevit kouzlo skrývající se uvnitř každé dětské knihy. Klademe důraz na přirozený rozvoj fantazie\, kreativity a estetického vnímání světa. Pojďte se s námi společně vydat na poutavou cestu za dobrodružstvím. \nBěhem představení spolupracuje rodič a dítě v interakci s rozmanitými rekvizitami dotvářející celkový divadelní prožitek. \nZačátek v 9:30 hodin pro děti 1-3 roky\, v 11 hodin pro děti 3-6 let. \nDélka: 40minut. \nKomorní uspořádání na zemi na matracích. Volný pohyb dětí i konzumace během představení je samozřejmostí (zvláště u dětí 1-3 roky). \nPočet míst omezen! \n  \n\nTento tip na kulturní akci v Chýně najdete v přehledu na Dnesnivylet.cz spolu s dalšími koncerty\, festivaly a divadelními představeními.Každý si vybere co se mu líbí. Nezapomeňte koupit vstupenky včas\, stačí kliknout a budete přesměrování na oficiálního prodejce vstupenek.
URL:https://dnesnivylet.cz/event/hrave-cteni-pohadky-louskacek-divadlo-l/
LOCATION:ZŠ Chýně\, aula\, Chýně\, ZŠ Chýně\, aula\, Chýně\, Česká republika
CATEGORIES:Divadlo
ATTACH;FMTTYPE=image/jpeg:https://dnesnivylet.cz/wp-content/uploads/2025/11/320-3cbd28c119e64a09883071b629b810d7.jpg
END:VEVENT
END:VCALENDAR