BEGIN:VCALENDAR
VERSION:2.0
PRODID:-//www.dnesnivylet.cz                                                                                                                        Tip na výlet pro celou rodinu. - ECPv6.15.13.1//NONSGML v1.0//EN
CALSCALE:GREGORIAN
METHOD:PUBLISH
X-WR-CALNAME:www.dnesnivylet.cz                                                                                                                        Tip na výlet pro celou rodinu.
X-ORIGINAL-URL:https://dnesnivylet.cz
X-WR-CALDESC:Akce na www.dnesnivylet.cz                                                                                                                        Tip na výlet pro celou rodinu.
REFRESH-INTERVAL;VALUE=DURATION:PT1H
X-Robots-Tag:noindex
X-PUBLISHED-TTL:PT1H
BEGIN:VTIMEZONE
TZID:Europe/Prague
BEGIN:DAYLIGHT
TZOFFSETFROM:+0100
TZOFFSETTO:+0200
TZNAME:CEST
DTSTART:20250330T010000
END:DAYLIGHT
BEGIN:STANDARD
TZOFFSETFROM:+0200
TZOFFSETTO:+0100
TZNAME:CET
DTSTART:20251026T010000
END:STANDARD
BEGIN:DAYLIGHT
TZOFFSETFROM:+0100
TZOFFSETTO:+0200
TZNAME:CEST
DTSTART:20260329T010000
END:DAYLIGHT
BEGIN:STANDARD
TZOFFSETFROM:+0200
TZOFFSETTO:+0100
TZNAME:CET
DTSTART:20261025T010000
END:STANDARD
BEGIN:DAYLIGHT
TZOFFSETFROM:+0100
TZOFFSETTO:+0200
TZNAME:CEST
DTSTART:20270328T010000
END:DAYLIGHT
BEGIN:STANDARD
TZOFFSETFROM:+0200
TZOFFSETTO:+0100
TZNAME:CET
DTSTART:20271031T010000
END:STANDARD
END:VTIMEZONE
BEGIN:VEVENT
DTSTART;TZID=Europe/Prague:20260320T190000
DTEND;TZID=Europe/Prague:20260320T220000
DTSTAMP:20260420T030215
CREATED:20260310T172816Z
LAST-MODIFIED:20260310T172817Z
UID:19378-1774033200-1774044000@dnesnivylet.cz
SUMMARY:Vztahy na úrovni
DESCRIPTION:Vztahy na úrovni se uskuteční dne 2026-03-20 v 19:00 v Polná\, Kulturní středisko Zámek. \n🎟️ Koupit vstupenku \n\nVztahy na úrovni je velmi svižná moderní komedie ze zákulisí vysoké politiky\, která nevynechává ani milostný život mužů sedících na vlivných křeslech v Evropské obchodní komisi. \nAutor: Edward Taylor \nRežie: Antonín Procházka \nPřeklad: Helena Fahrnetová \nKostýmy: Zuzana Straková \nScéna: Zbyněk Simčišin \nFoto: Pavel Průcha \nGarderoba: Eva Eichlerová\, Radka Textorová \nStavba\, světla\, zvuk a inspice: Ivan Naumovič\, Martin Cibula\, Jan Zadražil \nOrientační délka představení: 2 hod. 15 minut \nHrají \nSir Clive ParteridgeLukáš Vaculík \nLady Gillian ParteridgeIvana Andrlová / Olga „Háta“ Želenská / Vlasta Žehrová \nSimon ProutViktor Limr \nErnest KibbleMartin Sobotka \nAstridMonika Absolonová / Kateřina Hrachovcová \nLuise MullerMahulena Bočanová / Adéla Gondíková / Vlasta Žehrová \nJacques BerriPavel Nečas \n\nTento tip na kulturní akci v Polná najdete v přehledu na Dnesnivylet.cz spolu s dalšími koncerty\, festivaly a divadelními představeními.Každý si vybere co se mu líbí. Nezapomeňte koupit vstupenky včas\, stačí kliknout a budete přesměrování na oficiálního prodejce vstupenek.
URL:https://dnesnivylet.cz/event/vztahy-na-urovni/
LOCATION:Kulturní středisko Zámek\, Polná\, Kulturní středisko Zámek\, Polná\, Česká republika
CATEGORIES:Divadlo
ATTACH;FMTTYPE=image/jpeg:https://dnesnivylet.cz/wp-content/uploads/2026/03/320-02a274a595d74ddab18e0216a77c9bd4.jpg
END:VEVENT
BEGIN:VEVENT
DTSTART;TZID=Europe/Prague:20260320T193000
DTEND;TZID=Europe/Prague:20260320T223000
DTSTAMP:20260420T030215
CREATED:20260306T172717Z
LAST-MODIFIED:20260306T172717Z
UID:19078-1774035000-1774045800@dnesnivylet.cz
SUMMARY:Honzlův Humpolec - Mafiano
DESCRIPTION:Honzlův Humpolec – Mafiano se uskuteční dne 2026-03-20 v 19:30 v Humpolec\, Kino. \n🎟️ Koupit vstupenku \n\nDivadelní spolek Gen D Dolní Břežany \n  \nAnotace: \nPřed deseti lety je rozdělily\, teď je spojí zpět. Nesourodé trio mafiánů se setkává ve starém newyorském bytě\, aby konečně získalo\, co zde bylo kdysi ukryto – prachy. Nic by jim nebránilo v cestě\, kdyby každý nechtěl vše pro sebe a byt si mezitím nepronajala mladá novinářka plná ideálů. Co dělat? Časy jsou zlé. A to zvlášť teď\, když se kolem ještě pohybují šmejdi s hrnci. \n  \nScénář: Daniel Klouda\, Adam JurčíkRežie: Adam Jurčík \nObsazení:Jimmy – Daniel PagáčTony – Adam HegerRichie – Kryštof Kotík / Adam FenclSusan Williamsová – Anna CihlářováDomovnice – Alexandra ŠulcováŠmejd – Daniel KloudaStrážník Striker – Prokop CihlářKomisař Kramer – Adam Jurčíka Natálie Horská \n  \nDélka představení: 75 minut bez přestávky \n\nTento tip na kulturní akci v Humpolec najdete v přehledu na Dnesnivylet.cz spolu s dalšími koncerty\, festivaly a divadelními představeními.Každý si vybere co se mu líbí. Nezapomeňte koupit vstupenky včas\, stačí kliknout a budete přesměrování na oficiálního prodejce vstupenek.
URL:https://dnesnivylet.cz/event/honzluv-humpolec-mafiano/
LOCATION:Kino\, Humpolec\, Kino\, Humpolec\, Česká republika
CATEGORIES:Divadlo
ATTACH;FMTTYPE=image/jpeg:https://dnesnivylet.cz/wp-content/uploads/2026/03/320-1395cdbc7f904bc78f79e4c95fa16254.jpg
END:VEVENT
END:VCALENDAR