BEGIN:VCALENDAR
VERSION:2.0
PRODID:-//www.dnesnivylet.cz                                                                                                                        Tip na výlet pro celou rodinu. - ECPv6.15.13.1//NONSGML v1.0//EN
CALSCALE:GREGORIAN
METHOD:PUBLISH
X-WR-CALNAME:www.dnesnivylet.cz                                                                                                                        Tip na výlet pro celou rodinu.
X-ORIGINAL-URL:https://dnesnivylet.cz
X-WR-CALDESC:Akce na www.dnesnivylet.cz                                                                                                                        Tip na výlet pro celou rodinu.
REFRESH-INTERVAL;VALUE=DURATION:PT1H
X-Robots-Tag:noindex
X-PUBLISHED-TTL:PT1H
BEGIN:VTIMEZONE
TZID:Europe/Prague
BEGIN:DAYLIGHT
TZOFFSETFROM:+0100
TZOFFSETTO:+0200
TZNAME:CEST
DTSTART:20250330T010000
END:DAYLIGHT
BEGIN:STANDARD
TZOFFSETFROM:+0200
TZOFFSETTO:+0100
TZNAME:CET
DTSTART:20251026T010000
END:STANDARD
BEGIN:DAYLIGHT
TZOFFSETFROM:+0100
TZOFFSETTO:+0200
TZNAME:CEST
DTSTART:20260329T010000
END:DAYLIGHT
BEGIN:STANDARD
TZOFFSETFROM:+0200
TZOFFSETTO:+0100
TZNAME:CET
DTSTART:20261025T010000
END:STANDARD
BEGIN:DAYLIGHT
TZOFFSETFROM:+0100
TZOFFSETTO:+0200
TZNAME:CEST
DTSTART:20270328T010000
END:DAYLIGHT
BEGIN:STANDARD
TZOFFSETFROM:+0200
TZOFFSETTO:+0100
TZNAME:CET
DTSTART:20271031T010000
END:STANDARD
END:VTIMEZONE
BEGIN:VEVENT
DTSTART;TZID=Europe/Prague:20260414T190000
DTEND;TZID=Europe/Prague:20260414T220000
DTSTAMP:20260419T131158
CREATED:20260310T172034Z
LAST-MODIFIED:20260310T172034Z
UID:19344-1776193200-1776204000@dnesnivylet.cz
SUMMARY:Intimní příběhy z Ráje
DESCRIPTION:Intimní příběhy z Ráje se uskuteční dne 2026-04-14 v 19:00 v Rájec-Jestřebí\, Kulturní centrum – sokolovna. \n🎟️ Koupit vstupenku \n\nMěsto Rájec-Jestřebí Vás srdečně zve na jarní divadelní představení Intimní příběhy z Ráje (autor: Jaime Salom). \nIntimní příběhy z Ráje jsou úsměvnou komedií\, vtipnou a zajímavou vizí Edenu\, ve které se jemným humorem odhalují detaily soužití mezi muži a ženami. Ukazuje Ráj\, v němž mohla být na pár chvil akceptována perspektiva existence svobodné ženy s vlastními názory\, jako rovnocenné partnerky muže. Pointa zůstává viset ve věčné otázce „Co bylo\, je a bude?“ \nHrají: \nAnděl: Robert Jašków \nLilith: Jitka Ježková \nEva: Kateřina Pechová/Anna Grundmanová \nAdam: Michal Slaný/Peter Pecha \n  \n\nTento tip na kulturní akci v Rájec-Jestřebí najdete v přehledu na Dnesnivylet.cz spolu s dalšími koncerty\, festivaly a divadelními představeními.Každý si vybere co se mu líbí. Nezapomeňte koupit vstupenky včas\, stačí kliknout a budete přesměrování na oficiálního prodejce vstupenek.
URL:https://dnesnivylet.cz/event/intimni-pribehy-z-raje/
LOCATION:Kulturní centrum – sokolovna\, Rájec-Jestřebí\, Kulturní centrum - sokolovna\, Rájec-Jestřebí\, Česká republika
CATEGORIES:Divadlo
ATTACH;FMTTYPE=image/jpeg:https://dnesnivylet.cz/wp-content/uploads/2026/03/320-e2cb2d28f74c4c438b37876e94144bc8.jpg
END:VEVENT
END:VCALENDAR