BEGIN:VCALENDAR
VERSION:2.0
PRODID:-//www.dnesnivylet.cz                                                                                                                        Tip na výlet pro celou rodinu. - ECPv6.15.13.1//NONSGML v1.0//EN
CALSCALE:GREGORIAN
METHOD:PUBLISH
X-WR-CALNAME:www.dnesnivylet.cz                                                                                                                        Tip na výlet pro celou rodinu.
X-ORIGINAL-URL:https://dnesnivylet.cz
X-WR-CALDESC:Akce na www.dnesnivylet.cz                                                                                                                        Tip na výlet pro celou rodinu.
REFRESH-INTERVAL;VALUE=DURATION:PT1H
X-Robots-Tag:noindex
X-PUBLISHED-TTL:PT1H
BEGIN:VTIMEZONE
TZID:Europe/Prague
BEGIN:DAYLIGHT
TZOFFSETFROM:+0100
TZOFFSETTO:+0200
TZNAME:CEST
DTSTART:20250330T010000
END:DAYLIGHT
BEGIN:STANDARD
TZOFFSETFROM:+0200
TZOFFSETTO:+0100
TZNAME:CET
DTSTART:20251026T010000
END:STANDARD
BEGIN:DAYLIGHT
TZOFFSETFROM:+0100
TZOFFSETTO:+0200
TZNAME:CEST
DTSTART:20260329T010000
END:DAYLIGHT
BEGIN:STANDARD
TZOFFSETFROM:+0200
TZOFFSETTO:+0100
TZNAME:CET
DTSTART:20261025T010000
END:STANDARD
BEGIN:DAYLIGHT
TZOFFSETFROM:+0100
TZOFFSETTO:+0200
TZNAME:CEST
DTSTART:20270328T010000
END:DAYLIGHT
BEGIN:STANDARD
TZOFFSETFROM:+0200
TZOFFSETTO:+0100
TZNAME:CET
DTSTART:20271031T010000
END:STANDARD
END:VTIMEZONE
BEGIN:VEVENT
DTSTART;TZID=Europe/Prague:20260428T190000
DTEND;TZID=Europe/Prague:20260428T220000
DTSTAMP:20260419T131158
CREATED:20260321T195949Z
LAST-MODIFIED:20260321T195949Z
UID:19796-1777402800-1777413600@dnesnivylet.cz
SUMMARY:Ein Strudel und Nekonečno
DESCRIPTION:Ein Strudel und Nekonečno se uskuteční dne 2026-04-28 v 19:00 v Brno\, Co.Labs. \n🎟️ Koupit vstupenku \n\nEIN STRUDEL UND NEKONEČNOpomalá divadelní komedie inspirovaná životem a myšlenkami Kurta Gödela \nSpeciální repríza k 120. výročí od jeho narození. \n  \n„Adélo\, káva ve Vídni je poslední dobou mizerná\, možná už je načase emigrovat.“ \nO Kurtu Gödelovi se většinou dozvíš následující fakta: Albert Einstein s ním rád chodil po práci na procházky\, pochází z Brna\, je to největší logik od dob Aristotela\, a z obavy\, že jej někdo otráví\, odmítal jíst a zemřel hlady. \n  \nNavíc ale neotřesitelně předpokládal druhý život po životě a také to\, že svět je v podstatě logický a dobrý. Pokud je ale svět v podstatě logický a dobrý\, kdo otrávil ten štrůdl? A otrávil jej někdo? Kdo jsou ti tři podivíni přednášející o matematice? A proč by měl Kurt Gödel psát stand-up o matkách? \nNičeho se neboj. Všechno se vysvětlí.Dejte si štrúdl.Nikdo ho neotrávil. \n  \n“Štrůdl chápu\, štrůdl je super. Proč nekonečno?”  \nV představení jsme vycházeli z překvapivé životní cesty a složitého akademického díla Kurta Gödela. Avšak skutečně se nemusíš bát\, že tomu nebudeš rozumět. Nenech se odradit tím\, že nemáš rád/a matematiku. Režisérka této inscenace maturovala z matematiky za 4 a to ji nebránilo toto dílo nejen režírovat\, ale taky částečně psát. Sice se tam občas zmíní nějaké matematické pojmy\, ale pokud se v tom nevyznáš\, nevadí to. Vždy to překládáme i do běžné řeči. A taky\, Gödelův osud přece není jen o logice\, ale taky o nekonečné zvědavosti a komplikovaném posledním století. \n  \n“Co když se tam bude válčit a létat zbůhdarma do vesmíru?” \nPokud fandíš chytrému humoru\, nebo věříš\, že divadlo\, matematika a zvědavost jsou sexy\, doraž za námi na štrůdl. Třeba to bude i lepší než pizza a Netflix. \n\nTento tip na kulturní akci v Brno najdete v přehledu na Dnesnivylet.cz spolu s dalšími koncerty\, festivaly a divadelními představeními.Každý si vybere co se mu líbí. Nezapomeňte koupit vstupenky včas\, stačí kliknout a budete přesměrování na oficiálního prodejce vstupenek.
URL:https://dnesnivylet.cz/event/ein-strudel-und-nekonecno/
LOCATION:Co.Labs\, Brno\, Co.Labs\, Brno\, Česká republika
CATEGORIES:Divadlo
ATTACH;FMTTYPE=image/jpeg:https://dnesnivylet.cz/wp-content/uploads/2026/03/320-72168e833dcc4f0e893f876a511cc972.jpg
END:VEVENT
END:VCALENDAR