BEGIN:VCALENDAR
VERSION:2.0
PRODID:-//www.dnesnivylet.cz                                                                                                                        Tip na výlet pro celou rodinu. - ECPv6.15.13.1//NONSGML v1.0//EN
CALSCALE:GREGORIAN
METHOD:PUBLISH
X-WR-CALNAME:www.dnesnivylet.cz                                                                                                                        Tip na výlet pro celou rodinu.
X-ORIGINAL-URL:https://dnesnivylet.cz
X-WR-CALDESC:Akce na www.dnesnivylet.cz                                                                                                                        Tip na výlet pro celou rodinu.
REFRESH-INTERVAL;VALUE=DURATION:PT1H
X-Robots-Tag:noindex
X-PUBLISHED-TTL:PT1H
BEGIN:VTIMEZONE
TZID:Europe/Prague
BEGIN:DAYLIGHT
TZOFFSETFROM:+0100
TZOFFSETTO:+0200
TZNAME:CEST
DTSTART:20250330T010000
END:DAYLIGHT
BEGIN:STANDARD
TZOFFSETFROM:+0200
TZOFFSETTO:+0100
TZNAME:CET
DTSTART:20251026T010000
END:STANDARD
BEGIN:DAYLIGHT
TZOFFSETFROM:+0100
TZOFFSETTO:+0200
TZNAME:CEST
DTSTART:20260329T010000
END:DAYLIGHT
BEGIN:STANDARD
TZOFFSETFROM:+0200
TZOFFSETTO:+0100
TZNAME:CET
DTSTART:20261025T010000
END:STANDARD
BEGIN:DAYLIGHT
TZOFFSETFROM:+0100
TZOFFSETTO:+0200
TZNAME:CEST
DTSTART:20270328T010000
END:DAYLIGHT
BEGIN:STANDARD
TZOFFSETFROM:+0200
TZOFFSETTO:+0100
TZNAME:CET
DTSTART:20271031T010000
END:STANDARD
END:VTIMEZONE
BEGIN:VEVENT
DTSTART;TZID=Europe/Prague:20260522T190000
DTEND;TZID=Europe/Prague:20260522T220000
DTSTAMP:20260419T142832
CREATED:20251103T192733Z
LAST-MODIFIED:20251103T192734Z
UID:11973-1779476400-1779487200@dnesnivylet.cz
SUMMARY:Tik Tik v Litvínově
DESCRIPTION:Tik Tik v Litvínově se uskuteční dne 2026-05-22 v 19:00 v Litvínov\, Docela velké divadlo. \n🎟️ Koupit vstupenku \n\nKomedie TIK TIK upoutá diváky hned na začátku svou neobvyklostí i živým humorem. V čekárně psychiatra se setkávají tři muži a tři ženy\, různého věku\, zaměstnání\, osudu. Spojuje je stejný problém: trpí „tikem“\, chcete-li obsedantní neurózou\, s kterou se těžko žije. Starší vydavatel chrlí v nevhodnou dobu sprostá slova\, taxikář vše přeměňuje v čísla\, žena si stále ze strachu před bakteriemi myje ruce\, druhá kontroluje kabelku a žije ve stresu\, že zapomněla vypnout plyn\, zamknout byt\, mladý muž nesmí stoupnout na čáru a dívka\, která opakuje své koncové věty. Všichni věří v pomoc světoznámého odborníka\, u kterého se museli objednat dlouho předem. Jenže ten se omluvil za zpoždění letadla a také jeho následná cesta autem znamená časové zdržení. Pacienti překonávají zábrany a seznamují se vzájemně se svými „tiky“. Během dlouhého čekání hrají i „monopoly“ a nakonec se sami pokusí o skupinovou terapii\, při které své obsese dramaticky a za fandění těch druhých alespoň na chvíli překonávají. Do komických situací probleskuje snaha o vzájemnou pomoc a pocit\, že nejsou se svými problémy sami se proměňuje v přesvědčení\, jak důležité je najít v sobě odvahu navázat přátelství\, možná i lásku… \nHrají: TEREZA KOSTKOVÁ\, JOSEF POLÁŠEK\, VÁCLAV KNOP\, KRISTÝNA FREJOVÁ\, JAROMÍR NOSEK\, EVA JOSEFÍKOVÁ / ŠÁRKA KUBÍKOVÁ \n\nTento tip na kulturní akci v Litvínov najdete v přehledu na Dnesnivylet.cz spolu s dalšími koncerty\, festivaly a divadelními představeními.Každý si vybere co se mu líbí. Nezapomeňte koupit vstupenky včas\, stačí kliknout a budete přesměrování na oficiálního prodejce vstupenek.
URL:https://dnesnivylet.cz/event/tik-tik-v-litvinove/
LOCATION:Docela velké divadlo\, Litvínov\, Docela velké divadlo\, Litvínov\, Česká republika
CATEGORIES:Divadlo
ATTACH;FMTTYPE=image/jpeg:https://dnesnivylet.cz/wp-content/uploads/2025/11/320-01292edf1c20470a8a15e982276cd7d6.jpg
END:VEVENT
END:VCALENDAR