BEGIN:VCALENDAR
VERSION:2.0
PRODID:-//www.dnesnivylet.cz                                                                                                                        Tip na výlet pro celou rodinu. - ECPv6.15.13.1//NONSGML v1.0//EN
CALSCALE:GREGORIAN
METHOD:PUBLISH
X-ORIGINAL-URL:https://dnesnivylet.cz
X-WR-CALDESC:Akce na www.dnesnivylet.cz                                                                                                                        Tip na výlet pro celou rodinu.
REFRESH-INTERVAL;VALUE=DURATION:PT1H
X-Robots-Tag:noindex
X-PUBLISHED-TTL:PT1H
BEGIN:VTIMEZONE
TZID:Europe/Prague
BEGIN:DAYLIGHT
TZOFFSETFROM:+0100
TZOFFSETTO:+0200
TZNAME:CEST
DTSTART:20250330T010000
END:DAYLIGHT
BEGIN:STANDARD
TZOFFSETFROM:+0200
TZOFFSETTO:+0100
TZNAME:CET
DTSTART:20251026T010000
END:STANDARD
BEGIN:DAYLIGHT
TZOFFSETFROM:+0100
TZOFFSETTO:+0200
TZNAME:CEST
DTSTART:20260329T010000
END:DAYLIGHT
BEGIN:STANDARD
TZOFFSETFROM:+0200
TZOFFSETTO:+0100
TZNAME:CET
DTSTART:20261025T010000
END:STANDARD
BEGIN:DAYLIGHT
TZOFFSETFROM:+0100
TZOFFSETTO:+0200
TZNAME:CEST
DTSTART:20270328T010000
END:DAYLIGHT
BEGIN:STANDARD
TZOFFSETFROM:+0200
TZOFFSETTO:+0100
TZNAME:CET
DTSTART:20271031T010000
END:STANDARD
END:VTIMEZONE
BEGIN:VEVENT
DTSTART;TZID=Europe/Prague:20260716T210000
DTEND;TZID=Europe/Prague:20260717T000000
DTSTAMP:20260420T014736
CREATED:20260419T121948Z
LAST-MODIFIED:20260419T121949Z
UID:20874-1784235600-1784246400@dnesnivylet.cz
SUMMARY:Divadelní představení ROMEO a JULIE na zámku Lnáře
DESCRIPTION:Divadelní představení ROMEO a JULIE na zámku Lnáře se uskuteční dne 2026-07-16 v 21:00 v Lnáře\, Zámek Lnáře. \n🎟️ Koupit vstupenku \n\nZveme vás na večerní divadelní představení ROMEO a JULIE do zámecké areálu Lnáře (45 km od Plzně\, 8 km od Blatné\, nedaleko Strakonic a Písku). \nčtvrtek 16. července  \nnebo \npátek 17. července \nvždy od 21.00 hodin\, s možností přijít o hodinku dříve\, užít si krásnou zahradu\, zámecký bazén a po představení zůstat o hodinku déle na night piknik pod hvězdami. \nUbytování na zámku je možné: www.zameklnare.cz. \nNabízíme emocemi naplněný zážitek\, kulturní představení od známého divadelního spolku Kašpar (režie Jakub Špalek\, Divadlo v Celetné).  \n  \nRomeo a Julie (W. Shakespeare) je příběh\, který si po staletí zachoval své magické kouzlo a v létě 2026 bude vše zvýrazněno atmosférou francouzské zámecké zahrady Lnáře plus živou hudbou. Režisér Jakub Špalek (znáte jej z filmu Šakalí léta nebo Jízda) dává prostor 8 hercům z divadelního spolku Kašpar\, Divadlo v Celetné (opakovaně jste je mohli vidět kupř. na hradu Kašperk v Shakespearovo dramatech). Výsledek stojí za zhlédnutí i potlesk. \n  \nPředstavení na zámku Lnáře se koná v rámci skvělé celorepublikové divadelní akce Kašparův velký výlet 2026 \n  \nROMEO a JULIE – vstupenky (ceny platné do 22.2. a pouze pro prvních 50 kupujících – NEODKLÁDEJTE REZERVACI) \n16.7.2026 (čtvrtek)\, od 21.00 hodin\, v ceně od 590 Kč (nižší cena do 22.2.) \n17.7.2026 (pátek)\, od 21.00 hodin\, v ceně od 690 Kč (nižší cena do 22.2.) \n(vždy s možností nočního pikniku v zahradě zámku\, koupání v zámeckém bazénu\, přikoupením prohlídky zámku nebo ubytování ve dvoulůžkových pokojích) \n  \nROMEO A JULIE / William Shakespeare – klasika – lovestory – napětí \nMonteci\, Kapuleti a Kašpaři! \nNejslavnější milostný příběh v dynamické úpravě pro osm postav. Dobové tance a písně\, souboje a samozřejmě balkon. A láska – ta největší! Text patřící k vrcholným tragédiím tohoto mýty opředeného autora se divadelníci rozhodli adaptovat na míru osmi postavám\, aniž by se cokoliv ubralo na sdělnosti příběhu a síle prožitku\, kterou tato hra nese. Původních více jak dvacet postav schází tedy opravdu málokomu. \n  \nHrají: Daniel Pivoda Ondráček\, Tereza Slámová\, Jan Zadražil\, Eva Elsnerová\, Miloslav Tichý\, Štěpán Coufal\, Kristián Stolařík\, František Kreuzmann – Divadelní spolek Kašpar (Divadlo v Celetné). \nRežie: Jakub Špalek. \n  \nDélka 1 hodina 40 minut \nbez přestávky https://www.divadlovceletne.cz/program/romeo-a-julie-open-air/ \n  \nV areálu pro vás bude připravena možnost zakoupit si občerstvení\, toalety jsou na zámku\, v nabídce je také ubytování v zámeckých pokojích (rezervace přímo na www.zameklnare.cz). Představení se hraje po dohodě s divadelníky za každého počasí\, připravte si\, prosím\, pláštěnky\, které nebudete jistě potřebovat\, plavky\, které využijete v zámeckém bazéně 300 metrů od jeviště na noční romantické koupání. \n  \nV zámeckém areálu připravujeme i další akce: \n24.-26.4. Vítání jara na zámku Lnáře (program pro celou rodinu) \nARTcamp – slet umělců \nKoncerty: Janek Ledecký \n\nTento tip na kulturní akci v Lnáře najdete v přehledu na Dnesnivylet.cz spolu s dalšími koncerty\, festivaly a divadelními představeními.Každý si vybere co se mu líbí. Nezapomeňte koupit vstupenky včas\, stačí kliknout a budete přesměrování na oficiálního prodejce vstupenek.
URL:https://dnesnivylet.cz/event/divadelni-predstaveni-romeo-a-julie-na-zamku-lnare/
LOCATION:Zámek Lnáře\, Lnáře\, Zámek Lnáře\, Lnáře\, Česká republika
CATEGORIES:Divadlo
ATTACH;FMTTYPE=image/jpeg:https://dnesnivylet.cz/wp-content/uploads/2026/04/320-d4a6cc72ec594c18b03014e295a9168c.jpg
END:VEVENT
BEGIN:VEVENT
DTSTART;TZID=Europe/Prague:20260725T200000
DTEND;TZID=Europe/Prague:20260725T230000
DTSTAMP:20260420T014736
CREATED:20260405T130547Z
LAST-MODIFIED:20260405T130547Z
UID:20250-1785009600-1785020400@dnesnivylet.cz
SUMMARY:Jeptiška v latexu\, Žižka v kontextu - divadlo KRVESAJ
DESCRIPTION:Jeptiška v latexu\, Žižka v kontextu – divadlo KRVESAJ se uskuteční dne 2026-07-25 v 20:00 v Heřmaničky\, Háječek – letní parket. \n🎟️ Koupit vstupenku \n\nJeptiška v latexu\, Žižka v kontextu \nDivadlo KRVESAJ \nAutorská crazy komedie Václava Upíra KrejčíhoRežie a scénář: Václav Upír KrejčíHrají: Andrea Stránská\, Iva Jirovcová\, Michal Jirec\, Petr Stránský \nCo se stane\, když se na divadelní zkoušce sejde parta herců\, ale nedorazí režisér?A co když navíc jeden z herců odejde ke konkurenci a celé zkoušení se ocitne na pokraji krachu?V této chvíli se situace ujímá Andrea\, která na své kolegy vymyslí rafinovaný plán. Pod záminkou získání grantu se sama ujme režie a rozehrává se bláznivá\, svižná komedie plná vtipných dialogů\, nečekaných zvratů a hereckých nedorozumění.Skupina se pokouší nastudovat historickou hru o Janu Žižkovi – ovšem způsobem\, který má k tradičnímu výkladu dějin velmi osobitý vztah. V druhé polovině představení herci oblékají historické kostýmy a diváci se ocitají uprostřed bizarní a nadsazené podívané\, která s humorem a lehkou ironií klade otázku\, jak vznikají historické legendy a jak snadno se mohou proměnit v příběhy plné fantazie.Je pravda opravdu jen jedna?A kde končí historie a začíná divadelní hra?Jeptiška v latexu\, Žižka v kontextu je odvážná\, chytrá a velmi zábavná komedie\, která spojuje svižné tempo\, absurdní humor a nečekané situace – a dokazuje\, že i dějiny se dají vyprávět s nadhledem. \nO AUTOROVIVáclav Upír Krejčí patří mezi výrazné osobnosti české divadelní i televizní scény. Herec\, scenárista a režisér známý svým osobitým humorem\, smyslem pro nadsázku a schopností oslovit široké publikum napříč generacemi.Hru Jeptiška v latexu\, Žižka v kontextu napsal Václav Upír Krejčí přímo „na tělo“ souboru Divadlo Krvesaj. Díky svému laskavému vedení\, nadhledu a bohatým zkušenostem vznikla další výrazná komedie\, která staví na silných hereckých charakterech\, chytrých dialozích a radosti z divadla. \n  \n\nTento tip na kulturní akci v Heřmaničky najdete v přehledu na Dnesnivylet.cz spolu s dalšími koncerty\, festivaly a divadelními představeními.Každý si vybere co se mu líbí. Nezapomeňte koupit vstupenky včas\, stačí kliknout a budete přesměrování na oficiálního prodejce vstupenek.
URL:https://dnesnivylet.cz/event/jeptiska-v-latexu-zizka-v-kontextu-divadlo-krvesaj/
LOCATION:Háječek – letní parket\, Heřmaničky\, Háječek - letní parket\, Heřmaničky\, Česká republika
CATEGORIES:Divadlo
ATTACH;FMTTYPE=image/jpeg:https://dnesnivylet.cz/wp-content/uploads/2026/04/320-f710e1b237b44d53aa585bf60306388b.jpg
END:VEVENT
BEGIN:VEVENT
DTSTART;TZID=Europe/Prague:20260802T200000
DTEND;TZID=Europe/Prague:20260802T230000
DTSTAMP:20260420T014736
CREATED:20251026T075830Z
LAST-MODIFIED:20251026T075830Z
UID:10164-1785700800-1785711600@dnesnivylet.cz
SUMMARY:Techtle Mechtle revue - Premiéra nového představení
DESCRIPTION:Techtle Mechtle revue – Premiéra nového představení se uskuteční dne 2026-08-02 v 20:00 v Heřmaničky\, Háječek – letní parket. \n🎟️ Koupit vstupenku \n\nNejvětší česká travesti show Techtle Mechtle přiváží novou premiéru divadelní komedie \,\,Haló\, tady máma\,\, – do Heřmaniček! \nTechtle Mechtle revue je v současné době nejúspěšnější česká show na poli divadelní scény. V podání Techtle Mechtle se vždy jedná o propracované divadelní představení s výpravnou scénou a více jak 80-ti kostýmy. Všechna představení jsou jednou velkou komedií\, a to od začátku až do konce. Má to jen jeden háček – všechny role\, a to včetně těch dámských\, tu hrají pouze muži a ti jsou navíc k nerozeznání od skutečných žen. Pánové Lukáš\, Martin\, Nikolas a Jarek společně s tanečníky Štěpánem\, Sayem a Danem pro Vás tentokrát připravili další bláznivou komedii ….. \nVšechna představení jsou vlastní autorskou tvorbou pánů z Techtle Mechtle revue\, a to od scénáře\, přes dialogy\, hudbu\, návrhy scény i kostýmů. Nenechte si ujít strhující hudební představení v podání nejúspěšnějších českých travesti umělců a jejich tanečníků.  \n\nTento tip na kulturní akci v Heřmaničky najdete v přehledu na Dnesnivylet.cz spolu s dalšími koncerty\, festivaly a divadelními představeními.Každý si vybere co se mu líbí. Nezapomeňte koupit vstupenky včas\, stačí kliknout a budete přesměrování na oficiálního prodejce vstupenek.
URL:https://dnesnivylet.cz/event/techtle-mechtle-revue-premiera-noveho-predstaveni/
LOCATION:Háječek – letní parket\, Heřmaničky\, Háječek - letní parket\, Heřmaničky\, Česká republika
CATEGORIES:Koncert
ATTACH;FMTTYPE=image/jpeg:https://dnesnivylet.cz/wp-content/uploads/2025/10/320-ecb6ef8278294b3a80a25df20f62c400.jpg
END:VEVENT
BEGIN:VEVENT
DTSTART;TZID=Europe/Prague:20260802T200000
DTEND;TZID=Europe/Prague:20260802T230000
DTSTAMP:20260420T014736
CREATED:20260404T180425Z
LAST-MODIFIED:20260404T180426Z
UID:20091-1785700800-1785711600@dnesnivylet.cz
SUMMARY:Techtle Mechtle revue - Premiéra nového představení
DESCRIPTION:Techtle Mechtle revue – Premiéra nového představení se uskuteční dne 2026-08-02 v 20:00 v Heřmaničky\, Háječek – letní parket. \n🎟️ Koupit vstupenku \n\nNejvětší česká travesti show Techtle Mechtle přiváží novou premiéru divadelní komedie \,\,Haló\, tady máma\,\, – do Heřmaniček! \nPředstavení „Haló\, tady máma“ je bláznivá hudební komedie o tom\, co se stane\, když mateřská láska překročí všechny meze. \nDan oslavuje 31. narozeniny a rozhodne se představit své excentrické matce svou novou lásku – Terezku\, milou vegetariánku. Jenže tchýně z toho není nadšená a rozhodne se\, že Danovi a jeho nastávající ukáže\, jak se správně starat o jejího synáčka. Když se tchyně nastěhuje k mladému páru a začne jim „vylepšovat“ život\, začíná hotové peklo plné hudby\, smíchu a bláznivých situací.Diváci se mohou těšit na energický příběh plný nečekaných zvratů\, vtipných písniček a jedné velmi rozhodné mámy\, která (možná) nakonec zjistí\, že každý má právo žít po svém. Tahle komedie vám ukáže\, že rodina může být trochu bláznivá\, ale láska si nakonec najde cestu – a to vše s humorem a úsměvem na rtech. Poznáte se v tomhle šíleném příběhu i vy sami? \nTechtle Mechtle revue je v současné době nejúspěšnější česká show na poli divadelní scény. V podání Techtle Mechtle se vždy jedná o propracované divadelní představení s výpravnou scénou a více jak 80-ti kostýmy. Všechna představení jsou jednou velkou komedií\, a to od začátku až do konce. Má to jen jeden háček – všechny role\, a to včetně těch dámských\, tu hrají pouze muži a ti jsou navíc k nerozeznání od skutečných žen. Pánové Lukáš\, Martin\, Nikolas a Jarek společně s tanečníky Štěpánem\, Sayem a Danem pro Vás tentokrát připravili další bláznivou komedii ….. \nVšechna představení jsou vlastní autorskou tvorbou pánů z Techtle Mechtle revue\, a to od scénáře\, přes dialogy\, hudbu\, návrhy scény i kostýmů. Nenechte si ujít strhující hudební představení v podání nejúspěšnějších českých travesti umělců a jejich tanečníků.  \n\nTento tip na kulturní akci v Heřmaničky najdete v přehledu na Dnesnivylet.cz spolu s dalšími koncerty\, festivaly a divadelními představeními.Každý si vybere co se mu líbí. Nezapomeňte koupit vstupenky včas\, stačí kliknout a budete přesměrování na oficiálního prodejce vstupenek.
URL:https://dnesnivylet.cz/event/techtle-mechtle-revue-premiera-noveho-predstaveni-2/
LOCATION:Háječek – letní parket\, Heřmaničky\, Háječek - letní parket\, Heřmaničky\, Česká republika
CATEGORIES:Koncert
ATTACH;FMTTYPE=image/jpeg:https://dnesnivylet.cz/wp-content/uploads/2026/04/320-c70571cf0fe14783bf46c02b6d4be93f.jpg
END:VEVENT
BEGIN:VEVENT
DTSTART;TZID=Europe/Prague:20260825T190000
DTEND;TZID=Europe/Prague:20260825T220000
DTSTAMP:20260420T014736
CREATED:20260405T130444Z
LAST-MODIFIED:20260405T130444Z
UID:20233-1787684400-1787695200@dnesnivylet.cz
SUMMARY:Duchem proti své vůli
DESCRIPTION:Duchem proti své vůli se uskuteční dne 2026-08-25 v 19:00 v Velká Bystřice\, Amfiteátr. \n🎟️ Koupit vstupenku \n\nOpen-air představení.Hrají Jaromír Nosek\, Jakub Zindulka\, Ivana Jirešová a Dana Homolová. \nBylo úmrtí slavné herečky přirozené\, nebo to byla vražda?A straší její duch opravdu\, nebo jen nevěrnému manželovi straší „ve věži“?A přibude ještě další oběť?A bude zlo potrestáno\, jako v každé dobré pohádce? \nOdpovědi se dozvíte v nové\, tentokrát duchařské detektivní bláznivé komedii Fanny agentury − opět z pera Jakuba Zindulky. \n\nTento tip na kulturní akci v Velká Bystřice najdete v přehledu na Dnesnivylet.cz spolu s dalšími koncerty\, festivaly a divadelními představeními.Každý si vybere co se mu líbí. Nezapomeňte koupit vstupenky včas\, stačí kliknout a budete přesměrování na oficiálního prodejce vstupenek.
URL:https://dnesnivylet.cz/event/duchem-proti-sve-vuli-2/
LOCATION:Amfiteátr\, Velká Bystřice\, Amfiteátr\, Velká Bystřice\, Česká republika
CATEGORIES:Divadlo
ATTACH;FMTTYPE=image/jpeg:https://dnesnivylet.cz/wp-content/uploads/2026/04/320-a9b12e11774d432486623aee34ab30ae.jpg
END:VEVENT
BEGIN:VEVENT
DTSTART;TZID=Europe/Prague:20261016T190000
DTEND;TZID=Europe/Prague:20261016T220000
DTSTAMP:20260420T014736
CREATED:20251108T170911Z
LAST-MODIFIED:20251108T170913Z
UID:12948-1792177200-1792188000@dnesnivylet.cz
SUMMARY:Baťman - Divadlo Na Jezerce
DESCRIPTION:Baťman – Divadlo Na Jezerce se uskuteční dne 2026-10-16 v 19:00 v Zlín\, Malá scéna Zlín. \n🎟️ Koupit vstupenku \n\nScéna: Jan Balcar. Kostýmy: Hana Soukupová. Hudba: Václav Tobrman. Pohybová spolupráce: Martin Pacek. Režie: Petr Vacek. \n  \nDavid Suchařípa\, Ivo Šmoldas\, Miluše Šplechtová\, Jan Řezníček\, Martin Leták\, Ondřej Dvořák\, Johana Jedličková \n  \nAutorská inscenace o „ševci“\, který dobyl svět. Fenomén úspěchu a solidnosti. O životě a podnikatelském zdaru zakladatele obuvnického impéria. Jak zásady Tomáše Bati ovlivnily celý svět… \n \n\nTento tip na kulturní akci v Zlín najdete v přehledu na Dnesnivylet.cz spolu s dalšími koncerty\, festivaly a divadelními představeními.Každý si vybere co se mu líbí. Nezapomeňte koupit vstupenky včas\, stačí kliknout a budete přesměrování na oficiálního prodejce vstupenek.
URL:https://dnesnivylet.cz/event/batman-divadlo-na-jezerce/
LOCATION:Malá scéna Zlín\, Zlín\, Malá scéna Zlín\, Zlín\, Česká republika
CATEGORIES:Divadlo
ATTACH;FMTTYPE=image/jpeg:https://dnesnivylet.cz/wp-content/uploads/2025/11/320-edeeb0dfa16249bc90f533b4d0785d7b.jpg
END:VEVENT
BEGIN:VEVENT
DTSTART;TZID=Europe/Prague:20261017T190000
DTEND;TZID=Europe/Prague:20261017T220000
DTSTAMP:20260420T014736
CREATED:20251108T170913Z
LAST-MODIFIED:20251108T170914Z
UID:12951-1792263600-1792274400@dnesnivylet.cz
SUMMARY:Baťman - Divadlo Na Jezerce
DESCRIPTION:Baťman – Divadlo Na Jezerce se uskuteční dne 2026-10-17 v 19:00 v Zlín\, Malá scéna Zlín. \n🎟️ Koupit vstupenku \n\nScéna: Jan Balcar. Kostýmy: Hana Soukupová. Hudba: Václav Tobrman. Pohybová spolupráce: Martin Pacek. Režie: Petr Vacek. \n  \nDavid Suchařípa\, Ivo Šmoldas\, Miluše Šplechtová\, Jan Řezníček\, Martin Leták\, Ondřej Dvořák\, Johana Jedličková \n  \nAutorská inscenace o „ševci“\, který dobyl svět. Fenomén úspěchu a solidnosti. O životě a podnikatelském zdaru zakladatele obuvnického impéria. Jak zásady Tomáše Bati ovlivnily celý svět… \n\nTento tip na kulturní akci v Zlín najdete v přehledu na Dnesnivylet.cz spolu s dalšími koncerty\, festivaly a divadelními představeními.Každý si vybere co se mu líbí. Nezapomeňte koupit vstupenky včas\, stačí kliknout a budete přesměrování na oficiálního prodejce vstupenek.
URL:https://dnesnivylet.cz/event/batman-divadlo-na-jezerce-2/
LOCATION:Malá scéna Zlín\, Zlín\, Malá scéna Zlín\, Zlín\, Česká republika
CATEGORIES:Divadlo
ATTACH;FMTTYPE=image/jpeg:https://dnesnivylet.cz/wp-content/uploads/2025/11/320-af14a025fcaf468b92215ebe27ddbd02.jpg
END:VEVENT
BEGIN:VEVENT
DTSTART;TZID=Europe/Prague:20261104T190000
DTEND;TZID=Europe/Prague:20261104T220000
DTSTAMP:20260420T014736
CREATED:20260419T120857Z
LAST-MODIFIED:20260419T120857Z
UID:20715-1793818800-1793829600@dnesnivylet.cz
SUMMARY:Za dveřmi kanceláří
DESCRIPTION:Za dveřmi kanceláří se uskuteční dne 2026-11-04 v 19:00 v Bzenec\, Kulturní dům. \n🎟️ Koupit vstupenku \n\nHrají: Aleš Háma\, Tereza Kostková\, Václav Kopta\, Simona Vrbnická a Jiří Vojta \nHra slavného kanadského autora Norma Fostera jsou příběhy o „obyčejných lidech“ plné brilantních dialogů\, nemilosrdných faktů a překvapivých point. Celkem šest příběhů lidí různých profesí se odehrává v jednom městě a osudy jednotlivých hrdinů jsou navzájem propojeny. \nStárnoucí novinář\, který má dostat padáka. Slavný režisér\, jemuž došly nápady. Úspěšný právník a jeho dominantní matka. Příliš těžký žokej\, pod nímž umřel dostihový kůň\, nebo depresivní krasobruslař\, který na olympiádě sedmkrát spadl… „Jak dostat sebevražedného šílence z okenní římsy? Nechte ho skočit dolů!“ \nV této skvěle vystavěné komedii se řeší mezilidské vztahy v zaměstnání jako jsou vyhazovy\, přehnané ambice\, protekce\, syndromy vyhoření\, nevěry a další známé konflikty. \n\nTento tip na kulturní akci v Bzenec najdete v přehledu na Dnesnivylet.cz spolu s dalšími koncerty\, festivaly a divadelními představeními.Každý si vybere co se mu líbí. Nezapomeňte koupit vstupenky včas\, stačí kliknout a budete přesměrování na oficiálního prodejce vstupenek.
URL:https://dnesnivylet.cz/event/za-dvermi-kancelari-2/
LOCATION:Kulturní dům\, Bzenec\, Kulturní dům\, Bzenec\, Česká republika
CATEGORIES:Divadlo
ATTACH;FMTTYPE=image/jpeg:https://dnesnivylet.cz/wp-content/uploads/2026/04/320-3973712d77aa43d896706d5146fca336.jpg
END:VEVENT
BEGIN:VEVENT
DTSTART;TZID=Europe/Prague:20261216T190000
DTEND;TZID=Europe/Prague:20261216T220000
DTSTAMP:20260420T014736
CREATED:20251211T071039Z
LAST-MODIFIED:20251211T071039Z
UID:14759-1797447600-1797458400@dnesnivylet.cz
SUMMARY:Dva nahatý chlapi
DESCRIPTION:Dva nahatý chlapi se uskuteční dne 2026-12-16 v 19:00 v Dolní Benešov\, Kulturní dům Dolní Benešov. \n🎟️ Koupit vstupenku \n\nautor: Sébastien Thiéryrežie: Antonín Procházkaprodukce: JT Promotion \nhrají: Martin Zounar\, Martin Kraus\, Martina Randová\, Daniela Šinkorová nebo Michaela Dittrichová \nBláznivá komedie kontroverzního francouzského autora. Seriozní advokát\, věrný manžel a otec dvou dětí\, se jednoho dne probudí nahý v posteli se svým kolegou z práce. Ani jeden netuší jak se do této situace dostali\, manželka jednoho z nich však vymyslí způsob\, jak zjistit pravdu. Ale ta je\, jak se nakonec ukáže skutečné pravdě hodně vzdálená. \n\nTento tip na kulturní akci v Dolní Benešov najdete v přehledu na Dnesnivylet.cz spolu s dalšími koncerty\, festivaly a divadelními představeními.Každý si vybere co se mu líbí. Nezapomeňte koupit vstupenky včas\, stačí kliknout a budete přesměrování na oficiálního prodejce vstupenek.
URL:https://dnesnivylet.cz/event/dva-nahaty-chlapi/
LOCATION:Kulturní dům Dolní Benešov\, Dolní Benešov\, Kulturní dům Dolní Benešov\, Dolní Benešov\, Česká republika
CATEGORIES:Divadlo
ATTACH;FMTTYPE=image/jpeg:https://dnesnivylet.cz/wp-content/uploads/2025/12/320-9cfa52c819ef4b589b8e0bf993f79a0e.jpg
END:VEVENT
END:VCALENDAR