BEGIN:VCALENDAR
VERSION:2.0
PRODID:-//www.dnesnivylet.cz                                                                                                                        Tip na výlet pro celou rodinu. - ECPv6.15.13.1//NONSGML v1.0//EN
CALSCALE:GREGORIAN
METHOD:PUBLISH
X-WR-CALNAME:www.dnesnivylet.cz                                                                                                                        Tip na výlet pro celou rodinu.
X-ORIGINAL-URL:https://dnesnivylet.cz
X-WR-CALDESC:Akce na www.dnesnivylet.cz                                                                                                                        Tip na výlet pro celou rodinu.
REFRESH-INTERVAL;VALUE=DURATION:PT1H
X-Robots-Tag:noindex
X-PUBLISHED-TTL:PT1H
BEGIN:VTIMEZONE
TZID:Europe/Prague
BEGIN:DAYLIGHT
TZOFFSETFROM:+0100
TZOFFSETTO:+0200
TZNAME:CEST
DTSTART:20250330T010000
END:DAYLIGHT
BEGIN:STANDARD
TZOFFSETFROM:+0200
TZOFFSETTO:+0100
TZNAME:CET
DTSTART:20251026T010000
END:STANDARD
BEGIN:DAYLIGHT
TZOFFSETFROM:+0100
TZOFFSETTO:+0200
TZNAME:CEST
DTSTART:20260329T010000
END:DAYLIGHT
BEGIN:STANDARD
TZOFFSETFROM:+0200
TZOFFSETTO:+0100
TZNAME:CET
DTSTART:20261025T010000
END:STANDARD
BEGIN:DAYLIGHT
TZOFFSETFROM:+0100
TZOFFSETTO:+0200
TZNAME:CEST
DTSTART:20270328T010000
END:DAYLIGHT
BEGIN:STANDARD
TZOFFSETFROM:+0200
TZOFFSETTO:+0100
TZNAME:CET
DTSTART:20271031T010000
END:STANDARD
END:VTIMEZONE
BEGIN:VEVENT
DTSTART;TZID=Europe/Prague:20260605T180000
DTEND;TZID=Europe/Prague:20260605T210000
DTSTAMP:20260419T171830
CREATED:20251215T161845Z
LAST-MODIFIED:20251215T161845Z
UID:15646-1780682400-1780693200@dnesnivylet.cz
SUMMARY:Něco jako Punk do Police
DESCRIPTION:Něco jako Punk do Police se uskuteční dne 2026-06-05 v 18:00 v Police\, Zámek Police. \n🎟️ Koupit vstupenku \n\nAno\, je to tak. Něco se chystá\, něco se peče\, „Něco jako Punk do Police“ vážení a milí. Ano\, v Polici u Jemnice v zámecké galerii. První Punk do Police se konal v roce 2004 a „poslední“\, pátý ročník v roce 2008. A Teď začínáme něco zcela nového\, něco jiného. Punk šmrncnutý všemi dalšími hudebními (a nepopulárními) žánry poskvrněný. Bude to vymazlené a duši punku to mít rozhodně bude. Proto taky „Něco jako Punk do Police“. Mecenášem a garantem kvality je Miloš Prkna\, který stál u vzniku legendárního fesťáku v Polici a dramaturgem se vší skromností Viktor Piler. Podrobnosti Vám budeme brzy postupně servírovat\, ale nejdůležitější je šíření undergroundem. Sdílejte tedy\, prosím\, informaci s námi a to nejen v Matrixu\, ale i pěkně po staru. Zvěte Vaše známé a příbuzné doma\, na ulici\, v práci i u doktora nebo u Vaší oblíbené kadeřnice. Punk do Police je mrtev\, ať žije Něco jako Punk do Police !!  \n\nTento tip na kulturní akci v Police najdete v přehledu na Dnesnivylet.cz spolu s dalšími koncerty\, festivaly a divadelními představeními.Každý si vybere co se mu líbí. Nezapomeňte koupit vstupenky včas\, stačí kliknout a budete přesměrování na oficiálního prodejce vstupenek.
URL:https://dnesnivylet.cz/event/neco-jako-punk-do-police/
LOCATION:Zámek Police\, Police\, Zámek Police\, Police\, Česká republika
CATEGORIES:Festival
ATTACH;FMTTYPE=image/jpeg:https://dnesnivylet.cz/wp-content/uploads/2025/12/320-c12c4a37ddce4eaaa14f861ea098cb0c.jpg
END:VEVENT
BEGIN:VEVENT
DTSTART;TZID=Europe/Prague:20260612T160000
DTEND;TZID=Europe/Prague:20260612T190000
DTSTAMP:20260419T171830
CREATED:20251212T190055Z
LAST-MODIFIED:20251212T190055Z
UID:15018-1781280000-1781290800@dnesnivylet.cz
SUMMARY:Retro Dance Party
DESCRIPTION:Retro Dance Party se uskuteční dne 2026-06-12 v 16:00 v Tábor\, MIMI Kafe. \n🎟️ Koupit vstupenku \n\nPřijďte si užít druhou retro party v Táboře!  \nTěšit se můžete na skvělého DJ Jirku Ježka z Hitrádia Faktor\, který se představí se svou vinyl show a provede tak celým odpolednem/večerem. Vystupující druhého ročníku retro party v Táboře budou Petr Kotvald a kapela Verona! \nJídlo a pití na místě je samozřejmostí! \nVstup do 12 let zdarma. \nZTP – zdarma + 1 doprovod \n\nTento tip na kulturní akci v Tábor najdete v přehledu na Dnesnivylet.cz spolu s dalšími koncerty\, festivaly a divadelními představeními.Každý si vybere co se mu líbí. Nezapomeňte koupit vstupenky včas\, stačí kliknout a budete přesměrování na oficiálního prodejce vstupenek.
URL:https://dnesnivylet.cz/event/retro-dance-party-6/
LOCATION:MIMI Kafe\, Tábor\, MIMI Kafe\, Tábor\, Česká republika
CATEGORIES:Koncert
ATTACH;FMTTYPE=image/jpeg:https://dnesnivylet.cz/wp-content/uploads/2025/12/320-3c83abc279754f26a2eac0a808cee925.jpg
END:VEVENT
END:VCALENDAR