BEGIN:VCALENDAR
VERSION:2.0
PRODID:-//www.dnesnivylet.cz                                                                                                                        Tip na výlet pro celou rodinu. - ECPv6.15.13.1//NONSGML v1.0//EN
CALSCALE:GREGORIAN
METHOD:PUBLISH
X-ORIGINAL-URL:https://dnesnivylet.cz
X-WR-CALDESC:Akce na www.dnesnivylet.cz                                                                                                                        Tip na výlet pro celou rodinu.
REFRESH-INTERVAL;VALUE=DURATION:PT1H
X-Robots-Tag:noindex
X-PUBLISHED-TTL:PT1H
BEGIN:VTIMEZONE
TZID:Europe/Prague
BEGIN:DAYLIGHT
TZOFFSETFROM:+0100
TZOFFSETTO:+0200
TZNAME:CEST
DTSTART:20250330T010000
END:DAYLIGHT
BEGIN:STANDARD
TZOFFSETFROM:+0200
TZOFFSETTO:+0100
TZNAME:CET
DTSTART:20251026T010000
END:STANDARD
BEGIN:DAYLIGHT
TZOFFSETFROM:+0100
TZOFFSETTO:+0200
TZNAME:CEST
DTSTART:20260329T010000
END:DAYLIGHT
BEGIN:STANDARD
TZOFFSETFROM:+0200
TZOFFSETTO:+0100
TZNAME:CET
DTSTART:20261025T010000
END:STANDARD
BEGIN:DAYLIGHT
TZOFFSETFROM:+0100
TZOFFSETTO:+0200
TZNAME:CEST
DTSTART:20270328T010000
END:DAYLIGHT
BEGIN:STANDARD
TZOFFSETFROM:+0200
TZOFFSETTO:+0100
TZNAME:CET
DTSTART:20271031T010000
END:STANDARD
END:VTIMEZONE
BEGIN:VEVENT
DTSTART;TZID=Europe/Prague:20260417T200000
DTEND;TZID=Europe/Prague:20260417T230000
DTSTAMP:20260419T155836
CREATED:20260105T203255Z
LAST-MODIFIED:20260105T203255Z
UID:16333-1776456000-1776466800@dnesnivylet.cz
SUMMARY:Verona & DJ Lowa
DESCRIPTION:Verona & DJ Lowa se uskuteční dne 2026-04-17 v 20:00 v Dolní Benešov\, Kulturní dům Dolní Benešov. \n🎟️ Koupit vstupenku \n\nCelovečerní zábava\, kterou rozproudí ve  20:00 DJ LOWA! \nS největšími hity vystoupí v průběhu večera\, hodinovým koncertem\,  skupina VERONA!!! \nA ta Vás nenechá sedět na židli. Zazní největší hity jako: \nNa mě nečekej\, Náhodou\, Ztracená Bloudím\, Nejsi Sám\, Hey Boy\, Jen Tobě\, Girotondo\, Dáma a spousta dalších..    \nBary potečnou proudem\, těšit se můžete na míchané drinky a dobré víno! smaozřejmě pivo poteče proudem a vaše střevíce protančíte!    \nDoma jen nahlas: Na mě nečekej\, já přijdu až ráno! \n  \nZábava končí ve 2:00. \n\nTento tip na kulturní akci v Dolní Benešov najdete v přehledu na Dnesnivylet.cz spolu s dalšími koncerty\, festivaly a divadelními představeními.Každý si vybere co se mu líbí. Nezapomeňte koupit vstupenky včas\, stačí kliknout a budete přesměrování na oficiálního prodejce vstupenek.
URL:https://dnesnivylet.cz/event/verona-dj-lowa/
LOCATION:Kulturní dům Dolní Benešov\, Dolní Benešov\, Kulturní dům Dolní Benešov\, Dolní Benešov\, Česká republika
CATEGORIES:Koncert
ATTACH;FMTTYPE=image/jpeg:https://dnesnivylet.cz/wp-content/uploads/2026/01/320-a4dadc23c22e45c4a7f030007294a09d.jpg
END:VEVENT
END:VCALENDAR