BEGIN:VCALENDAR
VERSION:2.0
PRODID:-//www.dnesnivylet.cz                                                                                                                        Tip na výlet pro celou rodinu. - ECPv6.15.13.1//NONSGML v1.0//EN
CALSCALE:GREGORIAN
METHOD:PUBLISH
X-WR-CALNAME:www.dnesnivylet.cz                                                                                                                        Tip na výlet pro celou rodinu.
X-ORIGINAL-URL:https://dnesnivylet.cz
X-WR-CALDESC:Akce na www.dnesnivylet.cz                                                                                                                        Tip na výlet pro celou rodinu.
REFRESH-INTERVAL;VALUE=DURATION:PT1H
X-Robots-Tag:noindex
X-PUBLISHED-TTL:PT1H
BEGIN:VTIMEZONE
TZID:Europe/Prague
BEGIN:DAYLIGHT
TZOFFSETFROM:+0100
TZOFFSETTO:+0200
TZNAME:CEST
DTSTART:20250330T010000
END:DAYLIGHT
BEGIN:STANDARD
TZOFFSETFROM:+0200
TZOFFSETTO:+0100
TZNAME:CET
DTSTART:20251026T010000
END:STANDARD
BEGIN:DAYLIGHT
TZOFFSETFROM:+0100
TZOFFSETTO:+0200
TZNAME:CEST
DTSTART:20260329T010000
END:DAYLIGHT
BEGIN:STANDARD
TZOFFSETFROM:+0200
TZOFFSETTO:+0100
TZNAME:CET
DTSTART:20261025T010000
END:STANDARD
BEGIN:DAYLIGHT
TZOFFSETFROM:+0100
TZOFFSETTO:+0200
TZNAME:CEST
DTSTART:20270328T010000
END:DAYLIGHT
BEGIN:STANDARD
TZOFFSETFROM:+0200
TZOFFSETTO:+0100
TZNAME:CET
DTSTART:20271031T010000
END:STANDARD
END:VTIMEZONE
BEGIN:VEVENT
DTSTART;TZID=Europe/Prague:20260321T100000
DTEND;TZID=Europe/Prague:20260321T130000
DTSTAMP:20260420T014126
CREATED:20251129T055120Z
LAST-MODIFIED:20251129T055120Z
UID:13946-1774087200-1774098000@dnesnivylet.cz
SUMMARY:Pohádkovaná aneb pohádky pro děti v Horké vaně
DESCRIPTION:Pohádkovaná aneb pohádky pro děti v Horké vaně se uskuteční dne 2026-03-21 v 10:00 v České Budějovice\, Horká Vana. \n🎟️ Koupit vstupenku \n\nPohádkovaná – pohádky pro děti v Horké vaně 2025/2026 \nPohádkovaná v Horké vaně je už tradicí!Letos již po 7 jsme pro vás připravili rekordních 20 pohádek – každou sobotu dopoledne od října do března. \nPohádky jsou určeny dětem ve věku 2–12 let\, ale často pobaví rodiče i prarodiče.A zatímco děti sledují princezny\, čerty a vodníky\, vy si můžete vychutnat kávu ve vedlejší Horké vaně. \n\nZačátek představení: 10:00\nVstup do sálu: od 9:30\nDélka představení: cca 45–50 minut\nMísto: Horká vana\, Česká 222/7\, České Budějovice\nKapacita sálu je omezená!\nRezervace: jen zakoupením vstupenky v předprodeji (doporučujeme).\nCena:\n\npředprodej 90 Kč\nna místě 100 Kč (pouze pokud zůstane volná kapacita)\n\n\nSezení je volné – kdo dřív přijde\, ten dřív sedí.\nParkování: o víkendu zdarma na Parkovišti Mariánské náměstí i na zónách CBT1 a CBT2.\n\n  \nProgram – JARO 2026 \n10.01. – Čaroděj a pyšná princezna – Téměř divadelní společnost17.01. – Pohádky z kufru – Marediv24.01. – O ševci Kubovi – Divadýlko Mrak31.01. – Šípková Růženka – Studio dell’arte07.02. – Otesánek – Já to jsem14.02. – Moudrý rádce – Divadlo Studna21.02. – Vodnická škola – Rybníkáři28.02. – Matěj a čerti – Lokvar07.03. – Kouzelný zvoneček – Divoloď14.03. – Pirátská pohádka – Kubko \n21.03. – Makový mužíček – Divadlo Dokola \n  \nStaňte se členem FB skupiny Pohádkovaná – a žádná pohádka vám už neuteče! \n\nTento tip na kulturní akci v České Budějovice najdete v přehledu na Dnesnivylet.cz spolu s dalšími koncerty\, festivaly a divadelními představeními.Každý si vybere co se mu líbí. Nezapomeňte koupit vstupenky včas\, stačí kliknout a budete přesměrování na oficiálního prodejce vstupenek.
URL:https://dnesnivylet.cz/event/pohadkovana-aneb-pohadky-pro-deti-v-horke-vane-15/
LOCATION:Horká Vana\, České Budějovice\, Horká Vana\, České Budějovice\, Česká republika
CATEGORIES:Divadlo
ATTACH;FMTTYPE=image/jpeg:https://dnesnivylet.cz/wp-content/uploads/2025/11/320-d39364788dca4c4c8fbaf4ee70b56449.jpg
END:VEVENT
BEGIN:VEVENT
DTSTART;TZID=Europe/Prague:20260321T170000
DTEND;TZID=Europe/Prague:20260321T200000
DTSTAMP:20260420T014126
CREATED:20251123T102337Z
LAST-MODIFIED:20251123T102337Z
UID:13744-1774112400-1774123200@dnesnivylet.cz
SUMMARY:KNIHA DŽUNGLÍ - Kopřivnice
DESCRIPTION:KNIHA DŽUNGLÍ – Kopřivnice se uskuteční dne 2026-03-21 v 17:00 v Kopřivnice\, Kulturní dům. \n🎟️ Koupit vstupenku \n\nMuzikál KNIHA DŽUNGLÍ – největší rodinný zážitek roku 2026! \nOd ledna 2026 přichází do 55 měst po celé České republice překvapení pro celou rodinu! Novinka od producentů rodinných muzikálů\, jako je Popelka\, Alenka v říši divů či Vánoční loupež. \nČeká vás příběh plný emocí\, hudby\, smíchu i napětí – a to přímo ve vašem městě! \nSeznámíte se s odvážným Mauglím\, moudrým vlčím vůdcem Akélou\, ušlechtilým a statečným panterem Baghírou\, rozverným medvědem Balúem\, jehož kostým je jediný svého druhu v Evropě! Velkolepý dojem zanechá také obrovský král opic – gorila Ludvík v unikátním kostýmu. \nObrovským lákadlem je jedinečný kostým Hada KAA\, jaký jste ještě nikdy neviděli! \nO napětí se postará nelítostný tygr Šerchán\, jeho komicko-zákeřný společník hyena Tabaki\, a atmosféru odlehčí i vtipný a upovídaný papoušek a další známá zvířata. \n Spolu s projekcemi a dechberoucími vizuálními efekty se ocitnete přímo uprostřed kouzelné džungle. \nDěti se stanou součástí představení – pomohou Mauglímu zahnat Šerchána nebo najít med pro medvěda Balů\,  a společně s herci dotvářet kouzelný příběh. \nInteraktivní část vás vtáhne do děje – zvířata z džungle se objeví nejen na jevišti\, ale i mezi dětmi v hledišti\, aby si každý mohl zažít pocit\, že je součástí příběhu. \nSpeciální bonus: Každé dítě dostane ke vstupence zvířecí masku dle vlastního výběru.A po představení čeká malé diváky jedinečná možnost vyfotit se přímo na jevišti s herci v kostýmech! \n  \nTip na vánoční dárek!Darujte svým dětem a celé rodině nezapomenutelný zážitek – vstupenky na muzikál\, o kterém se bude mluvit ještě dlouho. \nToto není jen muzikál. Je to největší zážitek u vás doma\, ve vašem městě! \nPředprodej vstupenek spuštěn právě teď – kapacita je omezená.Kupte si vstupenky v síti smsticket a buďte u muzikálové události roku 2026! \n\nTento tip na kulturní akci v Kopřivnice najdete v přehledu na Dnesnivylet.cz spolu s dalšími koncerty\, festivaly a divadelními představeními.Každý si vybere co se mu líbí. Nezapomeňte koupit vstupenky včas\, stačí kliknout a budete přesměrování na oficiálního prodejce vstupenek.
URL:https://dnesnivylet.cz/event/kniha-dzungli-koprivnice/
LOCATION:Kulturní dům\, Kopřivnice\, Kulturní dům\, Kopřivnice\, Česká republika
CATEGORIES:Divadlo
ATTACH;FMTTYPE=image/jpeg:https://dnesnivylet.cz/wp-content/uploads/2025/11/320-37762b86a71c40e59ae51ea1c1d08d5b.jpg
END:VEVENT
BEGIN:VEVENT
DTSTART;TZID=Europe/Prague:20260321T183000
DTEND;TZID=Europe/Prague:20260321T213000
DTSTAMP:20260420T014126
CREATED:20260208T143846Z
LAST-MODIFIED:20260208T143846Z
UID:17533-1774117800-1774128600@dnesnivylet.cz
SUMMARY:Kabaret Punklesque - Open Stage č. 11
DESCRIPTION:Kabaret Punklesque – Open Stage č. 11 se uskuteční dne 2026-03-21 v 18:30 v Praha\, Divadlo Troníček. \n🎟️ Koupit vstupenku \n\nOPEN STAGE Kabaretu Punklesque\, číslo 11. Je nám ctí vidět na jednom pódiu známé i neznámé burlesky i drag queens\, hudebnice i hudebníky\, tanečnice i tanečníky\, performery i performerky\, umělce a umělkyně. Těší nás\, že můžeme vytvořit zázemí tolika tvářím uměleckého světa. Tentokrát je tedy pódium vaše a naším úkolem je se o vás postarat. \n  \nINFORMACE PRO VYSTUPUJÍCÍ: \nPřihlašování na Open Stage bude spuštěno ve středu 18. 2. 2026 ve 12:00\, přihlásit se je možné zasláním emailu na kabaret@punklesque.com \n  \nVidíme se v Divadle Troníček\, dveře se otevřou v 18:30\, show začne v 19:30. \n\nTento tip na kulturní akci v Praha najdete v přehledu na Dnesnivylet.cz spolu s dalšími koncerty\, festivaly a divadelními představeními.Každý si vybere co se mu líbí. Nezapomeňte koupit vstupenky včas\, stačí kliknout a budete přesměrování na oficiálního prodejce vstupenek.
URL:https://dnesnivylet.cz/event/kabaret-punklesque-open-stage-c-11/
LOCATION:Divadlo Troníček\, Praha\, Divadlo Troníček\, Praha\, Česká republika
CATEGORIES:Divadlo
ATTACH;FMTTYPE=image/jpeg:https://dnesnivylet.cz/wp-content/uploads/2026/02/320-bc161bdef0f54a9d99084799f06094f6.jpg
END:VEVENT
BEGIN:VEVENT
DTSTART;TZID=Europe/Prague:20260321T190000
DTEND;TZID=Europe/Prague:20260321T220000
DTSTAMP:20260420T014126
CREATED:20251211T054139Z
LAST-MODIFIED:20251211T054139Z
UID:14674-1774119600-1774130400@dnesnivylet.cz
SUMMARY:Mě nezadusíš
DESCRIPTION:Mě nezadusíš se uskuteční dne 2026-03-21 v 19:00 v Blansko\, Dělnický dům. \n🎟️ Koupit vstupenku \n\nOsvobozující komedie o životě\, na který může někdo nahlížet i tragicky. \nVždy záleží na úhlu pohledu. Mezi nebem a zemí se může totiž odehrávat karneval života plný snů a lásky\, anebo také ne. Není snadné se rozhodovat mezi citem a rozumem. No a někdy je prostě lepší se všemu od srdce a s lehkostí zasmát. \nHrají:Tereza Třetí: Eva HolubováBáječný muž Josef: Petr ČtvrtníčekTereza Jednička: Karolína HolubováTereza Druhá: Tereza GübelováRadek\, Jan\, Tomáš: Matěj Paprčiak \nAutorka: Michaela GübelováRežie: Eva Holubová \nObvyklá délka představení je 115 minut včetně přestávky. \n\nTento tip na kulturní akci v Blansko najdete v přehledu na Dnesnivylet.cz spolu s dalšími koncerty\, festivaly a divadelními představeními.Každý si vybere co se mu líbí. Nezapomeňte koupit vstupenky včas\, stačí kliknout a budete přesměrování na oficiálního prodejce vstupenek.
URL:https://dnesnivylet.cz/event/me-nezadusis/
LOCATION:Dělnický dům\, Blansko\, Dělnický dům\, Blansko\, Česká republika
CATEGORIES:Divadlo
ATTACH;FMTTYPE=image/jpeg:https://dnesnivylet.cz/wp-content/uploads/2025/12/320-4766d45431c04e09b70813b040b5aa3e.jpg
END:VEVENT
END:VCALENDAR