BEGIN:VCALENDAR
VERSION:2.0
PRODID:-//www.dnesnivylet.cz                                                                                                                        Tip na výlet pro celou rodinu. - ECPv6.15.13.1//NONSGML v1.0//EN
CALSCALE:GREGORIAN
METHOD:PUBLISH
X-WR-CALNAME:www.dnesnivylet.cz                                                                                                                        Tip na výlet pro celou rodinu.
X-ORIGINAL-URL:https://dnesnivylet.cz
X-WR-CALDESC:Akce na www.dnesnivylet.cz                                                                                                                        Tip na výlet pro celou rodinu.
REFRESH-INTERVAL;VALUE=DURATION:PT1H
X-Robots-Tag:noindex
X-PUBLISHED-TTL:PT1H
BEGIN:VTIMEZONE
TZID:Europe/Prague
BEGIN:DAYLIGHT
TZOFFSETFROM:+0100
TZOFFSETTO:+0200
TZNAME:CEST
DTSTART:20250330T010000
END:DAYLIGHT
BEGIN:STANDARD
TZOFFSETFROM:+0200
TZOFFSETTO:+0100
TZNAME:CET
DTSTART:20251026T010000
END:STANDARD
BEGIN:DAYLIGHT
TZOFFSETFROM:+0100
TZOFFSETTO:+0200
TZNAME:CEST
DTSTART:20260329T010000
END:DAYLIGHT
BEGIN:STANDARD
TZOFFSETFROM:+0200
TZOFFSETTO:+0100
TZNAME:CET
DTSTART:20261025T010000
END:STANDARD
BEGIN:DAYLIGHT
TZOFFSETFROM:+0100
TZOFFSETTO:+0200
TZNAME:CEST
DTSTART:20270328T010000
END:DAYLIGHT
BEGIN:STANDARD
TZOFFSETFROM:+0200
TZOFFSETTO:+0100
TZNAME:CET
DTSTART:20271031T010000
END:STANDARD
END:VTIMEZONE
BEGIN:VEVENT
DTSTART;TZID=Europe/Prague:20260327T170000
DTEND;TZID=Europe/Prague:20260327T200000
DTSTAMP:20260419T211908
CREATED:20251123T094118Z
LAST-MODIFIED:20251123T094118Z
UID:13712-1774630800-1774641600@dnesnivylet.cz
SUMMARY:KNIHA DŽUNGLÍ - Žďár nad Sázavou
DESCRIPTION:KNIHA DŽUNGLÍ – Žďár nad Sázavou se uskuteční dne 2026-03-27 v 17:00 v Žďár nad Sázavou\, Městské divadlo. \n🎟️ Koupit vstupenku \n\nMuzikál KNIHA DŽUNGLÍ – největší rodinný zážitek roku 2026! \nOd ledna 2026 přichází do 55 měst po celé České republice překvapení pro celou rodinu! Novinka od producentů rodinných muzikálů\, jako je Popelka\, Alenka v říši divů či Vánoční loupež. \nČeká vás příběh plný emocí\, hudby\, smíchu i napětí – a to přímo ve vašem městě! \nSeznámíte se s odvážným Mauglím\, moudrým vlčím vůdcem Akélou\, ušlechtilým a statečným panterem Baghírou\, rozverným medvědem Balúem\, jehož kostým je jediný svého druhu v Evropě! Velkolepý dojem zanechá také obrovský král opic – gorila Ludvík v unikátním kostýmu. \nObrovským lákadlem je jedinečný kostým Hada KAA\, jaký jste ještě nikdy neviděli! \nO napětí se postará nelítostný tygr Šerchán\, jeho komicko-zákeřný společník hyena Tabaki\, a atmosféru odlehčí i vtipný a upovídaný papoušek a další známá zvířata. \n Spolu s projekcemi a dechberoucími vizuálními efekty se ocitnete přímo uprostřed kouzelné džungle. \nDěti se stanou součástí představení – pomohou Mauglímu zahnat Šerchána nebo najít med pro medvěda Balů\,  a společně s herci dotvářet kouzelný příběh. \nInteraktivní část vás vtáhne do děje – zvířata z džungle se objeví nejen na jevišti\, ale i mezi dětmi v hledišti\, aby si každý mohl zažít pocit\, že je součástí příběhu. \nSpeciální bonus: Každé dítě dostane ke vstupence zvířecí masku dle vlastního výběru.A po představení čeká malé diváky jedinečná možnost vyfotit se přímo na jevišti s herci v kostýmech! \n  \nTip na vánoční dárek!Darujte svým dětem a celé rodině nezapomenutelný zážitek – vstupenky na muzikál\, o kterém se bude mluvit ještě dlouho. \nToto není jen muzikál. Je to největší zážitek u vás doma\, ve vašem městě! \nPředprodej vstupenek spuštěn právě teď – kapacita je omezená.Kupte si vstupenky v síti smsticket a buďte u muzikálové události roku 2026! \n\nTento tip na kulturní akci v Žďár nad Sázavou najdete v přehledu na Dnesnivylet.cz spolu s dalšími koncerty\, festivaly a divadelními představeními.Každý si vybere co se mu líbí. Nezapomeňte koupit vstupenky včas\, stačí kliknout a budete přesměrování na oficiálního prodejce vstupenek.
URL:https://dnesnivylet.cz/event/kniha-dzungli-zdar-nad-sazavou/
LOCATION:Městské divadlo\, Žďár nad Sázavou\, Městské divadlo\, Žďár nad Sázavou\, Česká republika
CATEGORIES:Divadlo
ATTACH;FMTTYPE=image/jpeg:https://dnesnivylet.cz/wp-content/uploads/2025/11/320-c25068403b724cb095028b862ec4a52f.jpg
END:VEVENT
BEGIN:VEVENT
DTSTART;TZID=Europe/Prague:20260327T190000
DTEND;TZID=Europe/Prague:20260327T220000
DTSTAMP:20260419T211908
CREATED:20260208T143514Z
LAST-MODIFIED:20260208T143514Z
UID:17490-1774638000-1774648800@dnesnivylet.cz
SUMMARY:Tak to jsme ještě neviděli\, Marie
DESCRIPTION:Tak to jsme ještě neviděli\, Marie  se uskuteční dne 2026-03-27 v 19:00 v Bludov\, Kulturní dům. \n🎟️ Koupit vstupenku \n\nOriginální divadelní revue ze světa showbusinessu.  \nV hlavních postavách: Lukáš Langmajer\, Libor Jeník\, Lucia Jagerčíková Nývltová v alternaci s Michaelou Zemánkovou \n  \n\nTento tip na kulturní akci v Bludov najdete v přehledu na Dnesnivylet.cz spolu s dalšími koncerty\, festivaly a divadelními představeními.Každý si vybere co se mu líbí. Nezapomeňte koupit vstupenky včas\, stačí kliknout a budete přesměrování na oficiálního prodejce vstupenek.
URL:https://dnesnivylet.cz/event/tak-to-jsme-jeste-nevideli-marie-4/
LOCATION:Kulturní dům\, Bludov\, Kulturní dům\, Bludov\, Česká republika
CATEGORIES:Divadlo
ATTACH;FMTTYPE=image/jpeg:https://dnesnivylet.cz/wp-content/uploads/2026/02/320-5ff1315994ae4e86ae6bf2b2859cb761.jpg
END:VEVENT
BEGIN:VEVENT
DTSTART;TZID=Europe/Prague:20260327T193000
DTEND;TZID=Europe/Prague:20260327T223000
DTSTAMP:20260419T211908
CREATED:20260306T172718Z
LAST-MODIFIED:20260306T172718Z
UID:19081-1774639800-1774650600@dnesnivylet.cz
SUMMARY:Honzlův Humpolec - Skandál v Čechách
DESCRIPTION:Honzlův Humpolec – Skandál v Čechách se uskuteční dne 2026-03-27 v 19:30 v Humpolec\, Kino. \n🎟️ Koupit vstupenku \n\nDivadelní soubor NaKop Tyjátr Jihlava \nOsoby a obsazení \nPavel Štěpán – Sherlock HolmesPavla Živná – Irena Adlerová Martin Kacafírek – Dr. John WatsonLudmila Musilová – královna ViktorieKvěta Přibylová – Paní Hudsonová\, ošetřovatelkaLibor Kabelka – český král\, ceremoniář\, agent 1\, vágus 1\, právník\, revizor Petr Kočka – Dr. Roylott\, vágus 2\, agent 2Tereza Vejmělková – Helena Stonerová\, kolportérLucie Matulová – Julie Stonerová\, prostitutka 1 a 2\, Marry Watsonová\, prodavačka květinTomáš Plesinger – Dorian Gray\, Norton\, strážník\, Jack Rozparovač \n  \nNatálie Schreková – choreografieJan Vejmělek – zvuk a světlaPetr Kopl – režie \n  \nPředloha předlohy – sir Arthur Conan Doyle                                  dvě povídky – Skandál v Čechách a Strakatý pásPředloha – Petr kopl: Victoria Regina – Skandál v ČecháchScénář – Petr Kopl   \n  \nAnotace \nDivadelní představení na motivy povídek sira Arthura Conana Doyla\, autora krále všech detektivů Sherlocka Holmese. Málokdo ví\, že úplně první povídka\, kde se slavný vyšetřovatel objevil\, nesla jméno Skandál v Čechách (A Scandal in Bohemia). Děj se sice odehrál v Londýně\, ale týkal se smyšleného českého krále. Také se málo ví\, že Sherlock byl sice geniální\, ale ne tolik\, aby neselhal. Pravda je\, že se to nestalo mockrát\, ale občas ano. Jako v tomto případě\, kdy trestuhodně podcenil ženskou sílu\, rafinovanost a inteligenci. Z původních povídek se o Holmesovi nedovíme\, zda se kdy zamiloval. Jestli tomu ale byl někdy blízko\, bylo to právě s Irenou. Ta pro něj zůstala navždy Ženou všech žen. Holmesovo selhání snad omlouvá to\, že se zmíněným skandálem\, který považoval téměř pod důstojnost jeho deduktivního umění\, řešil současně ještě jeden případ. Mnohem temnější s až hororovou zápletkou . Staneme se tak svědky\, jak si poradí s šílencem\, který je kvůli penězům schopný čehokoli. Holmes se bude muset utkat nejenom s mužem ohromné síly\, ale i s divou zvěří. Představení secvičil divadelní soubor s 25letou tradicí NaKop Tyjátr Jihlava  \n  \nDélka představení: 90 minut bez přestávkyVhodné od 9 let. \n\nTento tip na kulturní akci v Humpolec najdete v přehledu na Dnesnivylet.cz spolu s dalšími koncerty\, festivaly a divadelními představeními.Každý si vybere co se mu líbí. Nezapomeňte koupit vstupenky včas\, stačí kliknout a budete přesměrování na oficiálního prodejce vstupenek.
URL:https://dnesnivylet.cz/event/honzluv-humpolec-skandal-v-cechach/
LOCATION:Kino\, Humpolec\, Kino\, Humpolec\, Česká republika
CATEGORIES:Divadlo
ATTACH;FMTTYPE=image/jpeg:https://dnesnivylet.cz/wp-content/uploads/2026/03/320-e5194784fb4342a78dca5bf55a585afe.jpg
END:VEVENT
BEGIN:VEVENT
DTSTART;TZID=Europe/Prague:20260327T203000
DTEND;TZID=Europe/Prague:20260327T233000
DTSTAMP:20260419T211908
CREATED:20260222T141959Z
LAST-MODIFIED:20260222T141959Z
UID:18391-1774643400-1774654200@dnesnivylet.cz
SUMMARY:Images of Love - black light theatre (schwarzlichttheater)
DESCRIPTION:Images of Love – black light theatre (schwarzlichttheater) se uskuteční dne 2026-03-27 v 20:30 v Praha\, HILT black light theatre Prague – Art Space. \n🎟️ Koupit vstupenku \n\nDočasná sleva 100 Kč kód LOV100 (neplatí pro P.Cool Pass) – Temporary discount 100 CZK code LOV100 (not valid for P.Cool Pass) – Temporärer Rabatt 100 CZK Code LOV100 (nicht gültig für P.Cool Pass) – Descuento temporal 100 CZK código LOV100 (no válido para P.Cool Pass)  \n\nHILT black light theatre – Schwarzlichttheater HILT – Teatro negro Praga HILT\nWritten\, directed and choreography: Theodor Hoidekr\nOriginal music: Theodor Hoidekr (original music for HILT black light theatre)\nCopyright music: Coldplay – A sky full of stars\, Sting – Desert rose\, Patrick Swayze – She´s like a wind\, Shakira – Waka waka\, AC/DC – Highway to hell\, Koutev Bulgarian national ensemble – Bre petrunko (HILT black light theatre owns the licence for this music for use in the show Images of Love)\n\nČESKY ↓ ENGLISH ↓ DEUTSCH ↓ ESPANOL \n―cz―*FORMULÁŘ VSTUPENEK POUZE ČESKY A ANGLICKY PŘEPNĚTE V PRAVÉM ROHU NAHOŘE \nČerné divadlo HILT Praha – Images of Love \nLáska je vůdčí světlo\, které nás vede temnotou života. Multimediální představení Images of Love transformuje koncept lásky do fascinujících scén černého divadla\, které diváky zavedou na cestu různými etapami romantiky. Od počáteční jiskry mezi dvěma jednotlivci až po složitost zralého vztahu\, představení zkoumá různé aspekty lásky prostřednictvím podmanivého vizuálního a emocionálního vyprávění. \nNeverbální povaha představení umožňuje univerzální porozumění a zpřístupňuje jej divákům všech věkových kategorií a prostředí. Prostřednictvím kombinace originálních skladeb a světoznámých hitů hudba umocňuje vizuální podívanou a vtahuje diváky hlouběji do děje. Představení také vzdává hold ikonickým písním od umělců jako Shakira\, Sting a Coldplay a také obsahuje mystické ztvárnění bulharské sborové písně. \nImages of Love zve diváky\, aby se ponořili do světa\, kde mohou na vlastní kůži zažít krásu a výzvy lásky. Je to jedinečná příležitost zasmát se\, tančit a cítit celou škálu emocí vedle postav\, což vytváří skutečně interaktivní a nezapomenutelný divadelní zážitek. \n―en―*TICKET FORM ONLY IN CZECH AND ENGLISH SWITCH IN UPPER RIGHT CORNER \nHILT black light theatre Prague – Images of Love \nLove is the guiding light that leads us through the darkness of life. The multimedia performance Images of Love transforms the concept of love into mesmerizing black light theatre scenes that take the audience on a journey through the various stages of romance. From the initial spark between two individuals to the complexity of a mature relationship\, the performance explores the different facets of love through captivating visuals and emotional storytelling. \nThe non-verbal nature of the performance allows for universal understanding\, making it accessible to audiences of all ages and backgrounds. Through a combination of original compositions and world-famous hits\, the music enhances the visual spectacle\, drawing the audience deeper into the story. The performance also pays homage to iconic songs from artists like Shakira\, Sting\, and Coldplay\, as well as featuring a mystical rendition of a Bulgarian choir song. \nImages of Love invites the audience to immerse themselves in a world where they can experience the beauty and challenges of love firsthand. It is a unique opportunity to laugh\, dance\, and feel the full range of emotions alongside the characters\, creating a truly interactive and memorable theatrical experience. \n―de―*TICKETFORMULAR NUR AUF TSCHECHISCH UND ENGLISCH. SCHALTER IN DER OBEREN RECHTEN ECKE \nSchwarzlichttheater Prag HILT – Images of Love \nLiebe ist das Leitlicht\, das uns durch die Dunkelheit des Lebens führt. Die Multimedia-Performance „Images of Love“ verwandelt das Konzept der Liebe in faszinierende Schwarzlichttheater\, die das Publikum auf eine Reise durch die verschiedenen Phasen der Romantik mitnehmen. Von der ersten Funke zwischen zwei Menschen bis hin zur Komplexität einer reifen Beziehung erkundet die Performance die verschiedenen Facetten der Liebe durch fesselnde visuelle Elemente und emotionales Geschichtenerzählen. \nDie nonverbale Natur der Performance ermöglicht ein universelles Verständnis und macht sie für Zuschauer jeden Alters und jeder Herkunft zugänglich. Durch eine Kombination aus Originalkompositionen und weltberühmten Hits verstärkt die Musik das visuelle Spektakel und zieht das Publikum tiefer in die Geschichte hinein. Die Performance ist auch eine Hommage an ikonische Lieder von Künstlern wie Shakira\, Sting und Coldplay und bietet eine mystische Wiedergabe eines bulgarischen Chorlieds. \n„Images of Love“ lädt das Publikum ein\, in eine Welt einzutauchen\, in der es die Schönheit und Herausforderungen der Liebe aus erster Hand erleben kann. Es ist eine einmalige Gelegenheit\, gemeinsam mit den Figuren zu lachen\, zu tanzen und die ganze Bandbreite an Emotionen zu spüren\, wodurch ein wirklich interaktives und unvergessliches Theatererlebnis entsteht. \n―es―*FORMULARIO DE BOLETO SOLO EN CHECO E INGLÉS CAMBIAR EN LA ESQUINA SUPERIOR DERECHA \nTeatro de luz negra Praga HILT (Teatro negro Praga HILT) – Images of Love \nEl amor es la luz que nos guía a través de la oscuridad de la vida. La performance multimedia Images of Love transforma el concepto de amor en fascinantes escenas de teatro con luz negra que llevan al público a un viaje a través de las distintas etapas del romance. Desde la chispa inicial entre dos personas hasta la complejidad de una relación madura\, la performance explora las diferentes facetas del amor a través de imágenes cautivadoras y una narración emotiva. \nLa naturaleza no verbal de la performance permite una comprensión universal\, haciéndola accesible a audiencias de todas las edades y orígenes. A través de una combinación de composiciones originales y éxitos mundialmente famosos\, la música realza el espectáculo visual\, atrayendo al público más profundamente a la historia. La performance también rinde homenaje a canciones icónicas de artistas como Shakira\, Sting y Coldplay\, además de presentar una interpretación mística de una canción de un coro búlgaro. \nImages of Love invita al público a sumergirse en un mundo donde pueden experimentar la belleza y los desafíos del amor de primera mano. Es una oportunidad única para reír\, bailar y sentir toda la gama de emociones junto a los personajes\, creando una experiencia teatral verdaderamente interactiva y memorable. \n\nTento tip na kulturní akci v Praha najdete v přehledu na Dnesnivylet.cz spolu s dalšími koncerty\, festivaly a divadelními představeními.Každý si vybere co se mu líbí. Nezapomeňte koupit vstupenky včas\, stačí kliknout a budete přesměrování na oficiálního prodejce vstupenek.
URL:https://dnesnivylet.cz/event/images-of-love-black-light-theatre-schwarzlichttheater-46/
LOCATION:HILT black light theatre Prague – Art Space\, Praha\, HILT black light theatre Prague - Art Space\, Praha\, Česká republika
CATEGORIES:Divadlo
ATTACH;FMTTYPE=image/jpeg:https://dnesnivylet.cz/wp-content/uploads/2026/02/320-72f3d19bbffa4aab905e6e272e9e9924.jpg
END:VEVENT
END:VCALENDAR