BEGIN:VCALENDAR
VERSION:2.0
PRODID:-//www.dnesnivylet.cz                                                                                                                        Tip na výlet pro celou rodinu. - ECPv6.15.13.1//NONSGML v1.0//EN
CALSCALE:GREGORIAN
METHOD:PUBLISH
X-WR-CALNAME:www.dnesnivylet.cz                                                                                                                        Tip na výlet pro celou rodinu.
X-ORIGINAL-URL:https://dnesnivylet.cz
X-WR-CALDESC:Akce na www.dnesnivylet.cz                                                                                                                        Tip na výlet pro celou rodinu.
REFRESH-INTERVAL;VALUE=DURATION:PT1H
X-Robots-Tag:noindex
X-PUBLISHED-TTL:PT1H
BEGIN:VTIMEZONE
TZID:Europe/Prague
BEGIN:DAYLIGHT
TZOFFSETFROM:+0100
TZOFFSETTO:+0200
TZNAME:CEST
DTSTART:20250330T010000
END:DAYLIGHT
BEGIN:STANDARD
TZOFFSETFROM:+0200
TZOFFSETTO:+0100
TZNAME:CET
DTSTART:20251026T010000
END:STANDARD
BEGIN:DAYLIGHT
TZOFFSETFROM:+0100
TZOFFSETTO:+0200
TZNAME:CEST
DTSTART:20260329T010000
END:DAYLIGHT
BEGIN:STANDARD
TZOFFSETFROM:+0200
TZOFFSETTO:+0100
TZNAME:CET
DTSTART:20261025T010000
END:STANDARD
BEGIN:DAYLIGHT
TZOFFSETFROM:+0100
TZOFFSETTO:+0200
TZNAME:CEST
DTSTART:20270328T010000
END:DAYLIGHT
BEGIN:STANDARD
TZOFFSETFROM:+0200
TZOFFSETTO:+0100
TZNAME:CET
DTSTART:20271031T010000
END:STANDARD
END:VTIMEZONE
BEGIN:VEVENT
DTSTART;TZID=Europe/Prague:20260413T190000
DTEND;TZID=Europe/Prague:20260413T220000
DTSTAMP:20260419T142824
CREATED:20260306T172128Z
LAST-MODIFIED:20260306T172129Z
UID:18987-1776106800-1776117600@dnesnivylet.cz
SUMMARY:Miroslav Donutil - Na kus řeči
DESCRIPTION:Miroslav Donutil – Na kus řeči  se uskuteční dne 2026-04-13 v 19:00 v Velvary\, Velvarská Záložna. \n🎟️ Koupit vstupenku \n\nMIROSLAV DONUTIL \nslaví 75 let a míří do Velvar! \nLegendární český herec\, bavič a vypravěč MIROSLAV DONUTIL slaví neuvěřitelných 75 let a své životní jubileum se rozhodl oslavit tam\, kde to má nejraději: na jevišti\, mezi svými diváky.V dubnu tak zavítá do Velvar s oblíbenou one man show Na kus řeči\, která už roky baví publikum po celé republice. \nToto vystoupení bude opravdu výjimečné. Nejen skvělým humorem a atmosférou\, ale i tím\, že půjde o součást jubilejní narozeninové tour. Přijďte si užít večer plný příběhů\, zážitků a vzpomínek\, které Miroslav Donutil vypráví s typickou noblesou\, vtipem a nadhledem. \nMiroslav Donutil je jeden z nejznámějších a nejoblíbenějších českých herců\, komiků a vypravěčů. Za jeho talent jistě mohou i rodinné geny. Jeho rodiče byli ochotníky a dědeček byl vynikajícím a nadšeným vypravěčem. V divadle hrál již za studií\, konkrétně v divadle Husa na provázku. V roce 1990 se stal členem činohry souboru pražského Národního divadla. \nNa kus řeči přináší nové příběhy i oblíbené historky z jeho bohatého života a života přátel.A tentokrát budou mít ještě narozeninový nádech. \n\nTento tip na kulturní akci v Velvary najdete v přehledu na Dnesnivylet.cz spolu s dalšími koncerty\, festivaly a divadelními představeními.Každý si vybere co se mu líbí. Nezapomeňte koupit vstupenky včas\, stačí kliknout a budete přesměrování na oficiálního prodejce vstupenek.
URL:https://dnesnivylet.cz/event/miroslav-donutil-na-kus-reci/
LOCATION:Velvarská Záložna\, Velvary\, Velvarská Záložna\, Velvary\, Česká republika
CATEGORIES:Divadlo
ATTACH;FMTTYPE=image/jpeg:https://dnesnivylet.cz/wp-content/uploads/2026/03/320-adf30c6c0a884c578de27e26faf17eb0.jpg
END:VEVENT
END:VCALENDAR