BEGIN:VCALENDAR
VERSION:2.0
PRODID:-//www.dnesnivylet.cz                                                                                                                        Tip na výlet pro celou rodinu. - ECPv6.15.13.1//NONSGML v1.0//EN
CALSCALE:GREGORIAN
METHOD:PUBLISH
X-ORIGINAL-URL:https://dnesnivylet.cz
X-WR-CALDESC:Akce na www.dnesnivylet.cz                                                                                                                        Tip na výlet pro celou rodinu.
REFRESH-INTERVAL;VALUE=DURATION:PT1H
X-Robots-Tag:noindex
X-PUBLISHED-TTL:PT1H
BEGIN:VTIMEZONE
TZID:Europe/Prague
BEGIN:DAYLIGHT
TZOFFSETFROM:+0100
TZOFFSETTO:+0200
TZNAME:CEST
DTSTART:20250330T010000
END:DAYLIGHT
BEGIN:STANDARD
TZOFFSETFROM:+0200
TZOFFSETTO:+0100
TZNAME:CET
DTSTART:20251026T010000
END:STANDARD
BEGIN:DAYLIGHT
TZOFFSETFROM:+0100
TZOFFSETTO:+0200
TZNAME:CEST
DTSTART:20260329T010000
END:DAYLIGHT
BEGIN:STANDARD
TZOFFSETFROM:+0200
TZOFFSETTO:+0100
TZNAME:CET
DTSTART:20261025T010000
END:STANDARD
BEGIN:DAYLIGHT
TZOFFSETFROM:+0100
TZOFFSETTO:+0200
TZNAME:CEST
DTSTART:20270328T010000
END:DAYLIGHT
BEGIN:STANDARD
TZOFFSETFROM:+0200
TZOFFSETTO:+0100
TZNAME:CET
DTSTART:20271031T010000
END:STANDARD
END:VTIMEZONE
BEGIN:VEVENT
DTSTART;TZID=Europe/Prague:20260423T190000
DTEND;TZID=Europe/Prague:20260423T220000
DTSTAMP:20260419T131257
CREATED:20251209T180102Z
LAST-MODIFIED:20251209T180125Z
UID:14559-1776970800-1776981600@dnesnivylet.cz
SUMMARY:Normální debil
DESCRIPTION:Normální debil se uskuteční dne 2026-04-23 v 19:00 v Čelákovice\, KD Čelákovice. \n🎟️ Koupit vstupenku \n\nNORMÁLNÍ DEBIL \nDeník puberťáka aneb Mé dětství v socialismu. Originální retro komedie dob dávno minulých. \n  \nDivadelní hra Normální debil vznikla na motivy stejnojmenné knihy Roberta Bellana. Jedná se o retro komedii\, kdy základem vyprávění jsou příhody z autorova dětství prožitého v socialistickém Československu. \nBěhem večera plného humoru\, nadsázky i nostalgie se ocitneme spolu s hlavním hrdinou – známým průšvihářem Norbertem Intribusem – například v socialistické domácnosti\, ve škole\, na fotbalovém hřišti\, u splavu\, v nemocnici\, nebo třeba i překvapivě na hřbitovním sexuálním večírku. \nNedílnou součástí inscenace je dobová „pop music“\, vysílání Československé televize a odborný pohled na psychický vulkanismus. \nHrají: Zbigniew Kalina\, David Suchařípa\, Lenka Zbranková\, Veronika Čermák Macková / Jana Ondrušková \nVíce informací: http://www.normalnidebil.cz/ \nDélka: 110 min. (včetně 20 min. přestávky). \n  \n  \n\nTento tip na kulturní akci v Čelákovice najdete v přehledu na Dnesnivylet.cz spolu s dalšími koncerty\, festivaly a divadelními představeními.Každý si vybere co se mu líbí. Nezapomeňte koupit vstupenky včas\, stačí kliknout a budete přesměrování na oficiálního prodejce vstupenek.
URL:https://dnesnivylet.cz/event/normalni-debil-2/
LOCATION:KD Čelákovice\, Čelákovice\, KD Čelákovice\, Čelákovice\, Česká republika
CATEGORIES:Divadlo
ATTACH;FMTTYPE=image/jpeg:https://dnesnivylet.cz/wp-content/uploads/2025/12/320-ae20046fa3044366b0f092d796eab695.jpg
END:VEVENT
BEGIN:VEVENT
DTSTART;TZID=Europe/Prague:20260423T190000
DTEND;TZID=Europe/Prague:20260423T220000
DTSTAMP:20260419T131257
CREATED:20260105T203254Z
LAST-MODIFIED:20260105T203254Z
UID:16324-1776970800-1776981600@dnesnivylet.cz
SUMMARY:Divadlo Sklep - Besídka
DESCRIPTION:Divadlo Sklep – Besídka se uskuteční dne 2026-04-23 v 19:00 v Moravský Krumlov\, Kulturní a kreativní centrum. \n🎟️ Koupit vstupenku \n\nDivadlo sklep – Besídka \nLegendární pražské divadlo\, jeden z pilířů polistopadové nezávislé divadelní scény a televizní tvroby a jejich legendární besídky. Tradiční představení divadla Sklep v novém podání složené z mnoha humorných výstupů\, skečů\, gagů\, písní a tanců\, které polechtají bránici i tomu největšímu morousovi a kakabusovi. \nObsazení bude upřesněno. \nDélka představení: 2 hodiny  \n  \n\nTento tip na kulturní akci v Moravský Krumlov najdete v přehledu na Dnesnivylet.cz spolu s dalšími koncerty\, festivaly a divadelními představeními.Každý si vybere co se mu líbí. Nezapomeňte koupit vstupenky včas\, stačí kliknout a budete přesměrování na oficiálního prodejce vstupenek.
URL:https://dnesnivylet.cz/event/divadlo-sklep-besidka/
LOCATION:Kulturní a kreativní centrum\, Moravský Krumlov\, Kulturní a kreativní centrum\, Moravský Krumlov\, Česká republika
CATEGORIES:Divadlo
ATTACH;FMTTYPE=image/jpeg:https://dnesnivylet.cz/wp-content/uploads/2026/01/320-9da93f19f425470596fdb4f8cc1420b6.jpg
END:VEVENT
BEGIN:VEVENT
DTSTART;TZID=Europe/Prague:20260423T190000
DTEND;TZID=Europe/Prague:20260423T220000
DTSTAMP:20260419T131257
CREATED:20260121T194226Z
LAST-MODIFIED:20260121T194226Z
UID:16937-1776970800-1776981600@dnesnivylet.cz
SUMMARY:Manželské turbulence v Liberci
DESCRIPTION:Manželské turbulence v Liberci se uskuteční dne 2026-04-23 v 19:00 v Liberec\, Dům Kultury. \n🎟️ Koupit vstupenku \n\nNejvětší turbulence nezažijete v letadle\, ale doma v ložnici. Zvlášť když žijete s policajtem. \nFrancouzská komedie od Francise Vebera (Blbec k večeři\, Muž z Acapulca\, Velký blondýn s černou botou). \nHrají:Václav VydraMichaela BadinkováJosef Carda / Antonín ProcházkaŠtěpánka Křesťanová \nPostavy Veberovy komedie mají problém udržet krok se zběsilou dobou a životní trable s nimi mávají ze strany na stranu. Norberta\, policistu hrubého zrna\, griluje Generální inspekce za nepřiměřené zákroky. Norbertova sestra Christina  má trable se svým manželem Erikem. Slavného novináře vyhodili před třemi měsíci z rádia a od té doby i přes péči psychiatrů nepromluvil. Začne ho léčit Norbert a aby toho nebylo málo\, jeho žena Sophie se přidá k sektě. A nastane ta správná turbulence. Nelze se pak divit\, že naše čtveřice nezvládne udržet rytmus hodně rychlé hudby. Ovšem nejlepší lék na depresi je\, jak jinak\, jít do všeho po hlavě.  \nFrancis Veber\, autor kultovního Blbce k večeři\, nám i ve své nejnovější komedii ukazuje\, že závratnou smršť života nám pomůže přežít jedině humor. \nAutor: Francis VeberRežie: Antonín ProcházkaPřeklad: Alexander JerieInscenace Agentury Harlekýn. \n\nTento tip na kulturní akci v Liberec najdete v přehledu na Dnesnivylet.cz spolu s dalšími koncerty\, festivaly a divadelními představeními.Každý si vybere co se mu líbí. Nezapomeňte koupit vstupenky včas\, stačí kliknout a budete přesměrování na oficiálního prodejce vstupenek.
URL:https://dnesnivylet.cz/event/manzelske-turbulence-v-liberci/
LOCATION:Dům Kultury\, Liberec\, Dům Kultury\, Liberec\, Česká republika
CATEGORIES:Divadlo
ATTACH;FMTTYPE=image/jpeg:https://dnesnivylet.cz/wp-content/uploads/2026/01/320-6669c0f94ef34911ac4ba73bb6f85385.jpg
END:VEVENT
BEGIN:VEVENT
DTSTART;TZID=Europe/Prague:20260423T190000
DTEND;TZID=Europe/Prague:20260423T220000
DTSTAMP:20260419T131257
CREATED:20260321T195949Z
LAST-MODIFIED:20260321T195950Z
UID:19802-1776970800-1776981600@dnesnivylet.cz
SUMMARY:not ready yet
DESCRIPTION:not ready yet se uskuteční dne 2026-04-23 v 19:00 v Brno\, Co.Labs. \n🎟️ Koupit vstupenku \n\nnot ready yet  \nKdo jsem a čím se stávám? Co mě skutečně definuje? Jsem to já\, nebo obraz\, který o mně vytváří okolí? \nOtázky\, které se v průběhu života neustále vrací. Třeba máš dojem\, že už to máš vyřešené\, ale pak se něco stane a skládáš sebe a svůj obraz úplně od znova. Nebo jsi třeba každý den trochu někým jiným a baví tě to úplně všechno. Třeba přesně víš\, co tě definuje\, a hlásáš to radostně do světa\, nebo se o tom naopak stydíš mluvit. \n  \nA to je ono. Jak o tom vlastně mluvit? \nMy to zkoušíme prostřednictvím fyzického divadla\, slam poetry\, trochy filosofie a přímého dialogu s naším publikem. Společně chceme vytvořit prostor\, kde se mohou tyto otázky volně rozvíjet a rezonovat. My sami odpovědi často nemáme\, je v pohodě\, že je nebudeš mít ani ty. \n  \nInspirujeme se vším\, co se dotýká hledání sebe sama: každodenností\, chaosem\, trapností\, krásou detailů\, upřímností i neklidem. Street art a bad painting se potkává s moderní filozofií. \nRůzné vrstvy\, různé hlasy a různé rytmy spolu otevírají prostor pro nové souvislosti a hlavně pro společný zážitek. \n  \nnot ready yet je participativní divadelní skladba. Její součástí je tak krom pohybu a slov i interakce. Určitě ale nemusíš být ve stresu. Z toho posledního určitě nemusíš být ve stresu. Interakce je jemná\, hravá a pouze taková\, jakou budete chtít. \n  \nMáš rád/a humor?Máš rád/a slam poetry?Máš rád/a pohybové divadlo?Máš rád/a\, když tě divadlo překvapí?Pokud alespoň na jednu otázku byla odpověď ano\, tak je představení přesně pro tebe. \n  \n\nTento tip na kulturní akci v Brno najdete v přehledu na Dnesnivylet.cz spolu s dalšími koncerty\, festivaly a divadelními představeními.Každý si vybere co se mu líbí. Nezapomeňte koupit vstupenky včas\, stačí kliknout a budete přesměrování na oficiálního prodejce vstupenek.
URL:https://dnesnivylet.cz/event/not-ready-yet-2/
LOCATION:Co.Labs\, Brno\, Co.Labs\, Brno\, Česká republika
CATEGORIES:Divadlo
ATTACH;FMTTYPE=image/jpeg:https://dnesnivylet.cz/wp-content/uploads/2026/03/320-f76e83163fa54b92867cc7ded811a1eb.jpg
END:VEVENT
END:VCALENDAR