BEGIN:VCALENDAR
VERSION:2.0
PRODID:-//www.dnesnivylet.cz                                                                                                                        Tip na výlet pro celou rodinu. - ECPv6.15.13.1//NONSGML v1.0//EN
CALSCALE:GREGORIAN
METHOD:PUBLISH
X-WR-CALNAME:www.dnesnivylet.cz                                                                                                                        Tip na výlet pro celou rodinu.
X-ORIGINAL-URL:https://dnesnivylet.cz
X-WR-CALDESC:Akce na www.dnesnivylet.cz                                                                                                                        Tip na výlet pro celou rodinu.
REFRESH-INTERVAL;VALUE=DURATION:PT1H
X-Robots-Tag:noindex
X-PUBLISHED-TTL:PT1H
BEGIN:VTIMEZONE
TZID:Europe/Prague
BEGIN:DAYLIGHT
TZOFFSETFROM:+0100
TZOFFSETTO:+0200
TZNAME:CEST
DTSTART:20240331T010000
END:DAYLIGHT
BEGIN:STANDARD
TZOFFSETFROM:+0200
TZOFFSETTO:+0100
TZNAME:CET
DTSTART:20241027T010000
END:STANDARD
BEGIN:DAYLIGHT
TZOFFSETFROM:+0100
TZOFFSETTO:+0200
TZNAME:CEST
DTSTART:20250330T010000
END:DAYLIGHT
BEGIN:STANDARD
TZOFFSETFROM:+0200
TZOFFSETTO:+0100
TZNAME:CET
DTSTART:20251026T010000
END:STANDARD
BEGIN:DAYLIGHT
TZOFFSETFROM:+0100
TZOFFSETTO:+0200
TZNAME:CEST
DTSTART:20260329T010000
END:DAYLIGHT
BEGIN:STANDARD
TZOFFSETFROM:+0200
TZOFFSETTO:+0100
TZNAME:CET
DTSTART:20261025T010000
END:STANDARD
BEGIN:DAYLIGHT
TZOFFSETFROM:+0100
TZOFFSETTO:+0200
TZNAME:CEST
DTSTART:20270328T010000
END:DAYLIGHT
BEGIN:STANDARD
TZOFFSETFROM:+0200
TZOFFSETTO:+0100
TZNAME:CET
DTSTART:20271031T010000
END:STANDARD
END:VTIMEZONE
BEGIN:VEVENT
DTSTART;TZID=Europe/Prague:20260313T200000
DTEND;TZID=Europe/Prague:20260313T230000
DTSTAMP:20260420T020743
CREATED:20260310T172817Z
LAST-MODIFIED:20260310T172818Z
UID:19386-1773432000-1773442800@dnesnivylet.cz
SUMMARY:JAMES HARRIES
DESCRIPTION:JAMES HARRIES se uskuteční dne 2026-03-13 v 20:00 v Dobruška\, Bystré v Orlických horách. \n🎟️ Koupit vstupenku \n\nPíší o něm světové magazíny\, v Čechách jeho hity hrají rádia napříč žánry\, má miliony přehrání na Spotify! James Harries je oblíbený britský písničkář. Písně Superstition\, Salvation\, Lights se držely na prvních příčkách hitparád! Aktuální album Love & Desire není výjimkou. Přes rádiové úspěchy si Harries stále drží svou linii písničkáře se strhujícím živým projevem. Jeho koncerty jsou jedinečným zážitkem plným emocí. \n\nTento tip na kulturní akci v Dobruška najdete v přehledu na Dnesnivylet.cz spolu s dalšími koncerty\, festivaly a divadelními představeními.Každý si vybere co se mu líbí. Nezapomeňte koupit vstupenky včas\, stačí kliknout a budete přesměrování na oficiálního prodejce vstupenek.
URL:https://dnesnivylet.cz/event/james-harries/
LOCATION:Bystré v Orlických horách\, Dobruška\, Bystré v Orlických horách\, Dobruška\, Česká republika
CATEGORIES:Koncert
ATTACH;FMTTYPE=image/jpeg:https://dnesnivylet.cz/wp-content/uploads/2026/03/320-bc54d770d69a47f0bd9940ce214efeb0.jpg
END:VEVENT
BEGIN:VEVENT
DTSTART;TZID=Europe/Prague:20251116T200000
DTEND;TZID=Europe/Prague:20251116T230000
DTSTAMP:20260420T020743
CREATED:20251020T173938Z
LAST-MODIFIED:20251020T173938Z
UID:9333-1763323200-1763334000@dnesnivylet.cz
SUMMARY:Rett Smith
DESCRIPTION:Rett Smith se uskuteční dne 2025-11-16 v 20:00 v Dobruška\, Bystré v Orlických horách. \n🎟️ Koupit vstupenku \n\nRETT SMITH\, v rámci BluesAlive Tour 2025\, hospoda Bystré. \nTenhle chlápek dobře ví\, že se píše rok 2025\, v jeho hudbě není ani špetka revivalu\, a přitom ani na vteřinu nepochybujete\, odkud tóny\, které hraje na svoji kytaru zkreslenou podle estetiky psychedelického alternativního rocku\, vyvěrají. \nRett Smith se na americké hudební scéně etabloval vlastní autorskou tvorbou\, ve které se podle vlastních slov nechává inspirovat bluesmany a countrymany čtyřicátých až šedesátých let. Vydal již 5 alb\, to poslední\, A Weighted Remorse\, vyšlo vloni v září. Světová kritika muziku tohoto texaského rodáka řadí po bok takových jmen jako The Black Keys nebo Nick Cave\, a to je těžký kalibr. Vesměs jde ale o interprety\, kteří svůj styl postavili na modifikaci černých kořenů a jejich převedení do současnosti. Stejně jako Rett Smith – takže to sedí. \nwww.rettsmithmusic.com \n\nTento tip na kulturní akci v Dobruška najdete v přehledu na Dnesnivylet.cz spolu s dalšími koncerty\, festivaly a divadelními představeními.Každý si vybere co se mu líbí. Nezapomeňte koupit vstupenky včas\, stačí kliknout a budete přesměrování na oficiálního prodejce vstupenek.
URL:https://dnesnivylet.cz/event/rett-smith/
LOCATION:Bystré v Orlických horách\, Dobruška\, Bystré v Orlických horách\, Dobruška\, Česká republika
CATEGORIES:Koncert
ATTACH;FMTTYPE=image/jpeg:https://dnesnivylet.cz/wp-content/uploads/2025/10/320-127fe7ccb32a4bcf9ff7163a177570c6.jpg
END:VEVENT
END:VCALENDAR