BEGIN:VCALENDAR
VERSION:2.0
PRODID:-//www.dnesnivylet.cz                                                                                                                        Tip na výlet pro celou rodinu. - ECPv6.15.13.1//NONSGML v1.0//EN
CALSCALE:GREGORIAN
METHOD:PUBLISH
X-ORIGINAL-URL:https://dnesnivylet.cz
X-WR-CALDESC:Akce na www.dnesnivylet.cz                                                                                                                        Tip na výlet pro celou rodinu.
REFRESH-INTERVAL;VALUE=DURATION:PT1H
X-Robots-Tag:noindex
X-PUBLISHED-TTL:PT1H
BEGIN:VTIMEZONE
TZID:Europe/Prague
BEGIN:DAYLIGHT
TZOFFSETFROM:+0100
TZOFFSETTO:+0200
TZNAME:CEST
DTSTART:20250330T010000
END:DAYLIGHT
BEGIN:STANDARD
TZOFFSETFROM:+0200
TZOFFSETTO:+0100
TZNAME:CET
DTSTART:20251026T010000
END:STANDARD
BEGIN:DAYLIGHT
TZOFFSETFROM:+0100
TZOFFSETTO:+0200
TZNAME:CEST
DTSTART:20260329T010000
END:DAYLIGHT
BEGIN:STANDARD
TZOFFSETFROM:+0200
TZOFFSETTO:+0100
TZNAME:CET
DTSTART:20261025T010000
END:STANDARD
BEGIN:DAYLIGHT
TZOFFSETFROM:+0100
TZOFFSETTO:+0200
TZNAME:CEST
DTSTART:20270328T010000
END:DAYLIGHT
BEGIN:STANDARD
TZOFFSETFROM:+0200
TZOFFSETTO:+0100
TZNAME:CET
DTSTART:20271031T010000
END:STANDARD
END:VTIMEZONE
BEGIN:VEVENT
DTSTART;TZID=Europe/Prague:20260530T200000
DTEND;TZID=Europe/Prague:20260530T230000
DTSTAMP:20260419T194616
CREATED:20260419T120707Z
LAST-MODIFIED:20260419T120707Z
UID:20693-1780171200-1780182000@dnesnivylet.cz
SUMMARY:The Freaky Buds (FR)
DESCRIPTION:The Freaky Buds (FR) se uskuteční dne 2026-05-30 v 20:00 v Dobruška\, Hospoda Bystré. \n🎟️ Koupit vstupenku \n\nFreaky Buds mají své kořeny hluboce zakořeněné v klasice amerického elektrického blues\, smíchané s modernější a rockovější hudbou. Čtyřčlenná bluesrocková kapela v neobvyklém obsazení bez basy odehraje ročně kolem dvou set koncertů po celé Evropě. Tak neváhejte\, jsou opravdu skvělí! \n\nTento tip na kulturní akci v Dobruška najdete v přehledu na Dnesnivylet.cz spolu s dalšími koncerty\, festivaly a divadelními představeními.Každý si vybere co se mu líbí. Nezapomeňte koupit vstupenky včas\, stačí kliknout a budete přesměrování na oficiálního prodejce vstupenek.
URL:https://dnesnivylet.cz/event/the-freaky-buds-fr/
LOCATION:Hospoda Bystré\, Dobruška\, Hospoda Bystré\, Dobruška\, Česká republika
CATEGORIES:Koncert
ATTACH;FMTTYPE=image/jpeg:https://dnesnivylet.cz/wp-content/uploads/2026/04/320-0933dbe12f5b48cf9d9f8a6cadac4ad0.jpg
END:VEVENT
END:VCALENDAR