BEGIN:VCALENDAR
VERSION:2.0
PRODID:-//www.dnesnivylet.cz                                                                                                                        Tip na výlet pro celou rodinu. - ECPv6.15.13.1//NONSGML v1.0//EN
CALSCALE:GREGORIAN
METHOD:PUBLISH
X-WR-CALNAME:www.dnesnivylet.cz                                                                                                                        Tip na výlet pro celou rodinu.
X-ORIGINAL-URL:https://dnesnivylet.cz
X-WR-CALDESC:Akce na www.dnesnivylet.cz                                                                                                                        Tip na výlet pro celou rodinu.
REFRESH-INTERVAL;VALUE=DURATION:PT1H
X-Robots-Tag:noindex
X-PUBLISHED-TTL:PT1H
BEGIN:VTIMEZONE
TZID:Europe/Prague
BEGIN:DAYLIGHT
TZOFFSETFROM:+0100
TZOFFSETTO:+0200
TZNAME:CEST
DTSTART:20250330T010000
END:DAYLIGHT
BEGIN:STANDARD
TZOFFSETFROM:+0200
TZOFFSETTO:+0100
TZNAME:CET
DTSTART:20251026T010000
END:STANDARD
BEGIN:DAYLIGHT
TZOFFSETFROM:+0100
TZOFFSETTO:+0200
TZNAME:CEST
DTSTART:20260329T010000
END:DAYLIGHT
BEGIN:STANDARD
TZOFFSETFROM:+0200
TZOFFSETTO:+0100
TZNAME:CET
DTSTART:20261025T010000
END:STANDARD
BEGIN:DAYLIGHT
TZOFFSETFROM:+0100
TZOFFSETTO:+0200
TZNAME:CEST
DTSTART:20270328T010000
END:DAYLIGHT
BEGIN:STANDARD
TZOFFSETFROM:+0200
TZOFFSETTO:+0100
TZNAME:CET
DTSTART:20271031T010000
END:STANDARD
END:VTIMEZONE
BEGIN:VEVENT
DTSTART;TZID=Europe/Prague:20260322T140000
DTEND;TZID=Europe/Prague:20260322T170000
DTSTAMP:20260420T021648
CREATED:20251123T094830Z
LAST-MODIFIED:20251123T094830Z
UID:13734-1774188000-1774198800@dnesnivylet.cz
SUMMARY:KNIHA DŽUNGLÍ - Plzeň
DESCRIPTION:KNIHA DŽUNGLÍ – Plzeň se uskuteční dne 2026-03-22 v 14:00 v Plzeň\, Měšťanská beseda. \n🎟️ Koupit vstupenku \n\nMuzikál KNIHA DŽUNGLÍ – největší rodinný zážitek roku 2026! \nOd ledna 2026 přichází do 55 měst po celé České republice překvapení pro celou rodinu! Novinka od producentů rodinných muzikálů\, jako je Popelka\, Alenka v říši divů či Vánoční loupež. \nČeká vás příběh plný emocí\, hudby\, smíchu i napětí – a to přímo ve vašem městě! \nSeznámíte se s odvážným Mauglím\, moudrým vlčím vůdcem Akélou\, ušlechtilým a statečným panterem Baghírou\, rozverným medvědem Balúem\, jehož kostým je jediný svého druhu v Evropě! Velkolepý dojem zanechá také obrovský král opic – gorila Ludvík v unikátním kostýmu. \nObrovským lákadlem je jedinečný kostým Hada KAA\, jaký jste ještě nikdy neviděli! \nO napětí se postará nelítostný tygr Šerchán\, jeho komicko-zákeřný společník hyena Tabaki\, a atmosféru odlehčí i vtipný a upovídaný papoušek a další známá zvířata. \n Spolu s projekcemi a dechberoucími vizuálními efekty se ocitnete přímo uprostřed kouzelné džungle. \nDěti se stanou součástí představení – pomohou Mauglímu zahnat Šerchána nebo najít med pro medvěda Balů\,  a společně s herci dotvářet kouzelný příběh. \nInteraktivní část vás vtáhne do děje – zvířata z džungle se objeví nejen na jevišti\, ale i mezi dětmi v hledišti\, aby si každý mohl zažít pocit\, že je součástí příběhu. \nSpeciální bonus: Každé dítě dostane ke vstupence zvířecí masku dle vlastního výběru.A po představení čeká malé diváky jedinečná možnost vyfotit se přímo na jevišti s herci v kostýmech! \n  \nTip na vánoční dárek!Darujte svým dětem a celé rodině nezapomenutelný zážitek – vstupenky na muzikál\, o kterém se bude mluvit ještě dlouho. \nToto není jen muzikál. Je to největší zážitek u vás doma\, ve vašem městě! \nPředprodej vstupenek spuštěn právě teď – kapacita je omezená.Kupte si vstupenky v síti smsticket a buďte u muzikálové události roku 2026! \n\nTento tip na kulturní akci v Plzeň najdete v přehledu na Dnesnivylet.cz spolu s dalšími koncerty\, festivaly a divadelními představeními.Každý si vybere co se mu líbí. Nezapomeňte koupit vstupenky včas\, stačí kliknout a budete přesměrování na oficiálního prodejce vstupenek.
URL:https://dnesnivylet.cz/event/kniha-dzungli-plzen-2/
LOCATION:Měšťanská beseda\, Plzeň\, Měšťanská beseda\, Plzeň\, Česká republika
CATEGORIES:Divadlo
ATTACH;FMTTYPE=image/jpeg:https://dnesnivylet.cz/wp-content/uploads/2025/11/320-35d14db1c39b4c1b9c510db1b15d6231.jpg
END:VEVENT
BEGIN:VEVENT
DTSTART;TZID=Europe/Prague:20260322T160000
DTEND;TZID=Europe/Prague:20260322T190000
DTSTAMP:20260420T021648
CREATED:20251103T193932Z
LAST-MODIFIED:20251103T193933Z
UID:12151-1774195200-1774206000@dnesnivylet.cz
SUMMARY:Velikonoční příběh
DESCRIPTION:Velikonoční příběh se uskuteční dne 2026-03-22 v 16:00 v Nové Město na Moravě\, Kulturák NMnM. \n🎟️ Koupit vstupenku \n\n„Ten malý nevinný Ježíšek v jesličkách je jeden a ten samý jako ten pán přibitý na kříži? To asi nebude moc pohádka pro děti\, pane učiteli. To se mi moc hrát nechce.“ „Neboj\, Vojtěchu\, jako každá správná pohádka i tato bude mít dobrý konec.“ \nLoutkář\, kejklíř a komediant Vojtěch se setkává se svým panem učitelem\, aby spolu sehráli Velikonoční příběh. Zatímco Vojtěch coby loutkář má připravené klasické loutkové divadlo\, tedy kukátkovou scénu a loutky z lidových pohádek\, pan učitel přichází vybaven jen starou biblí. Přesto\, nebo možná právě proto\, spolu dokážou rozehrát prastarý příběh o lásce a obětování se za druhé\, za nás za všechny. \n\nHrají: Vojtěch Vrtek a Pavel Šmíd\nRežie: Stanislava Kočvarová\nScénář: Pavel Šmíd\nScéna: Vojtěch Vrtek\, malovala Simonetta Šmídová\nLoutky: Jan Růžička\n\n\nTento tip na kulturní akci v Nové Město na Moravě najdete v přehledu na Dnesnivylet.cz spolu s dalšími koncerty\, festivaly a divadelními představeními.Každý si vybere co se mu líbí. Nezapomeňte koupit vstupenky včas\, stačí kliknout a budete přesměrování na oficiálního prodejce vstupenek.
URL:https://dnesnivylet.cz/event/velikonocni-pribeh/
LOCATION:Kulturák NMnM\, Nové Město na Moravě\, Kulturák NMnM\, Nové Město na Moravě\, Česká republika
CATEGORIES:Divadlo
ATTACH;FMTTYPE=image/jpeg:https://dnesnivylet.cz/wp-content/uploads/2025/11/320-f8e11ff03ef94b428b7f7fab4e8ffa65.jpg
END:VEVENT
BEGIN:VEVENT
DTSTART;TZID=Europe/Prague:20260322T160000
DTEND;TZID=Europe/Prague:20260322T190000
DTSTAMP:20260420T021648
CREATED:20260321T195450Z
LAST-MODIFIED:20260321T195450Z
UID:19712-1774195200-1774206000@dnesnivylet.cz
SUMMARY:OSTRUŽINA: Karneval zvířat - i pro neslyšící
DESCRIPTION:OSTRUŽINA: Karneval zvířat – i pro neslyšící se uskuteční dne 2026-03-22 v 16:00 v Jihlava\, DIOD. \n🎟️ Koupit vstupenku \n\nInteraktivní taneční představení pro děti ve věku 5–11 let vzniklo na motivy stejnojmenné hudební suity francouzského skladatele Camille Saint-Saënse.Inscenace propojuje pohyb a tanec s videoprojekcemi\, originální hudbou\, zvuky a v neposlední řadě akcentuje hru světla a stínu\, ticha a nehybnosti. Tvůrci se nechali inspirovat rozmanitým světem živočišné říše\, vydali se pod zem\, vzlétli do nebe\, potopili se do hlubin a ztratili se v trávě! Díky dětským divákům\, kteří jsou přítomni na jevišti od začátku do konce\, vznikají vždy nová roztodivná stvoření. Přijďte se s námi ponořit do světa velké zvířecí fantazie!  \nNa představení navazuje výtvarná reflexe. \n  \n\nTento tip na kulturní akci v Jihlava najdete v přehledu na Dnesnivylet.cz spolu s dalšími koncerty\, festivaly a divadelními představeními.Každý si vybere co se mu líbí. Nezapomeňte koupit vstupenky včas\, stačí kliknout a budete přesměrování na oficiálního prodejce vstupenek.
URL:https://dnesnivylet.cz/event/ostruzina-karneval-zvirat-i-pro-neslysici/
LOCATION:DIOD\, Jihlava\, DIOD\, Jihlava\, Česká republika
CATEGORIES:Divadlo
ATTACH;FMTTYPE=image/jpeg:https://dnesnivylet.cz/wp-content/uploads/2026/03/320-ebae4fe905e346f490e9460e3a47b9d0.jpg
END:VEVENT
BEGIN:VEVENT
DTSTART;TZID=Europe/Prague:20260322T170000
DTEND;TZID=Europe/Prague:20260322T200000
DTSTAMP:20260420T021648
CREATED:20251123T094829Z
LAST-MODIFIED:20251123T094829Z
UID:13731-1774198800-1774209600@dnesnivylet.cz
SUMMARY:KNIHA DŽUNGLÍ - Plzeň
DESCRIPTION:KNIHA DŽUNGLÍ – Plzeň se uskuteční dne 2026-03-22 v 17:00 v Plzeň\, Měšťanská beseda. \n🎟️ Koupit vstupenku \n\nMuzikál KNIHA DŽUNGLÍ – největší rodinný zážitek roku 2026! \nOd ledna 2026 přichází do 55 měst po celé České republice překvapení pro celou rodinu! Novinka od producentů rodinných muzikálů\, jako je Popelka\, Alenka v říši divů či Vánoční loupež. \nČeká vás příběh plný emocí\, hudby\, smíchu i napětí – a to přímo ve vašem městě! \nSeznámíte se s odvážným Mauglím\, moudrým vlčím vůdcem Akélou\, ušlechtilým a statečným panterem Baghírou\, rozverným medvědem Balúem\, jehož kostým je jediný svého druhu v Evropě! Velkolepý dojem zanechá také obrovský král opic – gorila Ludvík v unikátním kostýmu. \nObrovským lákadlem je jedinečný kostým Hada KAA\, jaký jste ještě nikdy neviděli! \nO napětí se postará nelítostný tygr Šerchán\, jeho komicko-zákeřný společník hyena Tabaki\, a atmosféru odlehčí i vtipný a upovídaný papoušek a další známá zvířata. \n Spolu s projekcemi a dechberoucími vizuálními efekty se ocitnete přímo uprostřed kouzelné džungle. \nDěti se stanou součástí představení – pomohou Mauglímu zahnat Šerchána nebo najít med pro medvěda Balů\,  a společně s herci dotvářet kouzelný příběh. \nInteraktivní část vás vtáhne do děje – zvířata z džungle se objeví nejen na jevišti\, ale i mezi dětmi v hledišti\, aby si každý mohl zažít pocit\, že je součástí příběhu. \nSpeciální bonus: Každé dítě dostane ke vstupence zvířecí masku dle vlastního výběru.A po představení čeká malé diváky jedinečná možnost vyfotit se přímo na jevišti s herci v kostýmech! \n  \nTip na vánoční dárek!Darujte svým dětem a celé rodině nezapomenutelný zážitek – vstupenky na muzikál\, o kterém se bude mluvit ještě dlouho. \nToto není jen muzikál. Je to největší zážitek u vás doma\, ve vašem městě! \nPředprodej vstupenek spuštěn právě teď – kapacita je omezená.Kupte si vstupenky v síti smsticket a buďte u muzikálové události roku 2026! \n\nTento tip na kulturní akci v Plzeň najdete v přehledu na Dnesnivylet.cz spolu s dalšími koncerty\, festivaly a divadelními představeními.Každý si vybere co se mu líbí. Nezapomeňte koupit vstupenky včas\, stačí kliknout a budete přesměrování na oficiálního prodejce vstupenek.
URL:https://dnesnivylet.cz/event/kniha-dzungli-plzen/
LOCATION:Měšťanská beseda\, Plzeň\, Měšťanská beseda\, Plzeň\, Česká republika
CATEGORIES:Divadlo
ATTACH;FMTTYPE=image/jpeg:https://dnesnivylet.cz/wp-content/uploads/2025/11/320-22bbeec17886498e9dfae1ede2db945c.jpg
END:VEVENT
BEGIN:VEVENT
DTSTART;TZID=Europe/Prague:20260322T190000
DTEND;TZID=Europe/Prague:20260322T220000
DTSTAMP:20260420T021648
CREATED:20251022T113438Z
LAST-MODIFIED:20251022T113439Z
UID:9607-1774206000-1774216800@dnesnivylet.cz
SUMMARY:Za dveřmi kanceláří
DESCRIPTION:Za dveřmi kanceláří se uskuteční dne 2026-03-22 v 19:00 v Zbýšov\, Kino Horník. \n🎟️ Koupit vstupenku \nTento tip na kulturní akci v Zbýšov najdete v přehledu na Dnesnivylet.cz spolu s dalšími koncerty\, festivaly a divadelními představeními.Každý si vybere co se mu líbí. Nezapomeňte koupit vstupenky včas\, stačí kliknout a budete přesměrování na oficiálního prodejce vstupenek.
URL:https://dnesnivylet.cz/event/za-dvermi-kancelari/
LOCATION:Kino Horník\, Zbýšov\, Kino Horník\, Zbýšov\, Česká republika
CATEGORIES:Divadlo
ATTACH;FMTTYPE=image/jpeg:https://dnesnivylet.cz/wp-content/uploads/2025/10/320-90a22b96beab49a39b4047a6af4f1a15.jpg
END:VEVENT
BEGIN:VEVENT
DTSTART;TZID=Europe/Prague:20260322T190000
DTEND;TZID=Europe/Prague:20260322T220000
DTSTAMP:20260420T021648
CREATED:20251214T071836Z
LAST-MODIFIED:20251214T071836Z
UID:15121-1774206000-1774216800@dnesnivylet.cz
SUMMARY:Cena za něžnost
DESCRIPTION:Cena za něžnost se uskuteční dne 2026-03-22 v 19:00 v Olomouc\, Reduta. \n🎟️ Koupit vstupenku \n\nLáska a humor  vždy dodají sílu jít dál a nic v životě nevzdávat.  Dojemný příběh o matce a dceři\, a jednom astronautovi.  \nHra byla předlohou oscarového filmu a je uváděna k příležitosti 70.narozenin Simony STAŠOVÉ. \nHrají:  Simona STAŠOVÁ\,  Miroslav ETZLER\,  Kamila  TRNKOVÁ\,  Otakar BROUSEK ml./J.TEPLÝ ml.\, Jessica BECHYŇOVÁ.                                    \n\nTento tip na kulturní akci v Olomouc najdete v přehledu na Dnesnivylet.cz spolu s dalšími koncerty\, festivaly a divadelními představeními.Každý si vybere co se mu líbí. Nezapomeňte koupit vstupenky včas\, stačí kliknout a budete přesměrování na oficiálního prodejce vstupenek.
URL:https://dnesnivylet.cz/event/cena-za-neznost-3/
LOCATION:Reduta\, Olomouc\, Reduta\, Olomouc\, Česká republika
CATEGORIES:Divadlo
ATTACH;FMTTYPE=image/jpeg:https://dnesnivylet.cz/wp-content/uploads/2025/12/320-91ec90c3b8384f67b4c9a97a7504dc8c.jpg
END:VEVENT
BEGIN:VEVENT
DTSTART;TZID=Europe/Prague:20260322T203000
DTEND;TZID=Europe/Prague:20260322T233000
DTSTAMP:20260420T021648
CREATED:20260222T141903Z
LAST-MODIFIED:20260222T141903Z
UID:18388-1774211400-1774222200@dnesnivylet.cz
SUMMARY:Images of Love - black light theatre (schwarzlichttheater)
DESCRIPTION:Images of Love – black light theatre (schwarzlichttheater) se uskuteční dne 2026-03-22 v 20:30 v Praha\, HILT black light theatre Prague – Art Space. \n🎟️ Koupit vstupenku \n\nDočasná sleva 100 Kč kód LOV100 (neplatí pro P.Cool Pass) – Temporary discount 100 CZK code LOV100 (not valid for P.Cool Pass) – Temporärer Rabatt 100 CZK Code LOV100 (nicht gültig für P.Cool Pass) – Descuento temporal 100 CZK código LOV100 (no válido para P.Cool Pass)  \n\nHILT black light theatre – Schwarzlichttheater HILT – Teatro negro Praga HILT\nWritten\, directed and choreography: Theodor Hoidekr\nOriginal music: Theodor Hoidekr (original music for HILT black light theatre)\nCopyright music: Coldplay – A sky full of stars\, Sting – Desert rose\, Patrick Swayze – She´s like a wind\, Shakira – Waka waka\, AC/DC – Highway to hell\, Koutev Bulgarian national ensemble – Bre petrunko (HILT black light theatre owns the licence for this music for use in the show Images of Love)\n\nČESKY ↓ ENGLISH ↓ DEUTSCH ↓ ESPANOL \n―cz―*FORMULÁŘ VSTUPENEK POUZE ČESKY A ANGLICKY PŘEPNĚTE V PRAVÉM ROHU NAHOŘE \nČerné divadlo HILT Praha – Images of Love \nLáska je vůdčí světlo\, které nás vede temnotou života. Multimediální představení Images of Love transformuje koncept lásky do fascinujících scén černého divadla\, které diváky zavedou na cestu různými etapami romantiky. Od počáteční jiskry mezi dvěma jednotlivci až po složitost zralého vztahu\, představení zkoumá různé aspekty lásky prostřednictvím podmanivého vizuálního a emocionálního vyprávění. \nNeverbální povaha představení umožňuje univerzální porozumění a zpřístupňuje jej divákům všech věkových kategorií a prostředí. Prostřednictvím kombinace originálních skladeb a světoznámých hitů hudba umocňuje vizuální podívanou a vtahuje diváky hlouběji do děje. Představení také vzdává hold ikonickým písním od umělců jako Shakira\, Sting a Coldplay a také obsahuje mystické ztvárnění bulharské sborové písně. \nImages of Love zve diváky\, aby se ponořili do světa\, kde mohou na vlastní kůži zažít krásu a výzvy lásky. Je to jedinečná příležitost zasmát se\, tančit a cítit celou škálu emocí vedle postav\, což vytváří skutečně interaktivní a nezapomenutelný divadelní zážitek. \n―en―*TICKET FORM ONLY IN CZECH AND ENGLISH SWITCH IN UPPER RIGHT CORNER \nHILT black light theatre Prague – Images of Love \nLove is the guiding light that leads us through the darkness of life. The multimedia performance Images of Love transforms the concept of love into mesmerizing black light theatre scenes that take the audience on a journey through the various stages of romance. From the initial spark between two individuals to the complexity of a mature relationship\, the performance explores the different facets of love through captivating visuals and emotional storytelling. \nThe non-verbal nature of the performance allows for universal understanding\, making it accessible to audiences of all ages and backgrounds. Through a combination of original compositions and world-famous hits\, the music enhances the visual spectacle\, drawing the audience deeper into the story. The performance also pays homage to iconic songs from artists like Shakira\, Sting\, and Coldplay\, as well as featuring a mystical rendition of a Bulgarian choir song. \nImages of Love invites the audience to immerse themselves in a world where they can experience the beauty and challenges of love firsthand. It is a unique opportunity to laugh\, dance\, and feel the full range of emotions alongside the characters\, creating a truly interactive and memorable theatrical experience. \n―de―*TICKETFORMULAR NUR AUF TSCHECHISCH UND ENGLISCH. SCHALTER IN DER OBEREN RECHTEN ECKE \nSchwarzlichttheater Prag HILT – Images of Love \nLiebe ist das Leitlicht\, das uns durch die Dunkelheit des Lebens führt. Die Multimedia-Performance „Images of Love“ verwandelt das Konzept der Liebe in faszinierende Schwarzlichttheater\, die das Publikum auf eine Reise durch die verschiedenen Phasen der Romantik mitnehmen. Von der ersten Funke zwischen zwei Menschen bis hin zur Komplexität einer reifen Beziehung erkundet die Performance die verschiedenen Facetten der Liebe durch fesselnde visuelle Elemente und emotionales Geschichtenerzählen. \nDie nonverbale Natur der Performance ermöglicht ein universelles Verständnis und macht sie für Zuschauer jeden Alters und jeder Herkunft zugänglich. Durch eine Kombination aus Originalkompositionen und weltberühmten Hits verstärkt die Musik das visuelle Spektakel und zieht das Publikum tiefer in die Geschichte hinein. Die Performance ist auch eine Hommage an ikonische Lieder von Künstlern wie Shakira\, Sting und Coldplay und bietet eine mystische Wiedergabe eines bulgarischen Chorlieds. \n„Images of Love“ lädt das Publikum ein\, in eine Welt einzutauchen\, in der es die Schönheit und Herausforderungen der Liebe aus erster Hand erleben kann. Es ist eine einmalige Gelegenheit\, gemeinsam mit den Figuren zu lachen\, zu tanzen und die ganze Bandbreite an Emotionen zu spüren\, wodurch ein wirklich interaktives und unvergessliches Theatererlebnis entsteht. \n―es―*FORMULARIO DE BOLETO SOLO EN CHECO E INGLÉS CAMBIAR EN LA ESQUINA SUPERIOR DERECHA \nTeatro de luz negra Praga HILT (Teatro negro Praga HILT) – Images of Love \nEl amor es la luz que nos guía a través de la oscuridad de la vida. La performance multimedia Images of Love transforma el concepto de amor en fascinantes escenas de teatro con luz negra que llevan al público a un viaje a través de las distintas etapas del romance. Desde la chispa inicial entre dos personas hasta la complejidad de una relación madura\, la performance explora las diferentes facetas del amor a través de imágenes cautivadoras y una narración emotiva. \nLa naturaleza no verbal de la performance permite una comprensión universal\, haciéndola accesible a audiencias de todas las edades y orígenes. A través de una combinación de composiciones originales y éxitos mundialmente famosos\, la música realza el espectáculo visual\, atrayendo al público más profundamente a la historia. La performance también rinde homenaje a canciones icónicas de artistas como Shakira\, Sting y Coldplay\, además de presentar una interpretación mística de una canción de un coro búlgaro. \nImages of Love invita al público a sumergirse en un mundo donde pueden experimentar la belleza y los desafíos del amor de primera mano. Es una oportunidad única para reír\, bailar y sentir toda la gama de emociones junto a los personajes\, creando una experiencia teatral verdaderamente interactiva y memorable. \n\nTento tip na kulturní akci v Praha najdete v přehledu na Dnesnivylet.cz spolu s dalšími koncerty\, festivaly a divadelními představeními.Každý si vybere co se mu líbí. Nezapomeňte koupit vstupenky včas\, stačí kliknout a budete přesměrování na oficiálního prodejce vstupenek.
URL:https://dnesnivylet.cz/event/images-of-love-black-light-theatre-schwarzlichttheater-45/
LOCATION:HILT black light theatre Prague – Art Space\, Praha\, HILT black light theatre Prague - Art Space\, Praha\, Česká republika
CATEGORIES:Divadlo
ATTACH;FMTTYPE=image/jpeg:https://dnesnivylet.cz/wp-content/uploads/2026/02/320-5e207a53a71a48649f49ca126f9f11ef.jpg
END:VEVENT
END:VCALENDAR