BEGIN:VCALENDAR
VERSION:2.0
PRODID:-//www.dnesnivylet.cz                                                                                                                        Tip na výlet pro celou rodinu. - ECPv6.15.13.1//NONSGML v1.0//EN
CALSCALE:GREGORIAN
METHOD:PUBLISH
X-ORIGINAL-URL:https://dnesnivylet.cz
X-WR-CALDESC:Akce na www.dnesnivylet.cz                                                                                                                        Tip na výlet pro celou rodinu.
REFRESH-INTERVAL;VALUE=DURATION:PT1H
X-Robots-Tag:noindex
X-PUBLISHED-TTL:PT1H
BEGIN:VTIMEZONE
TZID:Europe/Prague
BEGIN:DAYLIGHT
TZOFFSETFROM:+0100
TZOFFSETTO:+0200
TZNAME:CEST
DTSTART:20250330T010000
END:DAYLIGHT
BEGIN:STANDARD
TZOFFSETFROM:+0200
TZOFFSETTO:+0100
TZNAME:CET
DTSTART:20251026T010000
END:STANDARD
BEGIN:DAYLIGHT
TZOFFSETFROM:+0100
TZOFFSETTO:+0200
TZNAME:CEST
DTSTART:20260329T010000
END:DAYLIGHT
BEGIN:STANDARD
TZOFFSETFROM:+0200
TZOFFSETTO:+0100
TZNAME:CET
DTSTART:20261025T010000
END:STANDARD
BEGIN:DAYLIGHT
TZOFFSETFROM:+0100
TZOFFSETTO:+0200
TZNAME:CEST
DTSTART:20270328T010000
END:DAYLIGHT
BEGIN:STANDARD
TZOFFSETFROM:+0200
TZOFFSETTO:+0100
TZNAME:CET
DTSTART:20271031T010000
END:STANDARD
END:VTIMEZONE
BEGIN:VEVENT
DTSTART;TZID=Europe/Prague:20260324T180000
DTEND;TZID=Europe/Prague:20260324T210000
DTSTAMP:20260419T215449
CREATED:20251211T055033Z
LAST-MODIFIED:20251211T055034Z
UID:14687-1774375200-1774386000@dnesnivylet.cz
SUMMARY:Močál story - Hudební divadlo Karlín
DESCRIPTION:Močál story – Hudební divadlo Karlín se uskuteční dne 2026-03-24 v 18:00 v Český Krumlov\, Zámecká jízdárna. \n🎟️ Koupit vstupenku \n\nMočál Story je hudební komedie protkaná písničkami Ivana Mládka\, které dobře znáte. Celou hru napsal Ivan Mládek s osobitým vtipem ve verších a zazní v ní písničky notoricky známé jako je např. Jožin z bažin\, Pochod Praha Prčice\, Medvědi nevědí\, Zobali vrabci zobali či Prachovské skály\, ale i ty méně známé jako třeba Vylučování. Příběh je zcela jednoduchý – o ztracené spolužačce. Její zmizení řeší dva popletení policisté a na cestě za jejím nalezením společně potkají mnoho postav z Mládkových písniček – Jožina z bažin\, Lindu\, Jendu Bendu\, upíry. Představení bude doprovázet živá kapela s kapelníkem Felixem Slováčkem Jr. \n\nTento tip na kulturní akci v Český Krumlov najdete v přehledu na Dnesnivylet.cz spolu s dalšími koncerty\, festivaly a divadelními představeními.Každý si vybere co se mu líbí. Nezapomeňte koupit vstupenky včas\, stačí kliknout a budete přesměrování na oficiálního prodejce vstupenek.
URL:https://dnesnivylet.cz/event/mocal-story-hudebni-divadlo-karlin/
LOCATION:Zámecká jízdárna\, Český Krumlov\, Zámecká jízdárna\, Český Krumlov\, Česká republika
CATEGORIES:Koncert
ATTACH;FMTTYPE=image/jpeg:https://dnesnivylet.cz/wp-content/uploads/2025/12/320-2a1096dd84d047ed888e001bfcfe5491.jpg
END:VEVENT
BEGIN:VEVENT
DTSTART;TZID=Europe/Prague:20260324T190000
DTEND;TZID=Europe/Prague:20260324T220000
DTSTAMP:20260419T215449
CREATED:20260310T171739Z
LAST-MODIFIED:20260310T171740Z
UID:19330-1774378800-1774389600@dnesnivylet.cz
SUMMARY:Komedie kjógen v Praze
DESCRIPTION:Komedie kjógen v Praze se uskuteční dne 2026-03-24 v 19:00 v Praha\, Divadlo Na Prádle. \n🎟️ Koupit vstupenku \n\nTři komedie brněnského Divadla kjógen: \nLahodný je (BUSU) \nHlemýžď (KAGJÚ) \nKaminari (Bůh hromu) \n\nTento tip na kulturní akci v Praha najdete v přehledu na Dnesnivylet.cz spolu s dalšími koncerty\, festivaly a divadelními představeními.Každý si vybere co se mu líbí. Nezapomeňte koupit vstupenky včas\, stačí kliknout a budete přesměrování na oficiálního prodejce vstupenek.
URL:https://dnesnivylet.cz/event/komedie-kjogen-v-praze/
LOCATION:Divadlo Na Prádle\, Praha\, Divadlo Na Prádle\, Praha\, Česká republika
CATEGORIES:Divadlo
ATTACH;FMTTYPE=image/jpeg:https://dnesnivylet.cz/wp-content/uploads/2026/03/320-87216853a1554b5299196d0e484948b9.jpg
END:VEVENT
END:VCALENDAR