BEGIN:VCALENDAR
VERSION:2.0
PRODID:-//www.dnesnivylet.cz                                                                                                                        Tip na výlet pro celou rodinu. - ECPv6.15.13.1//NONSGML v1.0//EN
CALSCALE:GREGORIAN
METHOD:PUBLISH
X-ORIGINAL-URL:https://dnesnivylet.cz
X-WR-CALDESC:Akce na www.dnesnivylet.cz                                                                                                                        Tip na výlet pro celou rodinu.
REFRESH-INTERVAL;VALUE=DURATION:PT1H
X-Robots-Tag:noindex
X-PUBLISHED-TTL:PT1H
BEGIN:VTIMEZONE
TZID:Europe/Prague
BEGIN:DAYLIGHT
TZOFFSETFROM:+0100
TZOFFSETTO:+0200
TZNAME:CEST
DTSTART:20250330T010000
END:DAYLIGHT
BEGIN:STANDARD
TZOFFSETFROM:+0200
TZOFFSETTO:+0100
TZNAME:CET
DTSTART:20251026T010000
END:STANDARD
BEGIN:DAYLIGHT
TZOFFSETFROM:+0100
TZOFFSETTO:+0200
TZNAME:CEST
DTSTART:20260329T010000
END:DAYLIGHT
BEGIN:STANDARD
TZOFFSETFROM:+0200
TZOFFSETTO:+0100
TZNAME:CET
DTSTART:20261025T010000
END:STANDARD
BEGIN:DAYLIGHT
TZOFFSETFROM:+0100
TZOFFSETTO:+0200
TZNAME:CEST
DTSTART:20270328T010000
END:DAYLIGHT
BEGIN:STANDARD
TZOFFSETFROM:+0200
TZOFFSETTO:+0100
TZNAME:CET
DTSTART:20271031T010000
END:STANDARD
END:VTIMEZONE
BEGIN:VEVENT
DTSTART;TZID=Europe/Prague:20260324T190000
DTEND;TZID=Europe/Prague:20260324T220000
DTSTAMP:20260420T033044
CREATED:20251212T185924Z
LAST-MODIFIED:20251212T185924Z
UID:14983-1774378800-1774389600@dnesnivylet.cz
SUMMARY:Hudba Ennia Morriconeho při svíčkách
DESCRIPTION:Hudba Ennia Morriconeho při svíčkách se uskuteční dne 2026-03-24 v 19:00 v Žatec\, KD Moskva. \n🎟️ Koupit vstupenku \n\nKoncert filmové hudby Ennia Morriconeho při svíčkách v Žatci! \nTěšte se na neopakovatelnou atmosféru koncertní síně naplněné očekáváním\, kde vás zvuky smyčcových nástrojů provedou emocemi Morriconeho mistrovských děl. V tomto podání kvartetu zažijete napětí\, melancholii\, ale i radost\, jak je zachytil Morricone ve svých nejslavnějších filmových skladbách z legendárních snímků jako Tenkrát na Západě\, Hodný\, zlý a ošklivý\, Osm hrozných\, Neúplatní\, Profesionál a mnoho dalších.. \nTento koncert nabídne víc než jen hudbu. Sál ozáří stovky svíček\, které vytvoří magickou atmosféru a dokonale doplní Morriconeho nadčasové skladby. Spojení hudby a světla zajistí nezapomenutelný večer plný emocí. \nAkce je přístupná od 12 let. Každý účastník musí předložit platnou vstupenku  zakoupenou výhradně v síti smsticket. \n\nTento tip na kulturní akci v Žatec najdete v přehledu na Dnesnivylet.cz spolu s dalšími koncerty\, festivaly a divadelními představeními.Každý si vybere co se mu líbí. Nezapomeňte koupit vstupenky včas\, stačí kliknout a budete přesměrování na oficiálního prodejce vstupenek.
URL:https://dnesnivylet.cz/event/hudba-ennia-morriconeho-pri-svickach-4/
LOCATION:KD Moskva\, Žatec\, KD Moskva\, Žatec\, Česká republika
CATEGORIES:Koncert
ATTACH;FMTTYPE=image/jpeg:https://dnesnivylet.cz/wp-content/uploads/2025/12/320-0d9eb6327b70404393b81b153e082cd9.jpg
END:VEVENT
END:VCALENDAR