BEGIN:VCALENDAR
VERSION:2.0
PRODID:-//www.dnesnivylet.cz                                                                                                                        Tip na výlet pro celou rodinu. - ECPv6.15.13.1//NONSGML v1.0//EN
CALSCALE:GREGORIAN
METHOD:PUBLISH
X-ORIGINAL-URL:https://dnesnivylet.cz
X-WR-CALDESC:Akce na www.dnesnivylet.cz                                                                                                                        Tip na výlet pro celou rodinu.
REFRESH-INTERVAL;VALUE=DURATION:PT1H
X-Robots-Tag:noindex
X-PUBLISHED-TTL:PT1H
BEGIN:VTIMEZONE
TZID:Europe/Prague
BEGIN:DAYLIGHT
TZOFFSETFROM:+0100
TZOFFSETTO:+0200
TZNAME:CEST
DTSTART:20250330T010000
END:DAYLIGHT
BEGIN:STANDARD
TZOFFSETFROM:+0200
TZOFFSETTO:+0100
TZNAME:CET
DTSTART:20251026T010000
END:STANDARD
BEGIN:DAYLIGHT
TZOFFSETFROM:+0100
TZOFFSETTO:+0200
TZNAME:CEST
DTSTART:20260329T010000
END:DAYLIGHT
BEGIN:STANDARD
TZOFFSETFROM:+0200
TZOFFSETTO:+0100
TZNAME:CET
DTSTART:20261025T010000
END:STANDARD
BEGIN:DAYLIGHT
TZOFFSETFROM:+0100
TZOFFSETTO:+0200
TZNAME:CEST
DTSTART:20270328T010000
END:DAYLIGHT
BEGIN:STANDARD
TZOFFSETFROM:+0200
TZOFFSETTO:+0100
TZNAME:CET
DTSTART:20271031T010000
END:STANDARD
END:VTIMEZONE
BEGIN:VEVENT
DTSTART;TZID=Europe/Prague:20261108T180000
DTEND;TZID=Europe/Prague:20261108T210000
DTSTAMP:20260420T021749
CREATED:20260405T131053Z
LAST-MODIFIED:20260405T131054Z
UID:20315-1794160800-1794171600@dnesnivylet.cz
SUMMARY:The Elder Scrolls V: Skyrim – Symfonický koncert
DESCRIPTION:The Elder Scrolls V: Skyrim – Symfonický koncert se uskuteční dne 2026-11-08 v 18:00 v Brno\, Sono Centrum. \n🎟️ Koupit vstupenku \n\nPřipravte se na epický hudební večer inspirovaný jedním z nejslavnějších herních světů všech dob. The Elder Scrolls V: Skyrim ožívá naživo v podání symfonického orchestru při příležitosti 15. výročí vydání hry. \nBěhem koncertu zazní ikonická hudba\, která doprovázela miliony hráčů na jejich cestách drsným severem Tamrielu – od monumentálních chorálů až po jemné\, atmosférické skladby podtrhující kouzlo světa Skyrim. Orchestrální provedení dává těmto skladbám nový rozměr a přenese vás přímo do světa draků\, hrdinů a legend. \nTento koncert je výjimečným zážitkem nejen pro fanoušky hry\, ale i pro milovníky filmové a symfonické hudby. Spojení silného hudebního motivu\, mohutného orchestru a jedinečné atmosféry slibuje nezapomenutelný večer. \n  \n📅 Datum: 8. 11. 2026 \n📍 Místo: Sono Centrum Brno \n🎼 Provedení: symfonický orchestr \n🎮 15th Anniversary Concert – 2011–2026 \n\nTento tip na kulturní akci v Brno najdete v přehledu na Dnesnivylet.cz spolu s dalšími koncerty\, festivaly a divadelními představeními.Každý si vybere co se mu líbí. Nezapomeňte koupit vstupenky včas\, stačí kliknout a budete přesměrování na oficiálního prodejce vstupenek.
URL:https://dnesnivylet.cz/event/the-elder-scrolls-v-skyrim-symfonicky-koncert/
LOCATION:Sono Centrum\, Brno\, Sono Centrum\, Brno\, Česká republika
CATEGORIES:Koncert
ATTACH;FMTTYPE=image/jpeg:https://dnesnivylet.cz/wp-content/uploads/2026/04/320-b1b7db10fd6442d7af5343804c466b18.jpg
END:VEVENT
BEGIN:VEVENT
DTSTART;TZID=Europe/Prague:20261108T200000
DTEND;TZID=Europe/Prague:20261108T230000
DTSTAMP:20260420T021749
CREATED:20260419T121143Z
LAST-MODIFIED:20260419T121143Z
UID:20778-1794168000-1794178800@dnesnivylet.cz
SUMMARY:Rock Symphony Orchestra Show
DESCRIPTION:Rock Symphony Orchestra Show se uskuteční dne 2026-11-08 v 20:00 v Brno\, Sono Centrum. \n🎟️ Koupit vstupenku \n\nPřipravte se na monumentální hudební večer\, který spojuje sílu rockových legend s majestátností symfonického orchestru.Rock Opera – Symphonic Orchestra Show přináší ikonické skladby největších rockových kapel všech dob v novém\, epickém orchestrálním provedení. \nBěhem koncertu zazní nesmrtelné hity kapel jako Queen\, Metallica\, Led Zeppelin\, Pink Floyd\, AC/DC\, Nirvana\, Guns N’ Roses a dalších. Známé rockové melodie dostávají díky symfonickým aranžím zcela nový rozměr – silnější\, emotivnější a ještě působivější. \nTento koncert je výjimečným zážitkem nejen pro fanoušky rockové hudby\, ale i pro milovníky symfonických koncertů. Spojení energie rocku\, mohutného orchestru a velkolepé atmosféry slibuje nezapomenutelný hudební večer. \nDatum: 8. 11. 2026Místo: Sono Centrum BrnoProvedení: symfonický orchestrRock Opera – Symphonic Orchestra Show \n\nTento tip na kulturní akci v Brno najdete v přehledu na Dnesnivylet.cz spolu s dalšími koncerty\, festivaly a divadelními představeními.Každý si vybere co se mu líbí. Nezapomeňte koupit vstupenky včas\, stačí kliknout a budete přesměrování na oficiálního prodejce vstupenek.
URL:https://dnesnivylet.cz/event/rock-symphony-orchestra-show/
LOCATION:Sono Centrum\, Brno\, Sono Centrum\, Brno\, Česká republika
CATEGORIES:Koncert
ATTACH;FMTTYPE=image/jpeg:https://dnesnivylet.cz/wp-content/uploads/2026/04/320-18466e08bfef4da7ba6f9e702a3b9cbc.jpg
END:VEVENT
END:VCALENDAR