BEGIN:VCALENDAR
VERSION:2.0
PRODID:-//www.dnesnivylet.cz                                                                                                                        Tip na výlet pro celou rodinu. - ECPv6.15.13.1//NONSGML v1.0//EN
CALSCALE:GREGORIAN
METHOD:PUBLISH
X-WR-CALNAME:www.dnesnivylet.cz                                                                                                                        Tip na výlet pro celou rodinu.
X-ORIGINAL-URL:https://dnesnivylet.cz
X-WR-CALDESC:Akce na www.dnesnivylet.cz                                                                                                                        Tip na výlet pro celou rodinu.
REFRESH-INTERVAL;VALUE=DURATION:PT1H
X-Robots-Tag:noindex
X-PUBLISHED-TTL:PT1H
BEGIN:VTIMEZONE
TZID:Europe/Prague
BEGIN:DAYLIGHT
TZOFFSETFROM:+0100
TZOFFSETTO:+0200
TZNAME:CEST
DTSTART:20240331T010000
END:DAYLIGHT
BEGIN:STANDARD
TZOFFSETFROM:+0200
TZOFFSETTO:+0100
TZNAME:CET
DTSTART:20241027T010000
END:STANDARD
BEGIN:DAYLIGHT
TZOFFSETFROM:+0100
TZOFFSETTO:+0200
TZNAME:CEST
DTSTART:20250330T010000
END:DAYLIGHT
BEGIN:STANDARD
TZOFFSETFROM:+0200
TZOFFSETTO:+0100
TZNAME:CET
DTSTART:20251026T010000
END:STANDARD
BEGIN:DAYLIGHT
TZOFFSETFROM:+0100
TZOFFSETTO:+0200
TZNAME:CEST
DTSTART:20260329T010000
END:DAYLIGHT
BEGIN:STANDARD
TZOFFSETFROM:+0200
TZOFFSETTO:+0100
TZNAME:CET
DTSTART:20261025T010000
END:STANDARD
END:VTIMEZONE
BEGIN:VEVENT
DTSTART;TZID=Europe/Prague:20251105T190000
DTEND;TZID=Europe/Prague:20251105T220000
DTSTAMP:20260420T012347
CREATED:20251020T153331Z
LAST-MODIFIED:20251020T153331Z
UID:9229-1762369200-1762380000@dnesnivylet.cz
SUMMARY:Hudba Harryho Pottera při svíčkách | Svitavy
DESCRIPTION:Hudba Harryho Pottera při svíčkách | Svitavy se uskuteční dne 2025-11-05 v 19:00 v Svitavy\, Fabrika. \n🎟️ Koupit vstupenku \n\nNenechte si ujít večer plný magické hudby\, kde zazní ty nejznámější melodie a písně ze všech filmů Harryho Pottera. Světlo stovky svíček vytvoří nezapomenutelnou atmosféru koncertu. \nProgram v jedinečném klavírním provedení představuje výběr filmových skladeb od pětinásobného oscarového skladatele Johna Williamse společně s díly Patricka Doyla\, Nicolase Hoopera a Alexandra Desplata\, držitele Oscara\, a nabízí to nejlepší z hudby Harryho Pottera. \nTento magický koncert nabídne víc než jen hudbu; stovky svíček rozzáří prostor a přidají na tajemné atmosféře plné mystiky a kouzel. \nMůžete se těšit na známé melodie a písně z filmů Harryho Pottera\, upravené pro klavírní koncert a to v podání přední české klavíristky Lucie Kubátové. \nV rámci Evropské tour alternují také: František Panáček a Alexandr Starý.  \nAkce je přístupná od 12 let. Každý účastník musí předložit platnou vstupenku  zakoupenou výhradně v síti smsticket. \n„Celé představení si můžete naplno vychutnat\, díky korunnímu klenotu mezi koncertními klavíry C. Bechstein D 282.Tímto děkujeme našemu partnerovi C. Bechstein – www.bechstein.com za podporu akce.“ \n\nTento tip na kulturní akci v Svitavy najdete v přehledu na Dnesnivylet.cz spolu s dalšími koncerty\, festivaly a divadelními představeními.Každý si vybere co se mu líbí. Nezapomeňte koupit vstupenky včas\, stačí kliknout a budete přesměrování na oficiálního prodejce vstupenek.
URL:https://dnesnivylet.cz/event/hudba-harryho-pottera-pri-svickach-svitavy/
LOCATION:Fabrika\, Svitavy\, Fabrika\, Svitavy\, Česká republika
CATEGORIES:Koncert
ATTACH;FMTTYPE=image/jpeg:https://dnesnivylet.cz/wp-content/uploads/2025/10/320-ba8f660c30e947d1b838a955392a59bf.jpg
END:VEVENT
BEGIN:VEVENT
DTSTART;TZID=Europe/Prague:20251105T190000
DTEND;TZID=Europe/Prague:20251105T220000
DTSTAMP:20260420T012347
CREATED:20251020T075544Z
LAST-MODIFIED:20251020T075545Z
UID:8853-1762369200-1762380000@dnesnivylet.cz
SUMMARY:Koncert filmové hudby | Frenštát pod Radhošťěm
DESCRIPTION:Koncert filmové hudby | Frenštát pod Radhošťěm se uskuteční dne 2025-11-05 v 19:00 v Frenštát pod Radhoštěm\, Dům kultury. \n🎟️ Koupit vstupenku \n\nSmyčce Pražského filmového orchestru pod taktovkou dirigenta Jiřího Korynty přináší velkolepý koncert\, který představí v Domě kultury ve Frenštátě pod Radhoštěm! \nDiváci se mohou těšit na skladby z filmů Star Wars\, Pán Prstenů\, Games of Thrones\, Harry Potter\, Piráti z Karibiku a další známé melodie stříbrného plátna. \nKoncert bude bohatý na fantastickou filmovou hudbu od světově známých hudebních skladatelů\, jakými jsou např. John Williams\, Hans Zimmer\, Howard Shore nebo James Horner.  \n\nTento tip na kulturní akci v Frenštát pod Radhoštěm najdete v přehledu na Dnesnivylet.cz spolu s dalšími koncerty\, festivaly a divadelními představeními.Každý si vybere co se mu líbí. Nezapomeňte koupit vstupenky včas\, stačí kliknout a budete přesměrování na oficiálního prodejce vstupenek.
URL:https://dnesnivylet.cz/event/koncert-filmove-hudby-frenstat-pod-radhostem/
LOCATION:Dům kultury\, Frenštát pod Radhoštěm\, Dům kultury\, Frenštát pod Radhoštěm\, Česká republika
CATEGORIES:Koncert
ATTACH;FMTTYPE=image/jpeg:https://dnesnivylet.cz/wp-content/uploads/2025/10/320-f5ab7b566c6d4adbbf732d80a648fa58.jpg
END:VEVENT
BEGIN:VEVENT
DTSTART;TZID=Europe/Prague:20251104T190000
DTEND;TZID=Europe/Prague:20251104T220000
DTSTAMP:20260420T012347
CREATED:20251102T202314Z
LAST-MODIFIED:20251102T202315Z
UID:11369-1762282800-1762293600@dnesnivylet.cz
SUMMARY:Petr Tomeček / Panova flétna v melodiích Karla Svobody
DESCRIPTION:Petr Tomeček / Panova flétna v melodiích Karla Svobody se uskuteční dne 2025-11-04 v 19:00 v Benešov\, Městské divadlo Na Poště. \n🎟️ Koupit vstupenku \n\nSrdečně vás zveme na jedinečný hudební večer\, který propojí výjimečný zvuk vzácného hudebního nástroje Panovy flétny s nezaměnitelnou a nadčasovou tvorbou Karla Svobody\, jednoho z nejgeniálnějších českých skladatelů. \nPanova flétna\, nástroj s tisíciletou historií a kouzelně éterickým zvukem\, rozezní známé melodie\, které se zapsaly do srdcí několika generací. Zazní slavné filmové a televizní skladby v novém\, překvapivém podání – dojemné\, energické i snové. \nCelý koncert doprovodí obrazová a světelná projekce\, která umocní atmosféru a promění vystoupení v multisenzorický zážitek. \nPřijďte si užít večer plný emocí\, krásy a originálního hudebního spojení\, které se rodí jen výjimečně. \n\nTento tip na kulturní akci v Benešov najdete v přehledu na Dnesnivylet.cz spolu s dalšími koncerty\, festivaly a divadelními představeními.Každý si vybere co se mu líbí. Nezapomeňte koupit vstupenky včas\, stačí kliknout a budete přesměrování na oficiálního prodejce vstupenek.
URL:https://dnesnivylet.cz/event/petr-tomecek-panova-fletna-v-melodiich-karla-svobody-5/
LOCATION:Městské divadlo Na Poště\, Benešov\, Městské divadlo Na Poště\, Benešov\, Česká republika
CATEGORIES:Koncert
ATTACH;FMTTYPE=image/jpeg:https://dnesnivylet.cz/wp-content/uploads/2025/11/320-8ee9c3d0feab4bd583d42b22caa6e2aa.jpg
END:VEVENT
BEGIN:VEVENT
DTSTART;TZID=Europe/Prague:20251103T190000
DTEND;TZID=Europe/Prague:20251103T220000
DTSTAMP:20260420T012347
CREATED:20251020T153331Z
LAST-MODIFIED:20251020T153331Z
UID:9225-1762196400-1762207200@dnesnivylet.cz
SUMMARY:Hudba Harryho Pottera při svíčkách | Havířov
DESCRIPTION:Hudba Harryho Pottera při svíčkách | Havířov se uskuteční dne 2025-11-03 v 19:00 v Havířov\, Kulturní dům Leoše Janáčka. \n🎟️ Koupit vstupenku \n\nNenechte si ujít večer plný magické hudby\, kde zazní ty nejznámější melodie a písně ze všech filmů Harryho Pottera. Světlo stovky svíček vytvoří nezapomenutelnou atmosféru koncertu. \nProgram v jedinečném klavírním provedení představuje výběr filmových skladeb od pětinásobného oscarového skladatele Johna Williamse společně s díly Patricka Doyla\, Nicolase Hoopera a Alexandra Desplata\, držitele Oscara\, a nabízí to nejlepší z hudby Harryho Pottera. \nTento magický koncert nabídne víc než jen hudbu; stovky svíček rozzáří prostor a přidají na tajemné atmosféře plné mystiky a kouzel. \nMůžete se těšit na známé melodie a písně z filmů Harryho Pottera\, upravené pro klavírní koncert a to v podání předního českého klavíristy Alexandra Starého. \nV rámci Evropské tour alternují také: František Panáček a Lucie Kubátová.  \nAkce je přístupná od 12 let. Každý účastník musí předložit platnou vstupenku  zakoupenou výhradně v síti smsticket. \n  \n\nTento tip na kulturní akci v Havířov najdete v přehledu na Dnesnivylet.cz spolu s dalšími koncerty\, festivaly a divadelními představeními.Každý si vybere co se mu líbí. Nezapomeňte koupit vstupenky včas\, stačí kliknout a budete přesměrování na oficiálního prodejce vstupenek.
URL:https://dnesnivylet.cz/event/hudba-harryho-pottera-pri-svickach-havirov/
LOCATION:Kulturní dům Leoše Janáčka\, Havířov\, Kulturní dům Leoše Janáčka\, Havířov\, Česká republika
CATEGORIES:Koncert
ATTACH;FMTTYPE=image/jpeg:https://dnesnivylet.cz/wp-content/uploads/2025/10/320-3edc8793439c4776beb443074b8ae9c1.jpg
END:VEVENT
BEGIN:VEVENT
DTSTART;TZID=Europe/Prague:20251030T190000
DTEND;TZID=Europe/Prague:20251030T220000
DTSTAMP:20260420T012347
CREATED:20251023T112932Z
LAST-MODIFIED:20251023T112933Z
UID:9788-1761850800-1761861600@dnesnivylet.cz
SUMMARY:Ludovico Einaudi Music | Velké Meziříčí
DESCRIPTION:Ludovico Einaudi Music | Velké Meziříčí se uskuteční dne 2025-10-30 v 19:00 v Velké Meziříčí\, Jupiter klub. \n🎟️ Koupit vstupenku \n\nNenechte si ujít nezapomenutelný večer krásné hudby\, kde zazní melodie jednoho z nejlepších pianistů a skladatelů na světe\, Ludovica Einaudiho v podání předního české klavíristky Lucie Kubátové. \nEinaudi je známý svými jednoduchými\, ale strašidelně krásnými minimalistickými díly pro klavír a ohromující filmovou hudbou. Za téměř třicet let své činnosti vydal řadu alb\, která se dostala na přední příčky poslechovosti\, vyprodává nejprestižnější koncertní sály po celém světě a jeho hudba zazněla v mnoha slavných filmech (Nedotknutelní\, Doktor Živago\, To je Anglie\, Nomadland a další). \nTento jedinečný koncert nabídne více než jen hudbu. Symfonie třpytivých svíček rozsvítí celý prostor a přidá na mystičnu a kouzlu večera. Každá svíčka přispěje k vytvoření kouzelného prostředí\, které dokonale doplní hudební zážitek. \nV rámci Evropské tour alternují také: František Panáček a Alexand Starý.  \nAkce je přístupná od 12 let. Každý účastník musí předložit platnou vstupenku  zakoupenou výhradně v síti SMS ticket. \n\nTento tip na kulturní akci v Velké Meziříčí najdete v přehledu na Dnesnivylet.cz spolu s dalšími koncerty\, festivaly a divadelními představeními.Každý si vybere co se mu líbí. Nezapomeňte koupit vstupenky včas\, stačí kliknout a budete přesměrování na oficiálního prodejce vstupenek.
URL:https://dnesnivylet.cz/event/ludovico-einaudi-music-velke-mezirici/
LOCATION:Jupiter klub\, Velké Meziříčí\, Jupiter klub\, Velké Meziříčí\, Česká republika
CATEGORIES:Koncert
ATTACH;FMTTYPE=image/jpeg:https://dnesnivylet.cz/wp-content/uploads/2025/10/320-95b3d44fb32a48d2a555ac8adbb38cef.jpg
END:VEVENT
BEGIN:VEVENT
DTSTART;TZID=Europe/Prague:20251028T190000
DTEND;TZID=Europe/Prague:20251028T220000
DTSTAMP:20260420T012347
CREATED:20251020T153330Z
LAST-MODIFIED:20251020T153331Z
UID:9222-1761678000-1761688800@dnesnivylet.cz
SUMMARY:Hudba Harryho Pottera při svíčkách | Zlín
DESCRIPTION:Hudba Harryho Pottera při svíčkách | Zlín se uskuteční dne 2025-10-28 v 19:00 v Zlín\, Kongresové centrum. \n🎟️ Koupit vstupenku \n\nNenechte si ujít večer plný magické hudby\, kde zazní ty nejznámější melodie a písně ze všech filmů Harryho Pottera. Světlo stovky svíček vytvoří nezapomenutelnou atmosféru koncertu. \nProgram v jedinečném klavírním provedení představuje výběr filmových skladeb od pětinásobného oscarového skladatele Johna Williamse společně s díly Patricka Doyla\, Nicolase Hoopera a Alexandra Desplata\, držitele Oscara\, a nabízí to nejlepší z hudby Harryho Pottera. \nTento magický koncert nabídne víc než jen hudbu; stovky svíček rozzáří prostor a přidají na tajemné atmosféře plné mystiky a kouzel. \nMůžete se těšit na známé melodie a písně z filmů Harryho Pottera\, upravené pro klavírní koncert a to v podání předního českého klavíristy Alexandra Starého. \nV rámci Evropské tour alternují také: František Panáček a Lucie Kubátová.  \nAkce je přístupná od 12 let. Každý účastník musí předložit platnou vstupenku  zakoupenou výhradně v síti smsticket. \n  \n\nTento tip na kulturní akci v Zlín najdete v přehledu na Dnesnivylet.cz spolu s dalšími koncerty\, festivaly a divadelními představeními.Každý si vybere co se mu líbí. Nezapomeňte koupit vstupenky včas\, stačí kliknout a budete přesměrování na oficiálního prodejce vstupenek.
URL:https://dnesnivylet.cz/event/hudba-harryho-pottera-pri-svickach-zlin/
LOCATION:Kongresové centrum\, Zlín\, Kongresové centrum\, Zlín\, Česká republika
CATEGORIES:Koncert
ATTACH;FMTTYPE=image/jpeg:https://dnesnivylet.cz/wp-content/uploads/2025/10/320-f595aa2ba65a4939b256f07be358e1c6.jpg
END:VEVENT
BEGIN:VEVENT
DTSTART;TZID=Europe/Prague:20251027T190000
DTEND;TZID=Europe/Prague:20251027T220000
DTSTAMP:20260420T012347
CREATED:20251020T090445Z
LAST-MODIFIED:20251020T090446Z
UID:8955-1761591600-1761602400@dnesnivylet.cz
SUMMARY:Ludovico Einaudi Music | Hradec Králové
DESCRIPTION:Ludovico Einaudi Music | Hradec Králové se uskuteční dne 2025-10-27 v 19:00 v Hradec Králové\, Petrof Gallery. \n🎟️ Koupit vstupenku \n\nNenechte si ujít nezapomenutelný večer krásné hudby\, kde zazní melodie jednoho z nejlepších pianistů a skladatelů na světe\, Ludovica Einaudiho v podání přední české klavíristky Lucie Kubátové. \nEinaudi je známý svými jednoduchými\, ale strašidelně krásnými minimalistickými díly pro klavír a ohromující filmovou hudbou. Za téměř třicet let své činnosti vydal řadu alb\, která se dostala na přední příčky poslechovosti\, vyprodává nejprestižnější koncertní sály po celém světě a jeho hudba zazněla v mnoha slavných filmech (Nedotknutelní\, Doktor Živago\, To je Anglie\, Nomadland a další). \nTento jedinečný koncert nabídne více než jen hudbu. Symfonie třpytivých svíček rozsvítí celý prostor a přidá na mystičnu a kouzlu večera. Každá svíčka přispěje k vytvoření kouzelného prostředí\, které dokonale doplní hudební zážitek. \nV rámci Evropské tour alternují také: Miroslav Beinhauer\, František Panáček a Alexand Starý.  \nAkce je přístupná od 12 let. Každý účastník musí předložit platnou vstupenku  zakoupenou výhradně v síti SMS ticket. \n\nTento tip na kulturní akci v Hradec Králové najdete v přehledu na Dnesnivylet.cz spolu s dalšími koncerty\, festivaly a divadelními představeními.Každý si vybere co se mu líbí. Nezapomeňte koupit vstupenky včas\, stačí kliknout a budete přesměrování na oficiálního prodejce vstupenek.
URL:https://dnesnivylet.cz/event/ludovico-einaudi-music-hradec-kralove/
LOCATION:Petrof Gallery\, Hradec Králové\, Petrof Gallery\, Hradec Králové\, Česká republika
CATEGORIES:Koncert
ATTACH;FMTTYPE=image/jpeg:https://dnesnivylet.cz/wp-content/uploads/2025/10/320-aef2e39994dc48fcaf6e2cc324ed4b78.jpg
END:VEVENT
BEGIN:VEVENT
DTSTART;TZID=Europe/Prague:20251023T190000
DTEND;TZID=Europe/Prague:20251023T220000
DTSTAMP:20260420T012347
CREATED:20251020T094136Z
LAST-MODIFIED:20251020T094137Z
UID:9088-1761246000-1761256800@dnesnivylet.cz
SUMMARY:Hudba Bridgerton při svíčkách
DESCRIPTION:Hudba Bridgerton při svíčkách se uskuteční dne 2025-10-23 v 19:00 v Hodonín\, Dům kultury. \n🎟️ Koupit vstupenku \n\nNenechte si ujít večer plný romantiky a elegance\, kde zazní ty nejznámější melodie a písně z oblíbeného seriálu Bridgerton. Světlo stovky svíček vytvoří okouzlující atmosféru koncertu. \nProgram v jedinečném provedení smyčcového kvarteta představí výběr hudebních skladeb z tohoto populárního seriálu\, inspirovaných klasickými díly i moderními popovými melodiemi\, které si získaly srdce diváků po celém světě. \nTento koncert nabídne víc než jen hudbu; stovky svíček rozzáří prostor a vytvoří atmosféru plnou noblesy\, romantiky a neodolatelného kouzla historické doby. \nAkce je přístupná od 12 let. Každý účastník musí předložit platnou vstupenku  zakoupenou výhradně v síti SMS ticket. \n\nTento tip na kulturní akci v Hodonín najdete v přehledu na Dnesnivylet.cz spolu s dalšími koncerty\, festivaly a divadelními představeními.Každý si vybere co se mu líbí. Nezapomeňte koupit vstupenky včas\, stačí kliknout a budete přesměrování na oficiálního prodejce vstupenek.
URL:https://dnesnivylet.cz/event/hudba-bridgerton-pri-svickach-2/
LOCATION:Dům kultury\, Hodonín\, Dům kultury\, Hodonín\, Česká republika
CATEGORIES:Koncert
ATTACH;FMTTYPE=image/jpeg:https://dnesnivylet.cz/wp-content/uploads/2025/10/320-36858b1befdf4e8c875fece485279c8a.jpg
END:VEVENT
BEGIN:VEVENT
DTSTART;TZID=Europe/Prague:20251021T190000
DTEND;TZID=Europe/Prague:20251021T220000
DTSTAMP:20260420T012347
CREATED:20251020T153306Z
LAST-MODIFIED:20251020T153306Z
UID:9205-1761073200-1761084000@dnesnivylet.cz
SUMMARY:Hudba Bridgerton při svíčkách
DESCRIPTION:Hudba Bridgerton při svíčkách se uskuteční dne 2025-10-21 v 19:00 v Žatec\, KD Moskva. \n🎟️ Koupit vstupenku \n\nNenechte si ujít večer plný romantiky a elegance\, kde zazní ty nejznámější melodie a písně z oblíbeného seriálu Bridgerton. Světlo stovky svíček vytvoří okouzlující atmosféru koncertu. \nProgram v jedinečném provedení smyčcového kvarteta představí výběr hudebních skladeb z tohoto populárního seriálu\, inspirovaných klasickými díly i moderními popovými melodiemi\, které si získaly srdce diváků po celém světě. \nTento koncert nabídne víc než jen hudbu; stovky svíček rozzáří prostor a vytvoří atmosféru plnou noblesy\, romantiky a neodolatelného kouzla historické doby. \nAkce je přístupná od 12 let. Každý účastník musí předložit platnou vstupenku  zakoupenou výhradně v síti SMS ticket. \n\nTento tip na kulturní akci v Žatec najdete v přehledu na Dnesnivylet.cz spolu s dalšími koncerty\, festivaly a divadelními představeními.Každý si vybere co se mu líbí. Nezapomeňte koupit vstupenky včas\, stačí kliknout a budete přesměrování na oficiálního prodejce vstupenek.
URL:https://dnesnivylet.cz/event/hudba-bridgerton-pri-svickach-6/
LOCATION:KD Moskva\, Žatec\, KD Moskva\, Žatec\, Česká republika
CATEGORIES:Koncert
ATTACH;FMTTYPE=image/jpeg:https://dnesnivylet.cz/wp-content/uploads/2025/10/320-7f17cc5bc2d1484fac5bad271eccdd3e.jpg
END:VEVENT
END:VCALENDAR