BEGIN:VCALENDAR
VERSION:2.0
PRODID:-//www.dnesnivylet.cz                                                                                                                        Tip na výlet pro celou rodinu. - ECPv6.15.13.1//NONSGML v1.0//EN
CALSCALE:GREGORIAN
METHOD:PUBLISH
X-WR-CALNAME:www.dnesnivylet.cz                                                                                                                        Tip na výlet pro celou rodinu.
X-ORIGINAL-URL:https://dnesnivylet.cz
X-WR-CALDESC:Akce na www.dnesnivylet.cz                                                                                                                        Tip na výlet pro celou rodinu.
REFRESH-INTERVAL;VALUE=DURATION:PT1H
X-Robots-Tag:noindex
X-PUBLISHED-TTL:PT1H
BEGIN:VTIMEZONE
TZID:Europe/Prague
BEGIN:DAYLIGHT
TZOFFSETFROM:+0100
TZOFFSETTO:+0200
TZNAME:CEST
DTSTART:20240331T010000
END:DAYLIGHT
BEGIN:STANDARD
TZOFFSETFROM:+0200
TZOFFSETTO:+0100
TZNAME:CET
DTSTART:20241027T010000
END:STANDARD
BEGIN:DAYLIGHT
TZOFFSETFROM:+0100
TZOFFSETTO:+0200
TZNAME:CEST
DTSTART:20250330T010000
END:DAYLIGHT
BEGIN:STANDARD
TZOFFSETFROM:+0200
TZOFFSETTO:+0100
TZNAME:CET
DTSTART:20251026T010000
END:STANDARD
BEGIN:DAYLIGHT
TZOFFSETFROM:+0100
TZOFFSETTO:+0200
TZNAME:CEST
DTSTART:20260329T010000
END:DAYLIGHT
BEGIN:STANDARD
TZOFFSETFROM:+0200
TZOFFSETTO:+0100
TZNAME:CET
DTSTART:20261025T010000
END:STANDARD
BEGIN:DAYLIGHT
TZOFFSETFROM:+0100
TZOFFSETTO:+0200
TZNAME:CEST
DTSTART:20270328T010000
END:DAYLIGHT
BEGIN:STANDARD
TZOFFSETFROM:+0200
TZOFFSETTO:+0100
TZNAME:CET
DTSTART:20271031T010000
END:STANDARD
END:VTIMEZONE
BEGIN:VEVENT
DTSTART;TZID=Europe/Prague:20260117T190000
DTEND;TZID=Europe/Prague:20260117T220000
DTSTAMP:20260420T012520
CREATED:20251101T133902Z
LAST-MODIFIED:20251101T133903Z
UID:10878-1768676400-1768687200@dnesnivylet.cz
SUMMARY:Abba World + Jarek Filgas z Argemy/Premiéru + Bohuš Matuš
DESCRIPTION:Abba World + Jarek Filgas z Argemy/Premiéru + Bohuš Matuš se uskuteční dne 2026-01-17 v 19:00 v Havlovice\, Kulturní dům Havlovice. \n🎟️ Koupit vstupenku \n\nJednou větou: MÁTE SE NA CO TĚŠIT !!! \nNejlepší a nejznámější skupina imitující slavnou Abbu již před třemi lety v Havlovicích byla a měla neskutečný úspěch. Tato kapela míří opět do havlovického kulturáku. Desetičlenné složení kapely vytvoří 100 % živou velkou šou\, na kterou jste zvyklí. Před třemi lety to byla jízda\, která se musí zvopakovat! Hity jako Dancing Queen\, Take a Chance on Me\, Lay All Your Love on Me\, Super Trouper\, Knowing me Knowing you\, Mamma Mia\, The Winner Takes It All\, S.O.S.\, Chiquitita\, Fernando\, Voulez-Vous\, Gimme Gimme\, Does Your Mother Know\, Waterloo\, atd. zná každý.  \nAbba World Revival představuje absolutní světovou špičku tohoto hudebního oboru! \nBěhem koncertu vystoupí i několik hostů: \nZpěvák Bohuš Matuš\, který Vám zkraje večera před kapelou Abba World revival zazpívá hity od Karla Gotta\, Waldy Matušky\, ale i písničky z vlastní tvorby. \nNa závěr\, po vystoupení kapely Abba World Revival vystoupí havlováky oblíbený zpěvák Jarek Filgas\, exfrontman skupiny Argema a Premiér. Tento zpěvák již v Havlovicích taktéž jednou vystoupil a svým zpěvem uchvátil přítomné. Jarek zazpívá hity jako Jarošovský pivovar\, Hrobař\, Modré pondělí\, Tohle je ráj\, Růženka\, Špinavý záda atd.\, prostě hity\, které zná každý.  \nDále během večera vystoupí s několika písněmi i úpický rodák Tomáš Kuťák\, zpěvák Koletovy Hornické hudby\, Rtyně v Podkrknoší. \n  \nBude to velké. Trojkoncert za cenu jednoho! Neváhejte\, vstupenek včetně místenek je omezené množství.  \n\nTento tip na kulturní akci v Havlovice najdete v přehledu na Dnesnivylet.cz spolu s dalšími koncerty\, festivaly a divadelními představeními.Každý si vybere co se mu líbí. Nezapomeňte koupit vstupenky včas\, stačí kliknout a budete přesměrování na oficiálního prodejce vstupenek.
URL:https://dnesnivylet.cz/event/abba-world-jarek-filgas-z-argemy-premieru-bohus-matus/
LOCATION:Kulturní dům Havlovice\, Havlovice\, Kulturní dům Havlovice\, Havlovice\, Česká republika
CATEGORIES:Koncert
ATTACH;FMTTYPE=image/jpeg:https://dnesnivylet.cz/wp-content/uploads/2025/11/320-40e651d77cec41158f82b3701805a90e.jpg
END:VEVENT
BEGIN:VEVENT
DTSTART;TZID=Europe/Prague:20251025T190000
DTEND;TZID=Europe/Prague:20251025T220000
DTSTAMP:20260420T012520
CREATED:20251020T064120Z
LAST-MODIFIED:20251020T064120Z
UID:7931-1761418800-1761429600@dnesnivylet.cz
SUMMARY:VERONA a Dj Andy + Dj Cruzz
DESCRIPTION:VERONA a Dj Andy + Dj Cruzz se uskuteční dne 2025-10-25 v 19:00 v Havlovice\, Kulturní dům Havlovice. \n🎟️ Koupit vstupenku \n\nDo Havlovic míří skupina Verona. \nZazní ty největší hity: Náhodou\, Nejsi sám\, Ztracená bloudím\, Jen tobě\, Girotondo\, Co nejdýl\, Den co den\, Za všechno může čas\, Hey boy\, Teď a tady a možná i nový hit Na mě nečekej 🙂 \nPROGRAM: \nAkce bude začínat v 19 hod. Zkraje večera se Vám představí úpický Dj Cruzz\, který Vás naladí na tu pravou atmosféru. Pustí Vám hitovky ze svého šuplíku a roztancuje parket.  \nCca ve 22 hod vystoupí skupina Verona. \nPo vystoupení kapely Verona bude následovat after párty v podání oblíbeného Dj Andyho\, od kterého uslyšíte zaručené hity z let minulých. Ukončení akce se plánuje ve 2 hodiny ráno. \n\nTento tip na kulturní akci v Havlovice najdete v přehledu na Dnesnivylet.cz spolu s dalšími koncerty\, festivaly a divadelními představeními.Každý si vybere co se mu líbí. Nezapomeňte koupit vstupenky včas\, stačí kliknout a budete přesměrování na oficiálního prodejce vstupenek.
URL:https://dnesnivylet.cz/event/verona-a-dj-andy-dj-cruzz/
LOCATION:Kulturní dům Havlovice\, Havlovice\, Kulturní dům Havlovice\, Havlovice\, Česká republika
CATEGORIES:Koncert
ATTACH;FMTTYPE=image/jpeg:https://dnesnivylet.cz/wp-content/uploads/2025/10/320-1fba77a64f514989ad4118e497e6eb1c-1.jpg
END:VEVENT
END:VCALENDAR