BEGIN:VCALENDAR
VERSION:2.0
PRODID:-//www.dnesnivylet.cz                                                                                                                        Tip na výlet pro celou rodinu. - ECPv6.15.13.1//NONSGML v1.0//EN
CALSCALE:GREGORIAN
METHOD:PUBLISH
X-WR-CALNAME:www.dnesnivylet.cz                                                                                                                        Tip na výlet pro celou rodinu.
X-ORIGINAL-URL:https://dnesnivylet.cz
X-WR-CALDESC:Akce na www.dnesnivylet.cz                                                                                                                        Tip na výlet pro celou rodinu.
REFRESH-INTERVAL;VALUE=DURATION:PT1H
X-Robots-Tag:noindex
X-PUBLISHED-TTL:PT1H
BEGIN:VTIMEZONE
TZID:Europe/Prague
BEGIN:DAYLIGHT
TZOFFSETFROM:+0100
TZOFFSETTO:+0200
TZNAME:CEST
DTSTART:20240331T010000
END:DAYLIGHT
BEGIN:STANDARD
TZOFFSETFROM:+0200
TZOFFSETTO:+0100
TZNAME:CET
DTSTART:20241027T010000
END:STANDARD
BEGIN:DAYLIGHT
TZOFFSETFROM:+0100
TZOFFSETTO:+0200
TZNAME:CEST
DTSTART:20250330T010000
END:DAYLIGHT
BEGIN:STANDARD
TZOFFSETFROM:+0200
TZOFFSETTO:+0100
TZNAME:CET
DTSTART:20251026T010000
END:STANDARD
BEGIN:DAYLIGHT
TZOFFSETFROM:+0100
TZOFFSETTO:+0200
TZNAME:CEST
DTSTART:20260329T010000
END:DAYLIGHT
BEGIN:STANDARD
TZOFFSETFROM:+0200
TZOFFSETTO:+0100
TZNAME:CET
DTSTART:20261025T010000
END:STANDARD
END:VTIMEZONE
BEGIN:VEVENT
DTSTART;TZID=Europe/Prague:20251211T190000
DTEND;TZID=Europe/Prague:20251211T220000
DTSTAMP:20260420T020302
CREATED:20251129T072941Z
LAST-MODIFIED:20251129T072941Z
UID:14200-1765479600-1765490400@dnesnivylet.cz
SUMMARY:Co to píšeš\, miláčku
DESCRIPTION:Co to píšeš\, miláčku se uskuteční dne 2025-12-11 v 19:00 v Hlubočky\, KD Na Letním. \n🎟️ Koupit vstupenku \n\nCO TO PÍŠEŠ\, MILÁČKU… \nFrancouzská komedie o vášni\, pravdě a iluzích\, které si vytváříme\, abychom přežili. \nV hlavních rolích excelují Lenka Vlasáková\, Miroslav Etzler\, Ladislav Hampl a Veronika Svojtková\,kteří rozehrávají inteligentní\, vtipný i dojemný příběh o tom\, jak tenká může být hranice mezi životem a uměním. \nManželka slavného spisovatele pojme podezření\, kdo je ženskou inspirací jeho nového románu. \nCaroline se jednoho dne z dlouhé chvíle začte do rozpracovaného románu svého muže\, úspěšného prozaika Guillauma\, a nevěří svým očím. Hrdina románu o nemanželském poměru stárnoucího muže s mladou atraktivní dívkou se povážlivě podobá samotnému autorovi. A dokonce tuší\, o kterou dívku by se mohlo jednat. Když k nim na večeři přicházejí dlouholetí přátelé Éric a Sylvie\, rozhodne se Caroline muže se svým podezřením konfrontovat. Vznikne z toho velká hádka plná vybroušených dialogů a zvratů. Život a umění od sebe totiž mohou opisovat navzájem… \nKomedie úspěšného herce a dramatika Jeana-Françoise Crose (originální název Le Fantasma) měla premiéru na podzim 2022 ve vynikající inscenaci v pařížské Comédie des Champs-Élysées. \n  \nOsoby a obsazení \nCaroline  Lenka Vlasáková \nGuillauma  Miroslav Etzler \nEric Ladislav Hampl \nSylvie  Veronika Svojtková \nRežie Petr Svojtka \n\nTento tip na kulturní akci v Hlubočky najdete v přehledu na Dnesnivylet.cz spolu s dalšími koncerty\, festivaly a divadelními představeními.Každý si vybere co se mu líbí. Nezapomeňte koupit vstupenky včas\, stačí kliknout a budete přesměrování na oficiálního prodejce vstupenek.
URL:https://dnesnivylet.cz/event/co-to-pises-milacku-2/
LOCATION:KD Na Letním\, Hlubočky\, KD Na Letním\, Hlubočky\, Česká republika
CATEGORIES:Divadlo
ATTACH;FMTTYPE=image/jpeg:https://dnesnivylet.cz/wp-content/uploads/2025/11/320-8203082705fd4191ade79d58a4e832f8.jpg
END:VEVENT
END:VCALENDAR