BEGIN:VCALENDAR
VERSION:2.0
PRODID:-//www.dnesnivylet.cz                                                                                                                        Tip na výlet pro celou rodinu. - ECPv6.15.13.1//NONSGML v1.0//EN
CALSCALE:GREGORIAN
METHOD:PUBLISH
X-ORIGINAL-URL:https://dnesnivylet.cz
X-WR-CALDESC:Akce na www.dnesnivylet.cz                                                                                                                        Tip na výlet pro celou rodinu.
REFRESH-INTERVAL;VALUE=DURATION:PT1H
X-Robots-Tag:noindex
X-PUBLISHED-TTL:PT1H
BEGIN:VTIMEZONE
TZID:Europe/Prague
BEGIN:DAYLIGHT
TZOFFSETFROM:+0100
TZOFFSETTO:+0200
TZNAME:CEST
DTSTART:20250330T010000
END:DAYLIGHT
BEGIN:STANDARD
TZOFFSETFROM:+0200
TZOFFSETTO:+0100
TZNAME:CET
DTSTART:20251026T010000
END:STANDARD
BEGIN:DAYLIGHT
TZOFFSETFROM:+0100
TZOFFSETTO:+0200
TZNAME:CEST
DTSTART:20260329T010000
END:DAYLIGHT
BEGIN:STANDARD
TZOFFSETFROM:+0200
TZOFFSETTO:+0100
TZNAME:CET
DTSTART:20261025T010000
END:STANDARD
BEGIN:DAYLIGHT
TZOFFSETFROM:+0100
TZOFFSETTO:+0200
TZNAME:CEST
DTSTART:20270328T010000
END:DAYLIGHT
BEGIN:STANDARD
TZOFFSETFROM:+0200
TZOFFSETTO:+0100
TZNAME:CET
DTSTART:20271031T010000
END:STANDARD
END:VTIMEZONE
BEGIN:VEVENT
DTSTART;TZID=Europe/Prague:20260515T190000
DTEND;TZID=Europe/Prague:20260515T220000
DTSTAMP:20260419T144019
CREATED:20260310T171011Z
LAST-MODIFIED:20260310T171012Z
UID:19290-1778871600-1778882400@dnesnivylet.cz
SUMMARY:Sirény na cestách
DESCRIPTION:Sirény na cestách  se uskuteční dne 2026-05-15 v 19:00 v Hlučín\, Kulturní dům. \n🎟️ Koupit vstupenku \n\nZveme vás na zábavnou talk show ženské trojice hereček a zpěvaček Sandry POGODOVÉ\, Jitky ASTEROVÉ a Lindy FINKOVÉ – „SIRÉNY NA CESTÁCH“. Jejich neotřelý smysl pro humor a vzájemná chuť si ze sebe utahovat vás rozhodně pobaví. Pořad je plný šťavnatých vyprávění a historek ze zákulisí natáčení a divadelního světa. To vše prošpikováno šansony a písněmi z muzikálů tvoří dokonalý program\, na který budete dlouho vzpomínat s úsměvem na tváři. \nPo skončení pořadu následuje autogramiáda. \n  \nWeb pořadu: Sirény na cestách (S.Pogodová\,L.Finková\,J.Asterová) – Umělecká agentura Gardes https://gardes.cz/sireny-na-cestach-s-pogodoval-finkovaj-asterova/ \n\nTento tip na kulturní akci v Hlučín najdete v přehledu na Dnesnivylet.cz spolu s dalšími koncerty\, festivaly a divadelními představeními.Každý si vybere co se mu líbí. Nezapomeňte koupit vstupenky včas\, stačí kliknout a budete přesměrování na oficiálního prodejce vstupenek.
URL:https://dnesnivylet.cz/event/sireny-na-cestach/
LOCATION:Kulturní dům\, Hlučín\, Kulturní dům\, Hlučín\, Česká republika
CATEGORIES:Divadlo
ATTACH;FMTTYPE=image/jpeg:https://dnesnivylet.cz/wp-content/uploads/2026/03/320-a78e604d346740a08fd96ce1e5902c9c.jpg
END:VEVENT
END:VCALENDAR