BEGIN:VCALENDAR
VERSION:2.0
PRODID:-//www.dnesnivylet.cz                                                                                                                        Tip na výlet pro celou rodinu. - ECPv6.15.13.1//NONSGML v1.0//EN
CALSCALE:GREGORIAN
METHOD:PUBLISH
X-WR-CALNAME:www.dnesnivylet.cz                                                                                                                        Tip na výlet pro celou rodinu.
X-ORIGINAL-URL:https://dnesnivylet.cz
X-WR-CALDESC:Akce na www.dnesnivylet.cz                                                                                                                        Tip na výlet pro celou rodinu.
REFRESH-INTERVAL;VALUE=DURATION:PT1H
X-Robots-Tag:noindex
X-PUBLISHED-TTL:PT1H
BEGIN:VTIMEZONE
TZID:Europe/Prague
BEGIN:DAYLIGHT
TZOFFSETFROM:+0100
TZOFFSETTO:+0200
TZNAME:CEST
DTSTART:20240331T010000
END:DAYLIGHT
BEGIN:STANDARD
TZOFFSETFROM:+0200
TZOFFSETTO:+0100
TZNAME:CET
DTSTART:20241027T010000
END:STANDARD
BEGIN:DAYLIGHT
TZOFFSETFROM:+0100
TZOFFSETTO:+0200
TZNAME:CEST
DTSTART:20250330T010000
END:DAYLIGHT
BEGIN:STANDARD
TZOFFSETFROM:+0200
TZOFFSETTO:+0100
TZNAME:CET
DTSTART:20251026T010000
END:STANDARD
BEGIN:DAYLIGHT
TZOFFSETFROM:+0100
TZOFFSETTO:+0200
TZNAME:CEST
DTSTART:20260329T010000
END:DAYLIGHT
BEGIN:STANDARD
TZOFFSETFROM:+0200
TZOFFSETTO:+0100
TZNAME:CET
DTSTART:20261025T010000
END:STANDARD
BEGIN:DAYLIGHT
TZOFFSETFROM:+0100
TZOFFSETTO:+0200
TZNAME:CEST
DTSTART:20270328T010000
END:DAYLIGHT
BEGIN:STANDARD
TZOFFSETFROM:+0200
TZOFFSETTO:+0100
TZNAME:CET
DTSTART:20271031T010000
END:STANDARD
END:VTIMEZONE
BEGIN:VEVENT
DTSTART;TZID=Europe/Prague:20260225T190000
DTEND;TZID=Europe/Prague:20260225T220000
DTSTAMP:20260420T035103
CREATED:20251030T145307Z
LAST-MODIFIED:20251030T145307Z
UID:10582-1772046000-1772056800@dnesnivylet.cz
SUMMARY:ABBA SHOW 50 | Hořovice
DESCRIPTION:ABBA SHOW 50 | Hořovice se uskuteční dne 2026-02-25 v 19:00 v Hořovice\, Společenský dům. \n🎟️ Koupit vstupenku \n\nABBA WORLD Revival je desetičlenný soubor profesionálních hudebníků\, které spojuje obdiv k tvorbě světoznámé švédské skupiny ABBA.Tato tribute show patří mezi světovou špičku a přináší 100% živé vystoupení bez playbacků a half-playbacků. \nV repertoáru mají více než 30 nejznámějších hitů skupiny ABBA\, které jsou zahrány s takovou přesností\, že jsou téměř k nerozeznání od originálů. Celou show doplňují autentické dobové kostýmy\, image a choreografie. \nDíky svému charakteristickému zvuku a preciznímu hudebnímu provedení vystupuje ABBA WORLD Revival úspěšně po celé Evropě a oslovuje posluchače všech generací. Množství odehraných koncertů a léta úspěšné existence jsou toho nejlepším důkazem. \n\nTento tip na kulturní akci v Hořovice najdete v přehledu na Dnesnivylet.cz spolu s dalšími koncerty\, festivaly a divadelními představeními.Každý si vybere co se mu líbí. Nezapomeňte koupit vstupenky včas\, stačí kliknout a budete přesměrování na oficiálního prodejce vstupenek.
URL:https://dnesnivylet.cz/event/abba-show-50-horovice/
LOCATION:Společenský dům\, Hořovice\, Společenský dům\, Hořovice\, Česká republika
CATEGORIES:Koncert
ATTACH;FMTTYPE=image/jpeg:https://dnesnivylet.cz/wp-content/uploads/2025/10/320-c416de355b134346a1e979bed49e98ad.jpg
END:VEVENT
BEGIN:VEVENT
DTSTART;TZID=Europe/Prague:20251217T190000
DTEND;TZID=Europe/Prague:20251217T220000
DTSTAMP:20260420T035103
CREATED:20251020T070156Z
LAST-MODIFIED:20251020T070156Z
UID:8532-1765998000-1766008800@dnesnivylet.cz
SUMMARY:Vánoce Osmanyho Laffity
DESCRIPTION:Vánoce Osmanyho Laffity se uskuteční dne 2025-12-17 v 19:00 v Hořovice\, Společenský dům. \n🎟️ Koupit vstupenku \n\nOriginální zábavný pořad populárního módního návrháře kubánského původu Osmanyho Laffity ve vánočním speciálu plném nekorektního humoru. \nJak vypadají u Osmanyho vánoce a vstup do nového roku? \nNeuvěřitelné historky\, které psal sám život! \n  \nModeruje: Eva DECASTELO \nÚčinkuje: Osmany LAFFITA \n  \nDélka představení 90 až 120 minut (obvykle + přestávka) \n  \nPředstavení nedoporučujeme divákům mladším 15 let. \n\nTento tip na kulturní akci v Hořovice najdete v přehledu na Dnesnivylet.cz spolu s dalšími koncerty\, festivaly a divadelními představeními.Každý si vybere co se mu líbí. Nezapomeňte koupit vstupenky včas\, stačí kliknout a budete přesměrování na oficiálního prodejce vstupenek.
URL:https://dnesnivylet.cz/event/vanoce-osmanyho-laffity-8/
LOCATION:Společenský dům\, Hořovice\, Společenský dům\, Hořovice\, Česká republika
CATEGORIES:Zábava
ATTACH;FMTTYPE=image/jpeg:https://dnesnivylet.cz/wp-content/uploads/2025/10/320-67bb53b379f04d8fa689f9952d7bb38e.jpg
END:VEVENT
BEGIN:VEVENT
DTSTART;TZID=Europe/Prague:20251210T190000
DTEND;TZID=Europe/Prague:20251210T220000
DTSTAMP:20260420T035103
CREATED:20251020T153419Z
LAST-MODIFIED:20251020T153419Z
UID:9259-1765393200-1765404000@dnesnivylet.cz
SUMMARY:Ludovico Einaudi Music | Hořovice
DESCRIPTION:Ludovico Einaudi Music | Hořovice se uskuteční dne 2025-12-10 v 19:00 v Hořovice\, Společenský dům. \n🎟️ Koupit vstupenku \n\nNenechte si ujít nezapomenutelný večer krásné hudby\, kde zazní melodie jednoho z nejlepších pianistů a skladatelů na světe\, Ludovica Einaudiho v podání předního českého klavíristy Františka Panáčka. \nEinaudi je známý svými jednoduchými\, ale strašidelně krásnými minimalistickými díly pro klavír a ohromující filmovou hudbou. Za téměř třicet let své činnosti vydal řadu alb\, která se dostala na přední příčky poslechovosti\, vyprodává nejprestižnější koncertní sály po celém světě a jeho hudba zazněla v mnoha slavných filmech (Nedotknutelní\, Doktor Živago\, To je Anglie\, Nomadland a další). \nTento jedinečný koncert nabídne více než jen hudbu. Symfonie třpytivých svíček rozsvítí celý prostor a přidá na mystičnu a kouzlu večera. Každá svíčka přispěje k vytvoření kouzelného prostředí\, které dokonale doplní hudební zážitek. \nV rámci Evropské tour alternují také: Alexandr Starý a Lucie Kubátová.  \nAkce je přístupná od 12 let. Každý účastník musí předložit platnou vstupenku  zakoupenou výhradně v síti SMS ticket. \n\nTento tip na kulturní akci v Hořovice najdete v přehledu na Dnesnivylet.cz spolu s dalšími koncerty\, festivaly a divadelními představeními.Každý si vybere co se mu líbí. Nezapomeňte koupit vstupenky včas\, stačí kliknout a budete přesměrování na oficiálního prodejce vstupenek.
URL:https://dnesnivylet.cz/event/ludovico-einaudi-music-horovice/
LOCATION:Společenský dům\, Hořovice\, Společenský dům\, Hořovice\, Česká republika
CATEGORIES:Koncert
ATTACH;FMTTYPE=image/jpeg:https://dnesnivylet.cz/wp-content/uploads/2025/10/320-813c3ce8754342a1ba4983d3f2fda158.jpg
END:VEVENT
BEGIN:VEVENT
DTSTART;TZID=Europe/Prague:20251111T190000
DTEND;TZID=Europe/Prague:20251111T220000
DTSTAMP:20260420T035103
CREATED:20251020T065109Z
LAST-MODIFIED:20251020T065109Z
UID:8240-1762887600-1762898400@dnesnivylet.cz
SUMMARY:Muzikály Naruby | Hořovice
DESCRIPTION:Muzikály Naruby | Hořovice se uskuteční dne 2025-11-11 v 19:00 v Hořovice\, Společenský dům. \n🎟️ Koupit vstupenku \n\nMUZIKÁLY NARUBY – Josef Vágner & Petr Ryšavý & Jan KopečnýKoncertní zábavná show naplněná těmi největšími hity z českých i světových muzikálů. \nMuzikály Naruby\, to je koncert živé kapely\, která hraje známe hity tak\, jak je ještě nikdy nikdo neslyšel. Přední čeští zpěváci a muzikáloví herci Josef Vágner\, Jan Kopečný a Petr Ryšavý zpívají hity nejen z tradičních muzikálů jako jsou Bídníci\, Kleopatra\, Angelika\, Tři mušketýři\, ale také z českých hit-muzikálů. \nV programu tak zní ty největší hity Waldemara Matušky\, Václava Neckáře\, kapely Lucie\, Janka Ledeckého\, Karla Gotta\, Michala Davida\, Heleny Vondráčkové\, Lucie Bílé a dalších. \nKoncert je prokládán vtipnými historkami ze zákulisí divadla a české hudební scény. Muzikály Naruby tradičně do posledního místa vyprodávají divadelní sály po celé ČR. A nesmíme zapomenout ani na jejich vyprodanou pražskou Lucernu. \nÚčinkujíJosef VágnerPetr RyšavýJan Kopečný…v doprovodu živé kapely \n\nTento tip na kulturní akci v Hořovice najdete v přehledu na Dnesnivylet.cz spolu s dalšími koncerty\, festivaly a divadelními představeními.Každý si vybere co se mu líbí. Nezapomeňte koupit vstupenky včas\, stačí kliknout a budete přesměrování na oficiálního prodejce vstupenek.
URL:https://dnesnivylet.cz/event/muzikaly-naruby-horovice/
LOCATION:Společenský dům\, Hořovice\, Společenský dům\, Hořovice\, Česká republika
CATEGORIES:Koncert
ATTACH;FMTTYPE=image/jpeg:https://dnesnivylet.cz/wp-content/uploads/2025/10/320-e83a881b0ee94257accd918a123a4a64-1.jpg
END:VEVENT
BEGIN:VEVENT
DTSTART;TZID=Europe/Prague:20251021T190000
DTEND;TZID=Europe/Prague:20251021T220000
DTSTAMP:20260420T035103
CREATED:20251020T100025Z
LAST-MODIFIED:20251020T100026Z
UID:9132-1761073200-1761084000@dnesnivylet.cz
SUMMARY:Tigran Hovakimyan - Tigran je ve městě - Hořovice
DESCRIPTION:Tigran Hovakimyan – Tigran je ve městě – Hořovice se uskuteční dne 2025-10-21 v 19:00 v Hořovice\, Společenský dům. \n🎟️ Koupit vstupenku \n\nTigran Hovakimyan pochází z Arménie a mluví plynule čtyřmi jazyky. Vyzkoušel mnoho zaměstnání\, ale nakonec začal pracovat jako amatérský herec v divadle pro děti. Díky tomu získal mnoho zkušeností s tím\, jak a na co reaguje publikum. Divadlu také vděčí za posun k sólové stand-up comedy\, které je mu blíž\, protože se na pódiu spoléhá jen sám na sebe. \nV roce 2025/2026 vyráží na velkou TOUR po celé ČR se svým speciálem. Čeká vás nezapomenutelný stand-up večer plný humoru\, energie a skvělých vtipů! \nTigranův předskokan bude vždy nějaký český stand-up komik.  \n\nTento tip na kulturní akci v Hořovice najdete v přehledu na Dnesnivylet.cz spolu s dalšími koncerty\, festivaly a divadelními představeními.Každý si vybere co se mu líbí. Nezapomeňte koupit vstupenky včas\, stačí kliknout a budete přesměrování na oficiálního prodejce vstupenek.
URL:https://dnesnivylet.cz/event/tigran-hovakimyan-tigran-je-ve-meste-horovice/
LOCATION:Společenský dům\, Hořovice\, Společenský dům\, Hořovice\, Česká republika
CATEGORIES:Zábava
ATTACH;FMTTYPE=image/jpeg:https://dnesnivylet.cz/wp-content/uploads/2025/10/320-419cf0a5c9f44348a7ac3b3c1f0df539.jpg
END:VEVENT
END:VCALENDAR