BEGIN:VCALENDAR
VERSION:2.0
PRODID:-//www.dnesnivylet.cz                                                                                                                        Tip na výlet pro celou rodinu. - ECPv6.15.13.1//NONSGML v1.0//EN
CALSCALE:GREGORIAN
METHOD:PUBLISH
X-WR-CALNAME:www.dnesnivylet.cz                                                                                                                        Tip na výlet pro celou rodinu.
X-ORIGINAL-URL:https://dnesnivylet.cz
X-WR-CALDESC:Akce na www.dnesnivylet.cz                                                                                                                        Tip na výlet pro celou rodinu.
REFRESH-INTERVAL;VALUE=DURATION:PT1H
X-Robots-Tag:noindex
X-PUBLISHED-TTL:PT1H
BEGIN:VTIMEZONE
TZID:Europe/Prague
BEGIN:DAYLIGHT
TZOFFSETFROM:+0100
TZOFFSETTO:+0200
TZNAME:CEST
DTSTART:20250330T010000
END:DAYLIGHT
BEGIN:STANDARD
TZOFFSETFROM:+0200
TZOFFSETTO:+0100
TZNAME:CET
DTSTART:20251026T010000
END:STANDARD
BEGIN:DAYLIGHT
TZOFFSETFROM:+0100
TZOFFSETTO:+0200
TZNAME:CEST
DTSTART:20260329T010000
END:DAYLIGHT
BEGIN:STANDARD
TZOFFSETFROM:+0200
TZOFFSETTO:+0100
TZNAME:CET
DTSTART:20261025T010000
END:STANDARD
BEGIN:DAYLIGHT
TZOFFSETFROM:+0100
TZOFFSETTO:+0200
TZNAME:CEST
DTSTART:20270328T010000
END:DAYLIGHT
BEGIN:STANDARD
TZOFFSETFROM:+0200
TZOFFSETTO:+0100
TZNAME:CET
DTSTART:20271031T010000
END:STANDARD
END:VTIMEZONE
BEGIN:VEVENT
DTSTART;TZID=Europe/Prague:20260421T190000
DTEND;TZID=Europe/Prague:20260421T220000
DTSTAMP:20260420T010153
CREATED:20260419T120613Z
LAST-MODIFIED:20260419T120613Z
UID:20677-1776798000-1776808800@dnesnivylet.cz
SUMMARY:Rockové Balady při svíčkách
DESCRIPTION:Rockové Balady při svíčkách se uskuteční dne 2026-04-21 v 19:00 v Hořovice\, Společenský dům. \n🎟️ Koupit vstupenku \n\nZažij kouzlo největších rockových hitů během jedinečného večera\, kde legendární melodie zazní v podání smyčcového kvarteta za svitu stovek svíček. \nUslyšíš skladby světově proslulých kapel jako Queen\, Metallica\, Nirvana\, Aerosmith\, Guns N’ Roses\, Led Zeppelin\, Pink Floyd\, Deep Purple\, Bon Jovi a mnoha dalších. Smyčcové aranžmá otevírá těmto klasikám zcela nové emocionální hloubky. \nTeplé světlo svíček vytváří výjimečně intimní atmosféru – čeká tě nezapomenutelný hudební zážitek. \nAkce není doporučena pro děti mladší 6 let. \n\nTento tip na kulturní akci v Hořovice najdete v přehledu na Dnesnivylet.cz spolu s dalšími koncerty\, festivaly a divadelními představeními.Každý si vybere co se mu líbí. Nezapomeňte koupit vstupenky včas\, stačí kliknout a budete přesměrování na oficiálního prodejce vstupenek.
URL:https://dnesnivylet.cz/event/rockove-balady-pri-svickach-4/
LOCATION:Společenský dům\, Hořovice\, Společenský dům\, Hořovice\, Česká republika
CATEGORIES:Koncert
ATTACH;FMTTYPE=image/jpeg:https://dnesnivylet.cz/wp-content/uploads/2026/04/320-99b980fed4134e4889ea9796a7f02738.jpg
END:VEVENT
BEGIN:VEVENT
DTSTART;TZID=Europe/Prague:20260425T080000
DTEND;TZID=Europe/Prague:20260425T110000
DTSTAMP:20260420T010153
CREATED:20260419T122710Z
LAST-MODIFIED:20260419T122710Z
UID:20973-1777104000-1777114800@dnesnivylet.cz
SUMMARY:Amateur Jump Tour - Hořovice
DESCRIPTION:Amateur Jump Tour – Hořovice se uskuteční dne 2026-04-25 v 08:00 v Hořovice\, Ranch Hořovice. \n🎟️ Koupit vstupenku \n\nS potěšením Vás zveme na jedinečnou událost v jezdeckém kalendáři roku 2026 – Amateur Jump Tour\, která se koná v krásném prostředí areálu Ranch Hořovice ve dnech 25. – 26. dubna. \nTato prestižní soutěž v parkurovém skákání přivítá jezdce všech úrovní a slibuje nezapomenutelné zážitky pro všechny milovníky jezdeckého sportu. \nTěšit se můžete na napínavé soutěže\, kde se představí děti\, junioři a talentovaní amatéři\, kteří předvedou své dovednosti na překážkách různé obtížnosti až do výšky parkurů 130 cm \nNenechte si ujít příležitost být součástí této výjimečné akce\, která nabízí nejen soutěžní vzrušení\, ale také skvělou příležitost k navázání nových kontaktů v jezdecké komunitě. \n  \n\nTento tip na kulturní akci v Hořovice najdete v přehledu na Dnesnivylet.cz spolu s dalšími koncerty\, festivaly a divadelními představeními.Každý si vybere co se mu líbí. Nezapomeňte koupit vstupenky včas\, stačí kliknout a budete přesměrování na oficiálního prodejce vstupenek.
URL:https://dnesnivylet.cz/event/amateur-jump-tour-horovice/
LOCATION:Ranch Hořovice\, Hořovice\, Ranch Hořovice\, Hořovice\, Česká republika
CATEGORIES:Zábava
ATTACH;FMTTYPE=image/jpeg:https://dnesnivylet.cz/wp-content/uploads/2026/04/320-fd4f201de0ea4e8699dc1a03ad3f7c8e.jpg
END:VEVENT
BEGIN:VEVENT
DTSTART;TZID=Europe/Prague:20260605T080000
DTEND;TZID=Europe/Prague:20260605T110000
DTSTAMP:20260420T010153
CREATED:20260419T122519Z
LAST-MODIFIED:20260419T122519Z
UID:20952-1780646400-1780657200@dnesnivylet.cz
SUMMARY:Amateur & Profi Jump Tour - Hořovice
DESCRIPTION:Amateur & Profi Jump Tour – Hořovice se uskuteční dne 2026-06-05 v 08:00 v Hořovice\, Ranch Hořovice. \n🎟️ Koupit vstupenku \n\nS potěšením Vás zveme na jedinečnou událost v jezdeckém kalendáři roku 2026 – Amateur Jump Tour a Profi Jump Tour\, která se bude konat v malebném prostředí Hořovic ve dnech 5. – 7. června. Tato prestižní soutěž v parkurovém skákání přivítá jezdce všech úrovní a slibuje nezapomenutelné zážitky pro všechny milovníky jezdeckého sportu. \nTěšit se můžete na napínavé soutěže\, kde se představí talentovaní amatéři i profesionálové\, kteří předvedou své dovednosti na překážkách různé obtížnosti až do stupně ST** \nNenechte si ujít příležitost být součástí této výjimečné akce\, která nabízí nejen soutěžní vzrušení\, ale také skvělou příležitost k navázání nových kontaktů v jezdecké komunitě. \n  \n\nTento tip na kulturní akci v Hořovice najdete v přehledu na Dnesnivylet.cz spolu s dalšími koncerty\, festivaly a divadelními představeními.Každý si vybere co se mu líbí. Nezapomeňte koupit vstupenky včas\, stačí kliknout a budete přesměrování na oficiálního prodejce vstupenek.
URL:https://dnesnivylet.cz/event/amateur-profi-jump-tour-horovice/
LOCATION:Ranch Hořovice\, Hořovice\, Ranch Hořovice\, Hořovice\, Česká republika
CATEGORIES:Zábava
ATTACH;FMTTYPE=image/jpeg:https://dnesnivylet.cz/wp-content/uploads/2026/04/320-2ddbeaac52b94ad5bb85d575b815f0ea.jpg
END:VEVENT
BEGIN:VEVENT
DTSTART;TZID=Europe/Prague:20260925T080000
DTEND;TZID=Europe/Prague:20260925T110000
DTSTAMP:20260420T010153
CREATED:20260419T122517Z
LAST-MODIFIED:20260419T122518Z
UID:20941-1790323200-1790334000@dnesnivylet.cz
SUMMARY:Amateur Jump Tour Grand Finále - Hořovice
DESCRIPTION:Amateur Jump Tour Grand Finále – Hořovice se uskuteční dne 2026-09-25 v 08:00 v Hořovice\, Ranch Hořovice. \n🎟️ Koupit vstupenku \n\nRádi bychom vás srdečně pozvali na jedinečnou událost roku – Grand finále Amateur Jump Tour 2026\, které se bude konat v malebném prostředí Hořovic ve dnech 25. – 27. září. Tato prestižní akce slibuje nejen napínavé soutěže v parkurovém skákání\, ale také nezapomenutelný zážitek pro všechny milovníky jezdeckého sportu. \nBěhem tří dnů se můžete těšit na vrcholné výkony jezdců\, kteří se utkají o titul šampiona v rámci seriálu Amateur Jump Tour. \nTato událost je ideální příležitostí k navázání nových kontaktů a sdílení zkušeností s ostatními nadšenci jezdeckého sportu. \nNezmeškejte šanci být součástí této výjimečné akce!  \n  \n\nTento tip na kulturní akci v Hořovice najdete v přehledu na Dnesnivylet.cz spolu s dalšími koncerty\, festivaly a divadelními představeními.Každý si vybere co se mu líbí. Nezapomeňte koupit vstupenky včas\, stačí kliknout a budete přesměrování na oficiálního prodejce vstupenek.
URL:https://dnesnivylet.cz/event/amateur-jump-tour-grand-finale-horovice/
LOCATION:Ranch Hořovice\, Hořovice\, Ranch Hořovice\, Hořovice\, Česká republika
CATEGORIES:Zábava
ATTACH;FMTTYPE=image/jpeg:https://dnesnivylet.cz/wp-content/uploads/2026/04/320-8a38f1deb0a44ead93f69067a1c98c22.jpg
END:VEVENT
BEGIN:VEVENT
DTSTART;TZID=Europe/Prague:20261013T190000
DTEND;TZID=Europe/Prague:20261013T220000
DTSTAMP:20260420T010153
CREATED:20251103T192143Z
LAST-MODIFIED:20251103T192144Z
UID:11789-1791918000-1791928800@dnesnivylet.cz
SUMMARY:Osmany Show
DESCRIPTION:Osmany Show se uskuteční dne 2026-10-13 v 19:00 v Hořovice\, Společenský dům. \n🎟️ Koupit vstupenku \n\nOriginální zábavný pořad populárního módního návrháře kubánského původu Osmanyho Laffity se zbrusu novými historkami a příběhy. \nDevadesát minut nekorektního humoru a zábavy\, která Vás bezesporu pobaví. Osmany Vám dá nahlédnout do svého soukromí a ukáže\, že je také člověk z masa a kostí. I mnohdy smutnou historku dovede podat neodolatelným způsobem\, který pobaví. \nShow\, která polechtá Vaši bránici! \nModeruje: Eva DECASTELO \nÚčinkuje: Osmany LAFFITA \nDélka představení 90 až 120 minut (obvykle + přestávka) \nPředstavení nedoporučujeme divákům mladším 15 let. \n\nTento tip na kulturní akci v Hořovice najdete v přehledu na Dnesnivylet.cz spolu s dalšími koncerty\, festivaly a divadelními představeními.Každý si vybere co se mu líbí. Nezapomeňte koupit vstupenky včas\, stačí kliknout a budete přesměrování na oficiálního prodejce vstupenek.
URL:https://dnesnivylet.cz/event/osmany-show-9/
LOCATION:Společenský dům\, Hořovice\, Společenský dům\, Hořovice\, Česká republika
CATEGORIES:Zábava
ATTACH;FMTTYPE=image/jpeg:https://dnesnivylet.cz/wp-content/uploads/2025/11/320-990858f8114c47a497d87331dff11d59.jpg
END:VEVENT
END:VCALENDAR