BEGIN:VCALENDAR
VERSION:2.0
PRODID:-//www.dnesnivylet.cz                                                                                                                        Tip na výlet pro celou rodinu. - ECPv6.15.13.1//NONSGML v1.0//EN
CALSCALE:GREGORIAN
METHOD:PUBLISH
X-ORIGINAL-URL:https://dnesnivylet.cz
X-WR-CALDESC:Akce na www.dnesnivylet.cz                                                                                                                        Tip na výlet pro celou rodinu.
REFRESH-INTERVAL;VALUE=DURATION:PT1H
X-Robots-Tag:noindex
X-PUBLISHED-TTL:PT1H
BEGIN:VTIMEZONE
TZID:Europe/Prague
BEGIN:DAYLIGHT
TZOFFSETFROM:+0100
TZOFFSETTO:+0200
TZNAME:CEST
DTSTART:20250330T010000
END:DAYLIGHT
BEGIN:STANDARD
TZOFFSETFROM:+0200
TZOFFSETTO:+0100
TZNAME:CET
DTSTART:20251026T010000
END:STANDARD
BEGIN:DAYLIGHT
TZOFFSETFROM:+0100
TZOFFSETTO:+0200
TZNAME:CEST
DTSTART:20260329T010000
END:DAYLIGHT
BEGIN:STANDARD
TZOFFSETFROM:+0200
TZOFFSETTO:+0100
TZNAME:CET
DTSTART:20261025T010000
END:STANDARD
BEGIN:DAYLIGHT
TZOFFSETFROM:+0100
TZOFFSETTO:+0200
TZNAME:CEST
DTSTART:20270328T010000
END:DAYLIGHT
BEGIN:STANDARD
TZOFFSETFROM:+0200
TZOFFSETTO:+0100
TZNAME:CET
DTSTART:20271031T010000
END:STANDARD
END:VTIMEZONE
BEGIN:VEVENT
DTSTART;TZID=Europe/Prague:20260509T193000
DTEND;TZID=Europe/Prague:20260509T223000
DTSTAMP:20260419T154812
CREATED:20260121T193850Z
LAST-MODIFIED:20260121T193852Z
UID:16903-1778355000-1778365800@dnesnivylet.cz
SUMMARY:Lokálka  &  host
DESCRIPTION:Lokálka  &  host se uskuteční dne 2026-05-09 v 19:30 v Hradec Králové\, Letní areál U Letců. \n🎟️ Koupit vstupenku \n\nLokálka je česká parodicko–satirická folková a countryová skupina. Vznikla v roce 1974 v Hradci Králové. \nVe své tvorbě paroduje především různé písně z oblasti country music\, popmusic a dalších žánrů. Kromě toho má i svoji vlastní původní tvorbu. Jedná se především o písničky\, které skládal kapelník souboru Ladislav Straka. Společně se skupinou Barel rock patří mezi hudební uskupení z tzv. humoristicko recesistické větve českého folku.[zdroj?] Skupina hraje na countryových\, trampských\, folkových\, jazzových\, rockových i folklórních festivalech. \nV červnu 2009 zemřel kapelník Ladislav Straka[1] a v dubnu 2022 zemřel konferenciér a zpěvák Václav Souček[2]. \n\nTento tip na kulturní akci v Hradec Králové najdete v přehledu na Dnesnivylet.cz spolu s dalšími koncerty\, festivaly a divadelními představeními.Každý si vybere co se mu líbí. Nezapomeňte koupit vstupenky včas\, stačí kliknout a budete přesměrování na oficiálního prodejce vstupenek.
URL:https://dnesnivylet.cz/event/lokalka-host/
LOCATION:Letní areál U Letců\, Hradec Králové\, Letní areál U Letců\, Hradec Králové\, Česká republika
CATEGORIES:Koncert
ATTACH;FMTTYPE=image/jpeg:https://dnesnivylet.cz/wp-content/uploads/2026/01/320-11a9c541e38540118d3be26987b1b07d.jpg
END:VEVENT
BEGIN:VEVENT
DTSTART;TZID=Europe/Prague:20260516T193000
DTEND;TZID=Europe/Prague:20260516T223000
DTSTAMP:20260419T154813
CREATED:20260119T184655Z
LAST-MODIFIED:20260119T184656Z
UID:16871-1778959800-1778970600@dnesnivylet.cz
SUMMARY:Epydemye 2026
DESCRIPTION:Epydemye 2026 se uskuteční dne 2026-05-16 v 19:30 v Hradec Králové\, Letní areál U Letců. \n🎟️ Koupit vstupenku \n\nEnergická vystoupení\, písně s českými texty\, ocenění Anděl… \nFolková a folkrocková skupina Epydemye si posluchače napříč generacemi získává svou pozitivní a živelnou koncertní energií a písněmi\, které otevírají zajímavá témata. Je považována za jednu z nejosobitějších kapel na současné folkové/písničkářské scéně. \nZa desku Kotlina kapela získala žánrovou cenu Anděl 2015. Na tomto monotematickém albu zpracovala životní příběhy osobností československých dějin 20. století. Deska Milé děti (2019) byla nominovaná na žánrového Anděla. V roce 2021 kapela vydala album Prosklený nebe\, inspirované pobytem v neratovském kostele. Stejně jako předchozí dvě desky vznikla i tato pod producentským dohledem Dalibora Cidlinského a s hudebním hostem Josefem Štěpánkem. V pořadí šestou studiovou desku Dosebe vydala Epydemye v roce 2025. Natočila ji v produkci Yardy Helešice ve studiích Svárov a Barrandov Sound. \nPrvní koncertní pokusy Epydemye uskutečnila před dvaceti lety na folkových soutěžích a festivalech\, kde získala ocenění a brzy se dostala do povědomí posluchačů a dramaturgů. Později se kapele otevřely dveře na pódia rockových a multižánrových festivalů (Rock for People\, Votvírák). Ročně Epydemye odehraje kolem osmdesáti koncertů. Natočila také live koncerty pro Českou televizi\, Český rozhlas a několik videoklipů. \n\nTento tip na kulturní akci v Hradec Králové najdete v přehledu na Dnesnivylet.cz spolu s dalšími koncerty\, festivaly a divadelními představeními.Každý si vybere co se mu líbí. Nezapomeňte koupit vstupenky včas\, stačí kliknout a budete přesměrování na oficiálního prodejce vstupenek.
URL:https://dnesnivylet.cz/event/epydemye-2026/
LOCATION:Letní areál U Letců\, Hradec Králové\, Letní areál U Letců\, Hradec Králové\, Česká republika
CATEGORIES:Koncert
ATTACH;FMTTYPE=image/jpeg:https://dnesnivylet.cz/wp-content/uploads/2026/01/320-1e90994300204895aa64e7daabc6cddc.jpg
END:VEVENT
BEGIN:VEVENT
DTSTART;TZID=Europe/Prague:20260519T190000
DTEND;TZID=Europe/Prague:20260519T220000
DTSTAMP:20260419T154813
CREATED:20260310T173153Z
LAST-MODIFIED:20260310T173153Z
UID:19401-1779217200-1779228000@dnesnivylet.cz
SUMMARY:MAOK - Hudba  vnitřních  světů
DESCRIPTION:MAOK – Hudba  vnitřních  světů se uskuteční dne 2026-05-19 v 19:00 v Hradec Králové\, Sbor kněze Ambrože. \n🎟️ Koupit vstupenku \n\nZveme vás na jedinečný večer plný hudby\, emocí a zvukových krajin\, které vás pohltí.V majestátním prostoru Sboru kněze Ambrože ožije tvorba Maoka – projekt spojující ambientní hloubku\, elektronické experimenty a intimní hudební prožitek. \nNechte se unést atmosférou\, kde se moderní zvuk potkává s duchovní architekturou.Přijďte zažít koncert\, který překračuje hranice běžného poslechu. \n\nTento tip na kulturní akci v Hradec Králové najdete v přehledu na Dnesnivylet.cz spolu s dalšími koncerty\, festivaly a divadelními představeními.Každý si vybere co se mu líbí. Nezapomeňte koupit vstupenky včas\, stačí kliknout a budete přesměrování na oficiálního prodejce vstupenek.
URL:https://dnesnivylet.cz/event/maok-hudba-vnitrnich-svetu/
LOCATION:Sbor kněze Ambrože\, Hradec Králové\, Sbor kněze Ambrože\, Hradec Králové\, Česká republika
CATEGORIES:Koncert
ATTACH;FMTTYPE=image/jpeg:https://dnesnivylet.cz/wp-content/uploads/2026/03/320-437a4517d3eb45f2a1739711b6993be7.jpg
END:VEVENT
BEGIN:VEVENT
DTSTART;TZID=Europe/Prague:20260520T190000
DTEND;TZID=Europe/Prague:20260520T220000
DTSTAMP:20260419T154813
CREATED:20260419T120952Z
LAST-MODIFIED:20260419T120952Z
UID:20739-1779303600-1779314400@dnesnivylet.cz
SUMMARY:Žerty stranou - Impro comedy show - Hradec Králové
DESCRIPTION:Žerty stranou – Impro comedy show – Hradec Králové se uskuteční dne 2026-05-20 v 19:00 v Hradec Králové\, AC klub. \n🎟️ Koupit vstupenku \n\nSeznámili se při natáčení soutěžního pořadu Partička – Nová Krev a okamžitě si padli do oka.  \nZ vítěze a finalistů vzniklo i nové uskupení\, které se nyní uchází o vaši přízeň svou originální improvizační comedy show. Čekají vás chvíle plné nečekaných zápletek\, překvapivých zvratů a především humoru\, který bude vznikat přímo před vašima očima. \nJan Bedřich\, Jan Kouba\, Petr Kubala a Marcel Mika.  \nOdložte tedy žerty stranou – a přijďte se s námi zasmát! \n\nTento tip na kulturní akci v Hradec Králové najdete v přehledu na Dnesnivylet.cz spolu s dalšími koncerty\, festivaly a divadelními představeními.Každý si vybere co se mu líbí. Nezapomeňte koupit vstupenky včas\, stačí kliknout a budete přesměrování na oficiálního prodejce vstupenek.
URL:https://dnesnivylet.cz/event/zerty-stranou-impro-comedy-show-hradec-kralove/
LOCATION:AC klub\, Hradec Králové\, AC klub\, Hradec Králové\, Česká republika
CATEGORIES:Zábava
ATTACH;FMTTYPE=image/jpeg:https://dnesnivylet.cz/wp-content/uploads/2026/04/320-9d7b0b8ac8cd48f0b3cf44be12144d78.jpg
END:VEVENT
BEGIN:VEVENT
DTSTART;TZID=Europe/Prague:20260523T193000
DTEND;TZID=Europe/Prague:20260523T223000
DTSTAMP:20260419T154813
CREATED:20260121T184455Z
LAST-MODIFIED:20260121T184507Z
UID:16888-1779564600-1779575400@dnesnivylet.cz
SUMMARY:Hop Trop 2026
DESCRIPTION:Hop Trop 2026 se uskuteční dne 2026-05-23 v 19:30 v Hradec Králové\, Letní areál U Letců. \n🎟️ Koupit vstupenku \n\nV novém představení sestaveném převážně z tvorby Ladislava Kučery\, jeho syna Roberta\, Jaroslava Lenka a Jaromíra Vondry zazní například písničky Silver Hill\, Valouny a Obchodník s deštěm. Nebudou chybět ani známé hity jako je Amazonka\, Tři kříže\, Jonatán\, a také vodácké písničky\, které vznikly spoluprací souboru se známým spisovatelem Zdeňkem Šmídem. \nPořad je proložen vlastním osobitým vyprávěním příhod ze života protagonistů i jejich populárních kolegů – známých muzikantů. HOP TROP kromě živé hudby a svých nahrávek nabízí jako novinku posluchačům na svých koncertech knížku se všemi písničkami a mnoha fotografiemi. \nSkupina HOP TROP je stálicí na scéně trampské hudby už plných 40 let\, a od svého vzniku hraje stále v původním složení. \nHOP TROP byl hodnocen na festivalech Porta nejvyššími cenami za interpretaci i autorství a v roce 1988 se stal držitelem Zlaté Porty. Za album\, vydané GZ Loděnice v roce 1990 s názvem „Hop Trop II“\, byly hudebníkům předány „ZLATÉ DESKY“\, a později „PLATINOVÉ DESKY“. Skupina HOP TROP mnohokrát vystupovala v televizních pořadech a její autorské písničky jsou denně vysílány soukromými i státními rozhlasovými stanicemi. Přijali je za své trampové\, vodáci\, a romantici se vztahem k cestování a přírodě. Některé zlidověly a jsou vyučovány v základních školách. Na svých cestách do USA a Austrálie HOP TROP vystoupeními potěšil i české a slovenské krajany. \n\nTento tip na kulturní akci v Hradec Králové najdete v přehledu na Dnesnivylet.cz spolu s dalšími koncerty\, festivaly a divadelními představeními.Každý si vybere co se mu líbí. Nezapomeňte koupit vstupenky včas\, stačí kliknout a budete přesměrování na oficiálního prodejce vstupenek.
URL:https://dnesnivylet.cz/event/hop-trop-2026/
LOCATION:Letní areál U Letců\, Hradec Králové\, Letní areál U Letců\, Hradec Králové\, Česká republika
CATEGORIES:Koncert
ATTACH;FMTTYPE=image/jpeg:https://dnesnivylet.cz/wp-content/uploads/2026/01/320-27f0669edd2c46a8839e1bc75fd79ab9.jpg
END:VEVENT
BEGIN:VEVENT
DTSTART;TZID=Europe/Prague:20260523T200000
DTEND;TZID=Europe/Prague:20260523T230000
DTSTAMP:20260419T154813
CREATED:20251108T170046Z
LAST-MODIFIED:20251108T170046Z
UID:12885-1779566400-1779577200@dnesnivylet.cz
SUMMARY:JB Party - Hradec Králové
DESCRIPTION:JB Party – Hradec Králové se uskuteční dne 2026-05-23 v 20:00 v Hradec Králové\, Mood. \n🎟️ Koupit vstupenku \n\nNejvětší JUSTIN BIEBER Party poprvé v Hradci! \n  \nUž 23.5. si přijď zavzpomínat do PM Clubu na největší popovou legendu 21. století – Justina Biebera! \n  \nVrátíme se v čase k jeho průlomovému hitu Baby\, roztančíme se na Sorry a What Do You Mean?\, zapaříme na Peaches a zazpíváme si i dojemné balady jako Love Yourself nebo Ghost. Nebudou chybět ani jeho nejnovější hity a ikonické spolupráce s dalšími hvězdami! \n  \nTěšit se můžeš na skvělou videoprojekci\, fotoreport a nezapomenutelnou atmosféru plnou Bieber fever!  \nINFO: \n14.3.2026 \nMOOD Hradec Králové – Pilnáčkova 543/13\, 500 03 Hradec Králové 3 \nOPEN: 20:00 \nSTART: 21:00 \nVěk: 15+ \n\nTento tip na kulturní akci v Hradec Králové najdete v přehledu na Dnesnivylet.cz spolu s dalšími koncerty\, festivaly a divadelními představeními.Každý si vybere co se mu líbí. Nezapomeňte koupit vstupenky včas\, stačí kliknout a budete přesměrování na oficiálního prodejce vstupenek.
URL:https://dnesnivylet.cz/event/jb-party-hradec-kralove/
LOCATION:Mood\, Hradec Králové\, Mood\, Hradec Králové\, Česká republika
CATEGORIES:Zábava
ATTACH;FMTTYPE=image/jpeg:https://dnesnivylet.cz/wp-content/uploads/2025/11/320-bf948a3d0030414ca0922da81f6c7ca7.jpg
END:VEVENT
BEGIN:VEVENT
DTSTART;TZID=Europe/Prague:20260530T193000
DTEND;TZID=Europe/Prague:20260530T223000
DTSTAMP:20260419T154813
CREATED:20260209T181602Z
LAST-MODIFIED:20260209T181603Z
UID:17741-1780169400-1780180200@dnesnivylet.cz
SUMMARY:Žalman a spol.
DESCRIPTION:Žalman a spol. se uskuteční dne 2026-05-30 v 19:30 v Hradec Králové\, Letní areál U Letců. \n🎟️ Koupit vstupenku \n\nMilí přátelé\, \nna jaře roku 2026 oslavím své osmdesáté narozeniny. A protože jsem většinu života strávil na pódiu\, rozhodl jsem se slavit právě tam – s vámi. Čeká nás speciální série výjimečných koncertů\, během kterých zazní to nejlepší z mé tvorby od začátků až po dnešek. \nSoučasně vám poprvé představíme také zbrusu novou desku „To máš pořád něco“\, kterou na této narozeninové šňůře společně pokřtíme.  \nNa pódiu se mnou bude má kapela Žalman & spol. \n\nTento tip na kulturní akci v Hradec Králové najdete v přehledu na Dnesnivylet.cz spolu s dalšími koncerty\, festivaly a divadelními představeními.Každý si vybere co se mu líbí. Nezapomeňte koupit vstupenky včas\, stačí kliknout a budete přesměrování na oficiálního prodejce vstupenek.
URL:https://dnesnivylet.cz/event/zalman-a-spol/
LOCATION:Letní areál U Letců\, Hradec Králové\, Letní areál U Letců\, Hradec Králové\, Česká republika
CATEGORIES:Koncert
ATTACH;FMTTYPE=image/jpeg:https://dnesnivylet.cz/wp-content/uploads/2026/02/320-b9c42c50c4454d2aa3c865fd02b6b387.jpg
END:VEVENT
END:VCALENDAR