BEGIN:VCALENDAR
VERSION:2.0
PRODID:-//www.dnesnivylet.cz                                                                                                                        Tip na výlet pro celou rodinu. - ECPv6.15.13.1//NONSGML v1.0//EN
CALSCALE:GREGORIAN
METHOD:PUBLISH
X-ORIGINAL-URL:https://dnesnivylet.cz
X-WR-CALDESC:Akce na www.dnesnivylet.cz                                                                                                                        Tip na výlet pro celou rodinu.
REFRESH-INTERVAL;VALUE=DURATION:PT1H
X-Robots-Tag:noindex
X-PUBLISHED-TTL:PT1H
BEGIN:VTIMEZONE
TZID:Europe/Prague
BEGIN:DAYLIGHT
TZOFFSETFROM:+0100
TZOFFSETTO:+0200
TZNAME:CEST
DTSTART:20250330T010000
END:DAYLIGHT
BEGIN:STANDARD
TZOFFSETFROM:+0200
TZOFFSETTO:+0100
TZNAME:CET
DTSTART:20251026T010000
END:STANDARD
BEGIN:DAYLIGHT
TZOFFSETFROM:+0100
TZOFFSETTO:+0200
TZNAME:CEST
DTSTART:20260329T010000
END:DAYLIGHT
BEGIN:STANDARD
TZOFFSETFROM:+0200
TZOFFSETTO:+0100
TZNAME:CET
DTSTART:20261025T010000
END:STANDARD
BEGIN:DAYLIGHT
TZOFFSETFROM:+0100
TZOFFSETTO:+0200
TZNAME:CEST
DTSTART:20270328T010000
END:DAYLIGHT
BEGIN:STANDARD
TZOFFSETFROM:+0200
TZOFFSETTO:+0100
TZNAME:CET
DTSTART:20271031T010000
END:STANDARD
END:VTIMEZONE
BEGIN:VEVENT
DTSTART;TZID=Europe/Prague:20260203T180000
DTEND;TZID=Europe/Prague:20260203T210000
DTSTAMP:20260419T232043
CREATED:20251103T152957Z
LAST-MODIFIED:20251103T152958Z
UID:11640-1770141600-1770152400@dnesnivylet.cz
SUMMARY:B.I.Z.O.N.I. / BIZONI - Zápas v divadelní improvizaci
DESCRIPTION:B.I.Z.O.N.I. / BIZONI – Zápas v divadelní improvizaci se uskuteční dne 2026-02-03 v 18:00 v Hradec Králové\, Městská knihovna. \n🎟️ Koupit vstupenku \n\n🚨 LÍSTKY MIZÍ RYCHLE! \nBIZONI vs. NĚČÍ JEHNĚČÍ (HRADEC vs. ŘÍČANY) \nVítejte na improvizaci\, kde se nesoutěží o Oscara\, ale o potlesk! \nPoprvé u nás? Improvizační zápas  je nejzábavnější\, nejnapínavější a nejrychlejší formát divadla\, který existuje. Zapomeňte na nudné sezení\, tady se fandí\, tleská a rozhoduje! \nCo přesně se stane? \nDva týmy – domácí B.I.Z.O.N.I. z Hradce a hostující Něčí jehněčí z Říčan – se utkají v sérii improvizovaných disciplín. \n\n\nŽádný scénář: Všechno vzniká spontánně – z VAŠICH témat a námětů\, které se píšou na lístky a házejí na led (promiňte\, na pódium!). \n\n\nSportovní pravidla: Na hru dohlíží přísný rozhodčí\, který udílí body a trestá za klišé\, nudu nebo za to\, že se herci ztratí. \n\n\nVy jste porota: O tom\, kdo vyhraje\, rozhoduje POUZE publikum! Po každém kole hlasujete kartami pro ten tým\, který vás pobavil víc. Váš potlesk = vítězství! \n\n\nProč přijít\, i když neznáte impro? \n\n\nEmoce jako v hokeji: Tady se fandí a jede na plné pecky! Atmosféra je nabitá\, soutěživá a plná adrenalinu. \n\n\nJednoduché a Srozumitelné: Nemusíte být znalec divadla. Stačí se bavit\, tleskat a hlasovat pro ty\, co vás rozsekají smíchy. \n\n\nSouboj Měst: Hradec Králové proti Říčanům! Kdo je lepší? Přijďte podpořit naše B.I.Z.O.N.Y. a ukázat\, čí je divadlo! \n\n\nJste připraveni na večer plný nečekaných gagů\, rychlých reakcí a divokého fandění? \n\nTento tip na kulturní akci v Hradec Králové najdete v přehledu na Dnesnivylet.cz spolu s dalšími koncerty\, festivaly a divadelními představeními.Každý si vybere co se mu líbí. Nezapomeňte koupit vstupenky včas\, stačí kliknout a budete přesměrování na oficiálního prodejce vstupenek.
URL:https://dnesnivylet.cz/event/b-i-z-o-n-i-bizoni-zapas-v-divadelni-improvizaci/
LOCATION:Městská knihovna\, Hradec Králové\, Městská knihovna\, Hradec Králové\, Česká republika
CATEGORIES:Divadlo
ATTACH;FMTTYPE=image/jpeg:https://dnesnivylet.cz/wp-content/uploads/2025/11/320-4139339fbaf3447e84c979e2281d3825.jpg
END:VEVENT
END:VCALENDAR