BEGIN:VCALENDAR
VERSION:2.0
PRODID:-//www.dnesnivylet.cz                                                                                                                        Tip na výlet pro celou rodinu. - ECPv6.15.13.1//NONSGML v1.0//EN
CALSCALE:GREGORIAN
METHOD:PUBLISH
X-WR-CALNAME:www.dnesnivylet.cz                                                                                                                        Tip na výlet pro celou rodinu.
X-ORIGINAL-URL:https://dnesnivylet.cz
X-WR-CALDESC:Akce na www.dnesnivylet.cz                                                                                                                        Tip na výlet pro celou rodinu.
REFRESH-INTERVAL;VALUE=DURATION:PT1H
X-Robots-Tag:noindex
X-PUBLISHED-TTL:PT1H
BEGIN:VTIMEZONE
TZID:Europe/Prague
BEGIN:DAYLIGHT
TZOFFSETFROM:+0100
TZOFFSETTO:+0200
TZNAME:CEST
DTSTART:20250330T010000
END:DAYLIGHT
BEGIN:STANDARD
TZOFFSETFROM:+0200
TZOFFSETTO:+0100
TZNAME:CET
DTSTART:20251026T010000
END:STANDARD
BEGIN:DAYLIGHT
TZOFFSETFROM:+0100
TZOFFSETTO:+0200
TZNAME:CEST
DTSTART:20260329T010000
END:DAYLIGHT
BEGIN:STANDARD
TZOFFSETFROM:+0200
TZOFFSETTO:+0100
TZNAME:CET
DTSTART:20261025T010000
END:STANDARD
BEGIN:DAYLIGHT
TZOFFSETFROM:+0100
TZOFFSETTO:+0200
TZNAME:CEST
DTSTART:20270328T010000
END:DAYLIGHT
BEGIN:STANDARD
TZOFFSETFROM:+0200
TZOFFSETTO:+0100
TZNAME:CET
DTSTART:20271031T010000
END:STANDARD
END:VTIMEZONE
BEGIN:VEVENT
DTSTART;TZID=Europe/Prague:20260204T190000
DTEND;TZID=Europe/Prague:20260204T220000
DTSTAMP:20260420T022141
CREATED:20251020T082436Z
LAST-MODIFIED:20251020T082438Z
UID:8905-1770231600-1770242400@dnesnivylet.cz
SUMMARY:Valentýn stand-up show Miloše Knora
DESCRIPTION:Valentýn stand-up show Miloše Knora se uskuteční dne 2026-02-04 v 19:00 v Hradec Králové\, Kongresové centrum ALDIS. \n🎟️ Koupit vstupenku \n\nSTAND-UP VALENTÝN SHOW (aneb láska je kurva)\, ve speciální limitované tour po největších městech a sálech\, právě v termínu kolem svátku všech zamilovaných\, svatého Valentýna. \nMiloš s vámi probere nejen to\, jak se na takový svátek připravit\, ale i to\, jak ho zvládnout s bravurou\, elegancí a vtipem a zavděčit se své ženě\, přítelkyni\, příteli\, sousedovi\, prostě komukoliv. Nezapomene ani na vytříbenou etiketu k ženě\, či muži a projde s vámi vše co se mužsko-ženských vztahů a svátků týká. Ať už se jedná o oslavu Valentýna\, MDŽ\, nebo Mezinárodního dne orálního sexu. \nPokud hledáte způsob jak strávit kvalitně večer s možností posunout své vztahové dovednosti\, je STAND-UP VALENTÝN SHOW Miloše Knora představení právě pro vás. Ať už jako dárek k Valentýnu\, Vánocům\, nebo za trest. \n\nTento tip na kulturní akci v Hradec Králové najdete v přehledu na Dnesnivylet.cz spolu s dalšími koncerty\, festivaly a divadelními představeními.Každý si vybere co se mu líbí. Nezapomeňte koupit vstupenky včas\, stačí kliknout a budete přesměrování na oficiálního prodejce vstupenek.
URL:https://dnesnivylet.cz/event/valentyn-stand-up-show-milose-knora/
LOCATION:Kongresové centrum ALDIS\, Hradec Králové\, Kongresové centrum ALDIS\, Hradec Králové\, Česká republika
CATEGORIES:Zábava
ATTACH;FMTTYPE=image/jpeg:https://dnesnivylet.cz/wp-content/uploads/2025/10/320-91a2932cb0b9429ea3c88dd94215a98a.jpg
END:VEVENT
END:VCALENDAR