BEGIN:VCALENDAR
VERSION:2.0
PRODID:-//www.dnesnivylet.cz                                                                                                                        Tip na výlet pro celou rodinu. - ECPv6.15.13.1//NONSGML v1.0//EN
CALSCALE:GREGORIAN
METHOD:PUBLISH
X-ORIGINAL-URL:https://dnesnivylet.cz
X-WR-CALDESC:Akce na www.dnesnivylet.cz                                                                                                                        Tip na výlet pro celou rodinu.
REFRESH-INTERVAL;VALUE=DURATION:PT1H
X-Robots-Tag:noindex
X-PUBLISHED-TTL:PT1H
BEGIN:VTIMEZONE
TZID:Europe/Prague
BEGIN:DAYLIGHT
TZOFFSETFROM:+0100
TZOFFSETTO:+0200
TZNAME:CEST
DTSTART:20250330T010000
END:DAYLIGHT
BEGIN:STANDARD
TZOFFSETFROM:+0200
TZOFFSETTO:+0100
TZNAME:CET
DTSTART:20251026T010000
END:STANDARD
BEGIN:DAYLIGHT
TZOFFSETFROM:+0100
TZOFFSETTO:+0200
TZNAME:CEST
DTSTART:20260329T010000
END:DAYLIGHT
BEGIN:STANDARD
TZOFFSETFROM:+0200
TZOFFSETTO:+0100
TZNAME:CET
DTSTART:20261025T010000
END:STANDARD
BEGIN:DAYLIGHT
TZOFFSETFROM:+0100
TZOFFSETTO:+0200
TZNAME:CEST
DTSTART:20270328T010000
END:DAYLIGHT
BEGIN:STANDARD
TZOFFSETFROM:+0200
TZOFFSETTO:+0100
TZNAME:CET
DTSTART:20271031T010000
END:STANDARD
END:VTIMEZONE
BEGIN:VEVENT
DTSTART;TZID=Europe/Prague:20260227T190000
DTEND;TZID=Europe/Prague:20260227T220000
DTSTAMP:20260419T201213
CREATED:20260209T193317Z
LAST-MODIFIED:20260209T193318Z
UID:17826-1772218800-1772229600@dnesnivylet.cz
SUMMARY:Divadelní hra Járy Cimrmana - Lijavec
DESCRIPTION:Divadelní hra Járy Cimrmana – Lijavec se uskuteční dne 2026-02-27 v 19:00 v Hradec Králové\, Adalbertinum\, Velký sál. \n🎟️ Koupit vstupenku \n\nZveme vás na divadelní představení souboru CIMRMAN REVIVAL SIVICE: „Lijavec“. Hra z repertoáru Divadla Járy Cimrmana se uskuteční 27. února 2026 od 19:00 v Adalbertinu v Hradci Králové. \nO hře „Lijavec“ \n„Lijavec“ patří k nejznámějším a nejoblíbenějším titulům Járy Cimrmana. Děj se odehrává v horské útulně\, kde se skupina pocestných ocitá uvězněná během neutuchající bouře. Typicky cimrmanovský humor\, situační komika a důmyslné dialogy vytvářejí atmosféru\, která baví diváky už desítky let. \nPředstavení nabízí chytré narážky\, jemnou ironii i laskavý humor\, který zaujme všechny generace. Pokud máte rádi originální české divadlo\, „Lijavec“ je sázka na jistotu. \nZakoupením vstupenky zároveň podpoříte dětské programy. \nVstupné \nZÁKLADNÍ VSTUPNÉ – 300 Kč\, na místě 450 Kč \nVstupenky jsou bez místenky. Diváci s předkoupenou vstupenkou budou usazeni přednostně.🪑 Prosíme\, uplatněte svou vstupenku 30 minut před začátkem představení. \nTěšíme se na vás! \n\nTento tip na kulturní akci v Hradec Králové najdete v přehledu na Dnesnivylet.cz spolu s dalšími koncerty\, festivaly a divadelními představeními.Každý si vybere co se mu líbí. Nezapomeňte koupit vstupenky včas\, stačí kliknout a budete přesměrování na oficiálního prodejce vstupenek.
URL:https://dnesnivylet.cz/event/divadelni-hra-jary-cimrmana-lijavec/
LOCATION:Adalbertinum\, Velký sál\, Hradec Králové\, Adalbertinum\, Velký sál\, Hradec Králové\, Česká republika
CATEGORIES:Divadlo
ATTACH;FMTTYPE=image/jpeg:https://dnesnivylet.cz/wp-content/uploads/2026/02/320-5f093f2775c645d697a851a480d95b6e.jpg
END:VEVENT
END:VCALENDAR