BEGIN:VCALENDAR
VERSION:2.0
PRODID:-//www.dnesnivylet.cz                                                                                                                        Tip na výlet pro celou rodinu. - ECPv6.15.13.1//NONSGML v1.0//EN
CALSCALE:GREGORIAN
METHOD:PUBLISH
X-ORIGINAL-URL:https://dnesnivylet.cz
X-WR-CALDESC:Akce na www.dnesnivylet.cz                                                                                                                        Tip na výlet pro celou rodinu.
REFRESH-INTERVAL;VALUE=DURATION:PT1H
X-Robots-Tag:noindex
X-PUBLISHED-TTL:PT1H
BEGIN:VTIMEZONE
TZID:Europe/Prague
BEGIN:DAYLIGHT
TZOFFSETFROM:+0100
TZOFFSETTO:+0200
TZNAME:CEST
DTSTART:20250330T010000
END:DAYLIGHT
BEGIN:STANDARD
TZOFFSETFROM:+0200
TZOFFSETTO:+0100
TZNAME:CET
DTSTART:20251026T010000
END:STANDARD
BEGIN:DAYLIGHT
TZOFFSETFROM:+0100
TZOFFSETTO:+0200
TZNAME:CEST
DTSTART:20260329T010000
END:DAYLIGHT
BEGIN:STANDARD
TZOFFSETFROM:+0200
TZOFFSETTO:+0100
TZNAME:CET
DTSTART:20261025T010000
END:STANDARD
BEGIN:DAYLIGHT
TZOFFSETFROM:+0100
TZOFFSETTO:+0200
TZNAME:CEST
DTSTART:20270328T010000
END:DAYLIGHT
BEGIN:STANDARD
TZOFFSETFROM:+0200
TZOFFSETTO:+0100
TZNAME:CET
DTSTART:20271031T010000
END:STANDARD
END:VTIMEZONE
BEGIN:VEVENT
DTSTART;TZID=Europe/Prague:20260318T190000
DTEND;TZID=Europe/Prague:20260318T220000
DTSTAMP:20260419T201516
CREATED:20251129T085420Z
LAST-MODIFIED:20251129T085420Z
UID:14300-1773860400-1773871200@dnesnivylet.cz
SUMMARY:Petr Jablonský - Stand-up imitátor show - Hradec Králové
DESCRIPTION:Petr Jablonský – Stand-up imitátor show – Hradec Králové se uskuteční dne 2026-03-18 v 19:00 v Hradec Králové\, Adalbertinum\, Velký sál. \n🎟️ Koupit vstupenku \n\nPřední český imitátor a bavič Petr Jablonský přichází na pódium se svou první celovečerní Stand-up show\, která vás nenechá v klidu!  \nVstupte do světa brilantních hlasových proměn\, výrazné gestikulace\, výmluvné mimiky a vytříbeného komediálního talentu. Užijte si umění imitace v celé své kráse – naživo a naplno! \nTěšit se můžete na originální vystoupení\, ve kterém se na jevišti objeví plejáda postav z politického\, kulturního i televizního prostředí – ovšem v podání jediného člověka. Hlasy\, které dobře znáte\, zazní s takovou přesností\, že budete mít pocit\, jako by tam skutečně stáli. Chybět nebudou ani legendární filmové postavy – například slavný četník Cruchot a další hrdinové z klasických komedií\, kteří znovu ožívají díky Jablonského energii a dokonalé imitaci. \nRozehraje se šíleně zábavná show\, kde nikdo nezůstane ušetřen – a vy se budete smát od první minuty až do závěrečného potlesku. Petr si nebere servítky a jde přímo na věc. Ostrý jazyk\, přesné trefy a imitace\, které vás rozesmějí do slz. \nNekorektní humor. Desítky známých osobností. A jeden muž\, co to všechno zvládne sám. \nwww.standupshow.cz \n\nTento tip na kulturní akci v Hradec Králové najdete v přehledu na Dnesnivylet.cz spolu s dalšími koncerty\, festivaly a divadelními představeními.Každý si vybere co se mu líbí. Nezapomeňte koupit vstupenky včas\, stačí kliknout a budete přesměrování na oficiálního prodejce vstupenek.
URL:https://dnesnivylet.cz/event/petr-jablonsky-stand-up-imitator-show-hradec-kralove/
LOCATION:Adalbertinum\, Velký sál\, Hradec Králové\, Adalbertinum\, Velký sál\, Hradec Králové\, Česká republika
CATEGORIES:Zábava
ATTACH;FMTTYPE=image/jpeg:https://dnesnivylet.cz/wp-content/uploads/2025/11/320-863060ffa0504de3a3d5721b45383ded.jpg
END:VEVENT
BEGIN:VEVENT
DTSTART;TZID=Europe/Prague:20260318T200000
DTEND;TZID=Europe/Prague:20260318T230000
DTSTAMP:20260419T201516
CREATED:20251025T143109Z
LAST-MODIFIED:20251025T143109Z
UID:10078-1773864000-1773874800@dnesnivylet.cz
SUMMARY:ZZ Top Experience – Fuzz Top (FR)
DESCRIPTION:ZZ Top Experience – Fuzz Top (FR) se uskuteční dne 2026-03-18 v 20:00 v Hradec Králové\, Petrof Gallery. \n🎟️ Koupit vstupenku \n\nZZ Top Experience – Fuzz Top (FR) v ČR \nFrancouzská superskupina Fuzz Top byla založena v roce 2010 a interpretuje dokonale tvorbu jižanské legendy ZZ Top (Heuston\, Texas\,USA). Není potřeba uvádět\, že ZZ Top je jedna z nejlepších rockových formací světa a spolu s AC/DC\, Black Sabbath a Deep Purple jsou jedním z historických pilířů moderní rockové hudby vůbec. ZZ Top navíc založili a určili jižanský styl rocku vycházející z texaského blues. \nFuzz Top je dle odborníků nejvěrnější kopie ZZ Top současnosti a koncertují ve velkých halách po celém světě. Styl kapely je věrný věrný původním skladbám\, rytmické a sólové kytarové riffy jsou reprodukovány do noty\, repertoár tvoří největší hity vousatých chlápků z Texasu od roku 1969 do současnosti. Hudebníci používají klávesové sekvence jako na originálu pro skladby z let 1979 až 1990.Členové kapely jsou k nerozeznání od ZZ Top i vizuelně i scéna a videoprojekce koncertů je lehce zaměnitelná s originálem. A originál – ZZ Top fanoušci již v Evropě zřejmě neuslyší\, ZZ Top totiž koncertují v poslední době převážně na severoamerickém kontinentu. \nSe stejnou choreografií\, kytarami Hot Rod a otočnými hračkami\, osvětlenými mikrofonními stojany\, kostýmy\, výzdobou\, bicími ZZ Top\, se třemi až čtyřmi výměnami kostýmů a kytar během show a vlajícími vousy vtáhnou fanoušky do světa ZZ Top. \nOd 28. června 2014 po setkání Billyho Gibbonse\, Dusty Hilla a Franka Bearda jsou oficiální tribute kapelou ZZ Top. Jako jediná kapela na světě vlastní slavný Ford Dust’Eliminator z roku 1933 (věrná kopie Eliminatoru). \nFuzz Top odehráli již přes 500 koncertů pro více než 250000 návštěvníků. \nAktuální sestavu tvoří : \nPatrick Pacheco\, zpěv\, kytara \nChristian Desmit basový zpěv \nSpráva bicích sboru Patrick Girardon \n\nTento tip na kulturní akci v Hradec Králové najdete v přehledu na Dnesnivylet.cz spolu s dalšími koncerty\, festivaly a divadelními představeními.Každý si vybere co se mu líbí. Nezapomeňte koupit vstupenky včas\, stačí kliknout a budete přesměrování na oficiálního prodejce vstupenek.
URL:https://dnesnivylet.cz/event/zz-top-experience-fuzz-top-fr/
LOCATION:Petrof Gallery\, Hradec Králové\, Petrof Gallery\, Hradec Králové\, Česká republika
CATEGORIES:Koncert
ATTACH;FMTTYPE=image/jpeg:https://dnesnivylet.cz/wp-content/uploads/2025/10/320-dcf61724eb484286972a3d4d60849e9e.jpg
END:VEVENT
END:VCALENDAR