BEGIN:VCALENDAR
VERSION:2.0
PRODID:-//www.dnesnivylet.cz                                                                                                                        Tip na výlet pro celou rodinu. - ECPv6.15.13.1//NONSGML v1.0//EN
CALSCALE:GREGORIAN
METHOD:PUBLISH
X-WR-CALNAME:www.dnesnivylet.cz                                                                                                                        Tip na výlet pro celou rodinu.
X-ORIGINAL-URL:https://dnesnivylet.cz
X-WR-CALDESC:Akce na www.dnesnivylet.cz                                                                                                                        Tip na výlet pro celou rodinu.
REFRESH-INTERVAL;VALUE=DURATION:PT1H
X-Robots-Tag:noindex
X-PUBLISHED-TTL:PT1H
BEGIN:VTIMEZONE
TZID:Europe/Prague
BEGIN:DAYLIGHT
TZOFFSETFROM:+0100
TZOFFSETTO:+0200
TZNAME:CEST
DTSTART:20250330T010000
END:DAYLIGHT
BEGIN:STANDARD
TZOFFSETFROM:+0200
TZOFFSETTO:+0100
TZNAME:CET
DTSTART:20251026T010000
END:STANDARD
BEGIN:DAYLIGHT
TZOFFSETFROM:+0100
TZOFFSETTO:+0200
TZNAME:CEST
DTSTART:20260329T010000
END:DAYLIGHT
BEGIN:STANDARD
TZOFFSETFROM:+0200
TZOFFSETTO:+0100
TZNAME:CET
DTSTART:20261025T010000
END:STANDARD
BEGIN:DAYLIGHT
TZOFFSETFROM:+0100
TZOFFSETTO:+0200
TZNAME:CEST
DTSTART:20270328T010000
END:DAYLIGHT
BEGIN:STANDARD
TZOFFSETFROM:+0200
TZOFFSETTO:+0100
TZNAME:CET
DTSTART:20271031T010000
END:STANDARD
END:VTIMEZONE
BEGIN:VEVENT
DTSTART;TZID=Europe/Prague:20260606T193000
DTEND;TZID=Europe/Prague:20260606T223000
DTSTAMP:20260419T182818
CREATED:20260119T184654Z
LAST-MODIFIED:20260119T184655Z
UID:16864-1780774200-1780785000@dnesnivylet.cz
SUMMARY:Antikvartet j.h. Brontosauři revival
DESCRIPTION:Antikvartet j.h. Brontosauři revival se uskuteční dne 2026-06-06 v 19:30 v Hradec Králové\, Letní areál U Letců. \n🎟️ Koupit vstupenku \n\nSkupina založená Dušanem Vančurou v roce 1962\, obnovená po padesáti letech nečinnosti v roce 2013. Soubor má na kontě celkem tři alba. \n  \nV současnosti vystupuje ve složení Zuzana Vančurová\, Magdalena Jungwirthová\, Jiří Mašek a Tomáš Vávra. \n\nTento tip na kulturní akci v Hradec Králové najdete v přehledu na Dnesnivylet.cz spolu s dalšími koncerty\, festivaly a divadelními představeními.Každý si vybere co se mu líbí. Nezapomeňte koupit vstupenky včas\, stačí kliknout a budete přesměrování na oficiálního prodejce vstupenek.
URL:https://dnesnivylet.cz/event/antikvartet-j-h-brontosauri-revival/
LOCATION:Letní areál U Letců\, Hradec Králové\, Letní areál U Letců\, Hradec Králové\, Česká republika
CATEGORIES:Koncert
ATTACH;FMTTYPE=image/jpeg:https://dnesnivylet.cz/wp-content/uploads/2026/01/320-dfe1c5130a444227b657faa467c97758.jpg
END:VEVENT
END:VCALENDAR