BEGIN:VCALENDAR
VERSION:2.0
PRODID:-//www.dnesnivylet.cz                                                                                                                        Tip na výlet pro celou rodinu. - ECPv6.15.13.1//NONSGML v1.0//EN
CALSCALE:GREGORIAN
METHOD:PUBLISH
X-ORIGINAL-URL:https://dnesnivylet.cz
X-WR-CALDESC:Akce na www.dnesnivylet.cz                                                                                                                        Tip na výlet pro celou rodinu.
REFRESH-INTERVAL;VALUE=DURATION:PT1H
X-Robots-Tag:noindex
X-PUBLISHED-TTL:PT1H
BEGIN:VTIMEZONE
TZID:Europe/Prague
BEGIN:DAYLIGHT
TZOFFSETFROM:+0100
TZOFFSETTO:+0200
TZNAME:CEST
DTSTART:20250330T010000
END:DAYLIGHT
BEGIN:STANDARD
TZOFFSETFROM:+0200
TZOFFSETTO:+0100
TZNAME:CET
DTSTART:20251026T010000
END:STANDARD
BEGIN:DAYLIGHT
TZOFFSETFROM:+0100
TZOFFSETTO:+0200
TZNAME:CEST
DTSTART:20260329T010000
END:DAYLIGHT
BEGIN:STANDARD
TZOFFSETFROM:+0200
TZOFFSETTO:+0100
TZNAME:CET
DTSTART:20261025T010000
END:STANDARD
BEGIN:DAYLIGHT
TZOFFSETFROM:+0100
TZOFFSETTO:+0200
TZNAME:CEST
DTSTART:20270328T010000
END:DAYLIGHT
BEGIN:STANDARD
TZOFFSETFROM:+0200
TZOFFSETTO:+0100
TZNAME:CET
DTSTART:20271031T010000
END:STANDARD
END:VTIMEZONE
BEGIN:VEVENT
DTSTART;TZID=Europe/Prague:20260711T193000
DTEND;TZID=Europe/Prague:20260711T223000
DTSTAMP:20260420T015046
CREATED:20260121T194004Z
LAST-MODIFIED:20260121T194005Z
UID:16921-1783798200-1783809000@dnesnivylet.cz
SUMMARY:Taxmeni " Military Country "
DESCRIPTION:Taxmeni “ Military Country „ se uskuteční dne 2026-07-11 v 19:30 v Hradec Králové\, Letní areál U Letců. \n🎟️ Koupit vstupenku \n\nČeskou hudební scénu střídavě křižuje jednou pomyslný dostavník jakoby vystřižený z filmového westernu\, jindy vojenský džíp. Jejich posádku i pasažéry tvoří v obou případech stejná kapela moderní country – TAXMENI. Za více jak tři desítky let své existence si vydobyla přední místo na country scéně. Poprvé výrazně dala o sobě vědět na přelomu 60. a 70. let dvacátého století. Nejprve začala tvořit svůj repertoár na zpěvných melodiích tradiční americké country music\, postupem času se vlastní tvorbou a výrazem dopracovala až ke countryové moderně\, a dokonce ji i celý žánr C&W obohatila o specifický styl tzv. military-country. Album Calamity Jane 4-Rytíři oblak (2004)\, je sestaveno výhradně z českých melodií\, textů\, včetně aranží. TAXMENI byli založeni na podzim 1970\,z někdejších členů skupin The Plainsmen a Stonewall-Jackson. V únoru 1971 poprvé veřejně vystoupili. V tomto počátečním období se skupina pohybovala na pomezí folku a bluegrassu. Vyhrála několik amatérských soutěží a festivalů\, včetně celostátního finále PORTY. Poté byla TAXMENUM předána i tzv. Zlatá Porta „Za dlouholetý přínos v oblasti české country hudby.“ Podobně\,jako ostatní přední hudební skupiny\, byli rovněž i TAXMENI úředně přinuceni změnit svůj původní název. Začali vystupovat pod jménem Krajánci. Když ze strany tehdejších úřadů začal ideologický tlak neúměrně sílit\, v roce 1979 přerušili hudební činnost. Prakticky začali opět vystupovat až ve druhé polovině osmdesátých let\, až když se politické klima začalo postupně uvolňovat. Omladila se část členské sestavy a Krajánci se vrátili k svému názvu TAXMENI. Z původního tradičního směru a akustického zvuku postupně propracovali k modernějšímu pojetí. \nVydali celou řadu hudebních nosičů\, z nichž mimořádný úspěch zaznamenali v sérii alb CALAMITY JANE . Právě zde se uvedli a posléze proslavili výrazem a stylem\, který pojmenovali jako: „military country“. Repertoár Taxmenů je bohatý\, pestrý. Zhudebnili příběhy o vlastenectví\, odvaze\, chlapské cti a morálních principech. V jejich textech se setkáme nejen s klasickými westernovými tématy\, ale i s příběhy čs. legionářů či čs. vojáků za druhé světové války. TAXMENI mají za sebou více jak dva a půl tisíce vystoupení. Několikrát hráli i v zahraničí\, velký úspěch měli v Polsku a na Slovensku. Pestrou anabázi Taxmenů\, jejich kořeny\, vzestup k posluchačské popularitě\, i cestu k vavřínům\, jichž kapela dosáhla\, včetně historie československé country\, je podrobně popsána v knize Jaroslava Čvančary „Taxmeni aneb Hledání country grálu“ \nTAXMENI ve svém názvu s úsměvem parafrázují výraz „výběrčí daní“\, avšak místo „braní“ TAXMENI spíše „dávají“: pěkné písničky\, dobrou zábavu. \n\nTento tip na kulturní akci v Hradec Králové najdete v přehledu na Dnesnivylet.cz spolu s dalšími koncerty\, festivaly a divadelními představeními.Každý si vybere co se mu líbí. Nezapomeňte koupit vstupenky včas\, stačí kliknout a budete přesměrování na oficiálního prodejce vstupenek.
URL:https://dnesnivylet.cz/event/taxmeni-military-country/
LOCATION:Letní areál U Letců\, Hradec Králové\, Letní areál U Letců\, Hradec Králové\, Česká republika
CATEGORIES:Koncert
ATTACH;FMTTYPE=image/jpeg:https://dnesnivylet.cz/wp-content/uploads/2026/01/320-f593ad9155bf422ba8e031c242ceec7a.jpg
END:VEVENT
END:VCALENDAR