BEGIN:VCALENDAR
VERSION:2.0
PRODID:-//www.dnesnivylet.cz                                                                                                                        Tip na výlet pro celou rodinu. - ECPv6.15.13.1//NONSGML v1.0//EN
CALSCALE:GREGORIAN
METHOD:PUBLISH
X-WR-CALNAME:www.dnesnivylet.cz                                                                                                                        Tip na výlet pro celou rodinu.
X-ORIGINAL-URL:https://dnesnivylet.cz
X-WR-CALDESC:Akce na www.dnesnivylet.cz                                                                                                                        Tip na výlet pro celou rodinu.
REFRESH-INTERVAL;VALUE=DURATION:PT1H
X-Robots-Tag:noindex
X-PUBLISHED-TTL:PT1H
BEGIN:VTIMEZONE
TZID:Europe/Prague
BEGIN:DAYLIGHT
TZOFFSETFROM:+0100
TZOFFSETTO:+0200
TZNAME:CEST
DTSTART:20240331T010000
END:DAYLIGHT
BEGIN:STANDARD
TZOFFSETFROM:+0200
TZOFFSETTO:+0100
TZNAME:CET
DTSTART:20241027T010000
END:STANDARD
BEGIN:DAYLIGHT
TZOFFSETFROM:+0100
TZOFFSETTO:+0200
TZNAME:CEST
DTSTART:20250330T010000
END:DAYLIGHT
BEGIN:STANDARD
TZOFFSETFROM:+0200
TZOFFSETTO:+0100
TZNAME:CET
DTSTART:20251026T010000
END:STANDARD
BEGIN:DAYLIGHT
TZOFFSETFROM:+0100
TZOFFSETTO:+0200
TZNAME:CEST
DTSTART:20260329T010000
END:DAYLIGHT
BEGIN:STANDARD
TZOFFSETFROM:+0200
TZOFFSETTO:+0100
TZNAME:CET
DTSTART:20261025T010000
END:STANDARD
END:VTIMEZONE
BEGIN:VEVENT
DTSTART;TZID=Europe/Prague:20251022T190000
DTEND;TZID=Europe/Prague:20251022T220000
DTSTAMP:20260419T231730
CREATED:20251020T064659Z
LAST-MODIFIED:20251020T064659Z
UID:8081-1761159600-1761170400@dnesnivylet.cz
SUMMARY:Léčba smíchem - Talk show / Bubílková\, Pitkin\, Šimůnek
DESCRIPTION:Léčba smíchem – Talk show / Bubílková\, Pitkin\, Šimůnek se uskuteční dne 2025-10-22 v 19:00 v Hradec Králové\, Adalbertinum\, Velký sál. \n🎟️ Koupit vstupenku \n\nLÉČBA SMÍCHEM – ZUZANA BUBÍLKOVÁ\, MILAN PITKIN A MIROSLAV ŠIMŮNEK \n  \nTalkshow Zuzany Bubílkové\, Milana Pitkina a Miroslava Šimůnka.  \nVtipné vyprávění plné historek ze soukromého i profesního života protagonistů\, glosy na aktuální témata současného dění a bezpočet vtipů Milana Pitkina s písničkami Waldemara Matušky.  \nDélka: 110 minut plus autogramiáda \n  \n— \nDŮLEŽITÉ UPOZORNĚNÍ: \nVstupenka je po nákupu nevratná. Pokud ji nemůžete využít\, je možné ji předat jiné osobě.  \nNa akci mohou být pořizovány fotografie nebo audiovizuální záznamy. Zakoupením vstupenky dáváte najevo svůj souhlas s focením a nahráváním vaší osoby.  \n\nTento tip na kulturní akci v Hradec Králové najdete v přehledu na Dnesnivylet.cz spolu s dalšími koncerty\, festivaly a divadelními představeními.Každý si vybere co se mu líbí. Nezapomeňte koupit vstupenky včas\, stačí kliknout a budete přesměrování na oficiálního prodejce vstupenek.
URL:https://dnesnivylet.cz/event/lecba-smichem-talk-show-bubilkova-pitkin-simunek-3/
LOCATION:Adalbertinum\, Velký sál\, Hradec Králové\, Adalbertinum\, Velký sál\, Hradec Králové\, Česká republika
CATEGORIES:Zábava
ATTACH;FMTTYPE=image/jpeg:https://dnesnivylet.cz/wp-content/uploads/2025/10/320-4bf4b1f0427d44509465f5831e0eee40-1.jpg
END:VEVENT
END:VCALENDAR