BEGIN:VCALENDAR
VERSION:2.0
PRODID:-//www.dnesnivylet.cz                                                                                                                        Tip na výlet pro celou rodinu. - ECPv6.15.13.1//NONSGML v1.0//EN
CALSCALE:GREGORIAN
METHOD:PUBLISH
X-WR-CALNAME:www.dnesnivylet.cz                                                                                                                        Tip na výlet pro celou rodinu.
X-ORIGINAL-URL:https://dnesnivylet.cz
X-WR-CALDESC:Akce na www.dnesnivylet.cz                                                                                                                        Tip na výlet pro celou rodinu.
REFRESH-INTERVAL;VALUE=DURATION:PT1H
X-Robots-Tag:noindex
X-PUBLISHED-TTL:PT1H
BEGIN:VTIMEZONE
TZID:Europe/Prague
BEGIN:DAYLIGHT
TZOFFSETFROM:+0100
TZOFFSETTO:+0200
TZNAME:CEST
DTSTART:20240331T010000
END:DAYLIGHT
BEGIN:STANDARD
TZOFFSETFROM:+0200
TZOFFSETTO:+0100
TZNAME:CET
DTSTART:20241027T010000
END:STANDARD
BEGIN:DAYLIGHT
TZOFFSETFROM:+0100
TZOFFSETTO:+0200
TZNAME:CEST
DTSTART:20250330T010000
END:DAYLIGHT
BEGIN:STANDARD
TZOFFSETFROM:+0200
TZOFFSETTO:+0100
TZNAME:CET
DTSTART:20251026T010000
END:STANDARD
BEGIN:DAYLIGHT
TZOFFSETFROM:+0100
TZOFFSETTO:+0200
TZNAME:CEST
DTSTART:20260329T010000
END:DAYLIGHT
BEGIN:STANDARD
TZOFFSETFROM:+0200
TZOFFSETTO:+0100
TZNAME:CET
DTSTART:20261025T010000
END:STANDARD
END:VTIMEZONE
BEGIN:VEVENT
DTSTART;TZID=Europe/Prague:20251109T100000
DTEND;TZID=Europe/Prague:20251109T130000
DTSTAMP:20260419T231720
CREATED:20251105T192758Z
LAST-MODIFIED:20251105T192758Z
UID:12627-1762682400-1762693200@dnesnivylet.cz
SUMMARY:Hradcem Králové s architektem Gočárem
DESCRIPTION:Hradcem Králové s architektem Gočárem se uskuteční dne 2025-11-09 v 10:00 v Hradec Králové\, Bílá věž. \n🎟️ Koupit vstupenku \n\nJak se Hradec Králové měnil v průběhu staletí? Jaké stopy tu zanechali panovníci a architekti? A co ukrývají jeho historické uličky a sklepy? Stačí se jen zaposlouchat – každá fasáda má svůj příběh\, každý dům nese stopy minulosti a každý kout města skrývá kus historie\, která čeká\, až ji objevíte. \nCena vstupenky zahrnuje veškeré vstupní poplatky! \nVstupy: Bílá věž\, Galerie moderního umění\, Šatlava \nProgram dne:  \n„Historické jádro“ – 10:00-13:00 – Vhodné pro ty\, kteří se chtějí dozvědět více o vzniku a historii Hradce Králové \nSetkáme se u Bílé věže\, kde začíná naše dobrodružství. Vyslechnete si vyprávění o vzniku a vývoji Hradce Králové v kontextu tisíciletí. Dozvíte se\, jak bylo královské věnné město přebudováno na barokní vojenskou pevnost. Pohlédnete na kapli sv. Klimenta\, gotickou katedrálu sv. Ducha i barokní kostel Nanebevzetí Panny Marie. Nahlédnete do budovy\, ve které sídlí Galerie moderního umění. Navštívíme starobylé sklepy\, místo bývalého hradu a kobky odsouzenců v někdejší městské šatlavě. \nProhlídka končí v 13:00. Program se může změnit podle přání skupiny i neočekávaných událostí. \n\nTento tip na kulturní akci v Hradec Králové najdete v přehledu na Dnesnivylet.cz spolu s dalšími koncerty\, festivaly a divadelními představeními.Každý si vybere co se mu líbí. Nezapomeňte koupit vstupenky včas\, stačí kliknout a budete přesměrování na oficiálního prodejce vstupenek.
URL:https://dnesnivylet.cz/event/hradcem-kralove-s-architektem-gocarem/
LOCATION:Bílá věž\, Hradec Králové\, Bílá věž\, Hradec Králové\, Česká republika
CATEGORIES:Zábava
ATTACH;FMTTYPE=image/jpeg:https://dnesnivylet.cz/wp-content/uploads/2025/11/320-596b86bde81545b7882cfa3011f9c15a.jpg
END:VEVENT
BEGIN:VEVENT
DTSTART;TZID=Europe/Prague:20251108T183000
DTEND;TZID=Europe/Prague:20251108T213000
DTSTAMP:20260419T231720
CREATED:20251020T064955Z
LAST-MODIFIED:20251020T064955Z
UID:8159-1762626600-1762637400@dnesnivylet.cz
SUMMARY:Světová hudba pro 4 saxofony
DESCRIPTION:Světová hudba pro 4 saxofony se uskuteční dne 2025-11-08 v 18:30 v Hradec Králové\, Muzeum východních Čech. \n🎟️ Koupit vstupenku \n\nOd listopadu 2025 nově koncertujeme v nádherném sálu Muzea Východních Čech (arch. Kotěra) – vytápěno \n  \nSAXOFONOVÉ KVARTETO FOUR BROTHERS \nMarek Buble – soprán/alt saxofon\, Jan Musil – alt saxofon\, \nMartin Zilvar  – tenor saxofon\, Jan Turner – baryton saxofon \n. \nPROGRAM: \nG. GERSHWIN                       I got rhytm \nG. GERSHWIN                       Foggy Day \nGlenn MILLER                       American Patrol \nW. KRELL                               Mississippi Ragtime \nA. PIAZOLLA                         Libertango \nH. MANCINI                           RŮŽOVÝ PANTER (Peter Gunn Theme) \nL. BEGA                                 MAMBO N.5 \nJ. BARRY                               JAMES BOND Theme \nH. ARLEN                              ČARODEJ ZE ZEMĚ OZ (Over the rainbow ) \nB. HOWARD                          Fly me to the Moon \nH. HANCOCK                        Cantaloupe Island \narr. B. LISTON                       Brazil \nB. Mc FERRIN                       Don´t Worry Be Happy \nB. KAPER                              Green Dolphin Street \nF. FISCHER                           CHICAGO \nD. CHRISTIANSON               Comedy for Saxofophones \nJ. ZAWINUL                           Mercy\, Mercy\, Mercy \n  \nDélka cca 65 minut\, změna programu vyhrazena. \n\nTento tip na kulturní akci v Hradec Králové najdete v přehledu na Dnesnivylet.cz spolu s dalšími koncerty\, festivaly a divadelními představeními.Každý si vybere co se mu líbí. Nezapomeňte koupit vstupenky včas\, stačí kliknout a budete přesměrování na oficiálního prodejce vstupenek.
URL:https://dnesnivylet.cz/event/svetova-hudba-pro-4-saxofony-2/
LOCATION:Muzeum východních Čech\, Hradec Králové\, Muzeum východních Čech\, Hradec Králové\, Česká republika
CATEGORIES:Koncert
ATTACH;FMTTYPE=image/jpeg:https://dnesnivylet.cz/wp-content/uploads/2025/10/320-4d2cc7ea376f42b3a4b6cee7a0580b61-1.jpg
END:VEVENT
BEGIN:VEVENT
DTSTART;TZID=Europe/Prague:20251029T180000
DTEND;TZID=Europe/Prague:20251029T210000
DTSTAMP:20260419T231720
CREATED:20251020T111349Z
LAST-MODIFIED:20251020T111351Z
UID:9179-1761760800-1761771600@dnesnivylet.cz
SUMMARY:AFRIKOU z Austrálie do Evropy vlastním obytňákem
DESCRIPTION:AFRIKOU z Austrálie do Evropy vlastním obytňákem se uskuteční dne 2025-10-29 v 18:00 v Hradec Králové\, NáPLAVKA café & music bar. \n🎟️ Koupit vstupenku \n\nPřijďte si poslechnout a podebatovat o tom\, jak se žije ”na plný úvazek” v bydlíku.6 let “Vanlife” v kuse\, zatím na třech kontinentech a cesta zdaleka nekončí.Ono vlastě nejde ani tak o cestu jako spíš život na cestě.Jenom Africká část zatím čítá 45.000 km\, 14 zemí a bezmála 2 roky.Jaké je to sjet si na lyžích z vrcholu Kilimandžára?Vylézt ještě náročnější Mt Keňu a dalších 6 nejvyšších vrcholů ze 14ti navštívených zemí?Seběhnout největší písečnou dunu Afriky?Žít „nadivoko“ na Afrických ulicích i vesnicích bez ulic?Potkat se s Velkou pětkou\, tučňáky čí horskými gorillami?Nahodit si a vytáhnout sumce z řeky vedle hrochů? \nTonda Růžek žije přes 25 let v Austrálii. Co ho vedlo k tomu hodit všechno za hlavu a rozjet se za svoje úspory kolem světa? Tonda je v Evropě jen na pár týdnů. Nenechte si ho ujet!Více info na Facebookovém profilu “Antonin Tony Ruzek”. \n29. října 2025 / 18:00 \nČecho-Australan Antonín Tony Růžek \nVSTUPNÉ– PŘEDPRODEJ 120 Kč– NA MÍSTĚ 150 Kč \n\nTento tip na kulturní akci v Hradec Králové najdete v přehledu na Dnesnivylet.cz spolu s dalšími koncerty\, festivaly a divadelními představeními.Každý si vybere co se mu líbí. Nezapomeňte koupit vstupenky včas\, stačí kliknout a budete přesměrování na oficiálního prodejce vstupenek.
URL:https://dnesnivylet.cz/event/afrikou-z-australie-do-evropy-vlastnim-obytnakem/
LOCATION:NáPLAVKA café & music bar\, Hradec Králové\, NáPLAVKA café & music bar\, Hradec Králové\, Česká republika
CATEGORIES:Zábava
ATTACH;FMTTYPE=image/jpeg:https://dnesnivylet.cz/wp-content/uploads/2025/10/320-28e563cc3c954256ab7120b0363ccab0.jpg
END:VEVENT
BEGIN:VEVENT
DTSTART;TZID=Europe/Prague:20251027T190000
DTEND;TZID=Europe/Prague:20251027T220000
DTSTAMP:20260419T231720
CREATED:20251020T090445Z
LAST-MODIFIED:20251020T090446Z
UID:8955-1761591600-1761602400@dnesnivylet.cz
SUMMARY:Ludovico Einaudi Music | Hradec Králové
DESCRIPTION:Ludovico Einaudi Music | Hradec Králové se uskuteční dne 2025-10-27 v 19:00 v Hradec Králové\, Petrof Gallery. \n🎟️ Koupit vstupenku \n\nNenechte si ujít nezapomenutelný večer krásné hudby\, kde zazní melodie jednoho z nejlepších pianistů a skladatelů na světe\, Ludovica Einaudiho v podání přední české klavíristky Lucie Kubátové. \nEinaudi je známý svými jednoduchými\, ale strašidelně krásnými minimalistickými díly pro klavír a ohromující filmovou hudbou. Za téměř třicet let své činnosti vydal řadu alb\, která se dostala na přední příčky poslechovosti\, vyprodává nejprestižnější koncertní sály po celém světě a jeho hudba zazněla v mnoha slavných filmech (Nedotknutelní\, Doktor Živago\, To je Anglie\, Nomadland a další). \nTento jedinečný koncert nabídne více než jen hudbu. Symfonie třpytivých svíček rozsvítí celý prostor a přidá na mystičnu a kouzlu večera. Každá svíčka přispěje k vytvoření kouzelného prostředí\, které dokonale doplní hudební zážitek. \nV rámci Evropské tour alternují také: Miroslav Beinhauer\, František Panáček a Alexand Starý.  \nAkce je přístupná od 12 let. Každý účastník musí předložit platnou vstupenku  zakoupenou výhradně v síti SMS ticket. \n\nTento tip na kulturní akci v Hradec Králové najdete v přehledu na Dnesnivylet.cz spolu s dalšími koncerty\, festivaly a divadelními představeními.Každý si vybere co se mu líbí. Nezapomeňte koupit vstupenky včas\, stačí kliknout a budete přesměrování na oficiálního prodejce vstupenek.
URL:https://dnesnivylet.cz/event/ludovico-einaudi-music-hradec-kralove/
LOCATION:Petrof Gallery\, Hradec Králové\, Petrof Gallery\, Hradec Králové\, Česká republika
CATEGORIES:Koncert
ATTACH;FMTTYPE=image/jpeg:https://dnesnivylet.cz/wp-content/uploads/2025/10/320-aef2e39994dc48fcaf6e2cc324ed4b78.jpg
END:VEVENT
BEGIN:VEVENT
DTSTART;TZID=Europe/Prague:20251022T190000
DTEND;TZID=Europe/Prague:20251022T220000
DTSTAMP:20260419T231720
CREATED:20251020T064659Z
LAST-MODIFIED:20251020T064659Z
UID:8081-1761159600-1761170400@dnesnivylet.cz
SUMMARY:Léčba smíchem - Talk show / Bubílková\, Pitkin\, Šimůnek
DESCRIPTION:Léčba smíchem – Talk show / Bubílková\, Pitkin\, Šimůnek se uskuteční dne 2025-10-22 v 19:00 v Hradec Králové\, Adalbertinum\, Velký sál. \n🎟️ Koupit vstupenku \n\nLÉČBA SMÍCHEM – ZUZANA BUBÍLKOVÁ\, MILAN PITKIN A MIROSLAV ŠIMŮNEK \n  \nTalkshow Zuzany Bubílkové\, Milana Pitkina a Miroslava Šimůnka.  \nVtipné vyprávění plné historek ze soukromého i profesního života protagonistů\, glosy na aktuální témata současného dění a bezpočet vtipů Milana Pitkina s písničkami Waldemara Matušky.  \nDélka: 110 minut plus autogramiáda \n  \n— \nDŮLEŽITÉ UPOZORNĚNÍ: \nVstupenka je po nákupu nevratná. Pokud ji nemůžete využít\, je možné ji předat jiné osobě.  \nNa akci mohou být pořizovány fotografie nebo audiovizuální záznamy. Zakoupením vstupenky dáváte najevo svůj souhlas s focením a nahráváním vaší osoby.  \n\nTento tip na kulturní akci v Hradec Králové najdete v přehledu na Dnesnivylet.cz spolu s dalšími koncerty\, festivaly a divadelními představeními.Každý si vybere co se mu líbí. Nezapomeňte koupit vstupenky včas\, stačí kliknout a budete přesměrování na oficiálního prodejce vstupenek.
URL:https://dnesnivylet.cz/event/lecba-smichem-talk-show-bubilkova-pitkin-simunek-3/
LOCATION:Adalbertinum\, Velký sál\, Hradec Králové\, Adalbertinum\, Velký sál\, Hradec Králové\, Česká republika
CATEGORIES:Zábava
ATTACH;FMTTYPE=image/jpeg:https://dnesnivylet.cz/wp-content/uploads/2025/10/320-4bf4b1f0427d44509465f5831e0eee40-1.jpg
END:VEVENT
END:VCALENDAR