BEGIN:VCALENDAR
VERSION:2.0
PRODID:-//www.dnesnivylet.cz                                                                                                                        Tip na výlet pro celou rodinu. - ECPv6.15.13.1//NONSGML v1.0//EN
CALSCALE:GREGORIAN
METHOD:PUBLISH
X-WR-CALNAME:www.dnesnivylet.cz                                                                                                                        Tip na výlet pro celou rodinu.
X-ORIGINAL-URL:https://dnesnivylet.cz
X-WR-CALDESC:Akce na www.dnesnivylet.cz                                                                                                                        Tip na výlet pro celou rodinu.
REFRESH-INTERVAL;VALUE=DURATION:PT1H
X-Robots-Tag:noindex
X-PUBLISHED-TTL:PT1H
BEGIN:VTIMEZONE
TZID:Europe/Prague
BEGIN:DAYLIGHT
TZOFFSETFROM:+0100
TZOFFSETTO:+0200
TZNAME:CEST
DTSTART:20240331T010000
END:DAYLIGHT
BEGIN:STANDARD
TZOFFSETFROM:+0200
TZOFFSETTO:+0100
TZNAME:CET
DTSTART:20241027T010000
END:STANDARD
BEGIN:DAYLIGHT
TZOFFSETFROM:+0100
TZOFFSETTO:+0200
TZNAME:CEST
DTSTART:20250330T010000
END:DAYLIGHT
BEGIN:STANDARD
TZOFFSETFROM:+0200
TZOFFSETTO:+0100
TZNAME:CET
DTSTART:20251026T010000
END:STANDARD
BEGIN:DAYLIGHT
TZOFFSETFROM:+0100
TZOFFSETTO:+0200
TZNAME:CEST
DTSTART:20260329T010000
END:DAYLIGHT
BEGIN:STANDARD
TZOFFSETFROM:+0200
TZOFFSETTO:+0100
TZNAME:CET
DTSTART:20261025T010000
END:STANDARD
BEGIN:DAYLIGHT
TZOFFSETFROM:+0100
TZOFFSETTO:+0200
TZNAME:CEST
DTSTART:20270328T010000
END:DAYLIGHT
BEGIN:STANDARD
TZOFFSETFROM:+0200
TZOFFSETTO:+0100
TZNAME:CET
DTSTART:20271031T010000
END:STANDARD
END:VTIMEZONE
BEGIN:VEVENT
DTSTART;TZID=Europe/Prague:20260527T190000
DTEND;TZID=Europe/Prague:20260527T220000
DTSTAMP:20260420T022849
CREATED:20260209T194305Z
LAST-MODIFIED:20260209T194305Z
UID:17913-1779908400-1779919200@dnesnivylet.cz
SUMMARY:Divadelní představení / Velká zebra
DESCRIPTION:Divadelní představení / Velká zebra se uskuteční dne 2026-05-27 v 19:00 v Hranice\, Divadlo Stará střelnice. \n🎟️ Koupit vstupenku \n\nHrají: \nChristianOndřej Vetchý \nSidonieEva Kodešová / Jitka Ježková \nMauriceJaromír Dulava \nSabineDana Černá \nGiseleMartina Hudečková \nPlissonZdeněk Vencl / Jiří Štrébl / Zdeněk Velen \n  \nChristian má „nemoc“. S každou ženou vydrží jen chvíli. Byl ženatý s Gisele\, ale po čase na něj padla hrůza a pocítil nepřekonatelnou potřebu utéct. Aby své svědomí alespoň částečně utišil\, uzavřel ve prospěch své ženy vysokou životní pojistku a předstíral\, že se na rybách utopil. \nTento trik úspěšně použil v životě dvakrát a právě se ho chystá zrealizovat potřetí. Jenomže tentokrát mu osud postaví do cesty problém v podobě přítele z dětství\, který ho pozná podle náhodné fotografie v novinách a navštíví ho. \nChristian\, který měl vždy vše dopodrobna naplánováno\, musí najednou improvizovat a ke své hrůze se ocitá tváří v tvář se svými „vdovami“ i novou snoubenkou. Podaří se mu tuto nezávidění hodnou situaci zvládnout i potřetí? \nVelká zebra: komedie o tom\, proč před problémy (ne)utíkat  \nDélka představení: 120 minut (včetně přestávky) \n\nTento tip na kulturní akci v Hranice najdete v přehledu na Dnesnivylet.cz spolu s dalšími koncerty\, festivaly a divadelními představeními.Každý si vybere co se mu líbí. Nezapomeňte koupit vstupenky včas\, stačí kliknout a budete přesměrování na oficiálního prodejce vstupenek.
URL:https://dnesnivylet.cz/event/divadelni-predstaveni-velka-zebra/
LOCATION:Divadlo Stará střelnice\, Hranice\, Divadlo Stará střelnice\, Hranice\, Česká republika
CATEGORIES:Divadlo
ATTACH;FMTTYPE=image/jpeg:https://dnesnivylet.cz/wp-content/uploads/2026/02/320-511e8c9d8a334790bbdfa02eb0deecc0.jpg
END:VEVENT
BEGIN:VEVENT
DTSTART;TZID=Europe/Prague:20260423T190000
DTEND;TZID=Europe/Prague:20260423T220000
DTSTAMP:20260420T022849
CREATED:20251113T091049Z
LAST-MODIFIED:20251113T091050Z
UID:13361-1776970800-1776981600@dnesnivylet.cz
SUMMARY:ŠVANCI SHOW - JÁ SU JÁ - Hranice
DESCRIPTION:ŠVANCI SHOW – JÁ SU JÁ – Hranice se uskuteční dne 2026-04-23 v 19:00 v Hranice\, Sokolovna Hranice. \n🎟️ Koupit vstupenku \n\nNová zábavná show „JÁ SU JÁ“ vyráží na TOUR po celé České republice. \nČekají vás vtipné historky\, od kariéry fotbalisty\, velkolepé rozlučky za Lužánkami\, návštěv různých zábavních pořadů\, až po účast v reality show Survivor. Dále se těšte na prostor pro otázky na tělo\, autogramiádu\, focení a mnoho dalšího. \nJak moc dobře mě znáš? Jak vypadá můj život po kariéře fotbalisty? Chceš znát více informací o reality show Surviror? \nNejen to se dozvíš ve zbrusu nové zábavné show „JÁ SU JÁ“. \nPřijď se podívat a užít si legraci\, popovídat si s legendou fotbalu\, moderátorem\, bavičem a dát si třeba fotku\, nebo si nechat cokoliv podepsat. \nPořad není vhodný mladším 15 let! \n\nTento tip na kulturní akci v Hranice najdete v přehledu na Dnesnivylet.cz spolu s dalšími koncerty\, festivaly a divadelními představeními.Každý si vybere co se mu líbí. Nezapomeňte koupit vstupenky včas\, stačí kliknout a budete přesměrování na oficiálního prodejce vstupenek.
URL:https://dnesnivylet.cz/event/svanci-show-ja-su-ja-hranice/
LOCATION:Sokolovna Hranice\, Hranice\, Sokolovna Hranice\, Hranice\, Česká republika
CATEGORIES:Zábava
ATTACH;FMTTYPE=image/jpeg:https://dnesnivylet.cz/wp-content/uploads/2025/11/320-c5769496c8f64f2e8ce4fe043fe1e02a.jpg
END:VEVENT
BEGIN:VEVENT
DTSTART;TZID=Europe/Prague:20260416T190000
DTEND;TZID=Europe/Prague:20260416T220000
DTSTAMP:20260420T022849
CREATED:20260314T185918Z
LAST-MODIFIED:20260314T185918Z
UID:19450-1776366000-1776376800@dnesnivylet.cz
SUMMARY:Divadelní představení / Housle
DESCRIPTION:Divadelní představení / Housle se uskuteční dne 2026-04-16 v 19:00 v Hranice\, Divadlo Stará střelnice. \n🎟️ Koupit vstupenku \n\nZlodějíčkovské komediální drama o dvou bratřích a jejich rodinném příteli\, kde naděje na lepší život odhalí pohnutou rodinnou minulost i sílu charakterů. Doposud se oba bratři protloukali newyorskými ulicemi jen těžko. Všechno se ale může změnit.. \n  \nHrají: \nJiří Langmajer\, Pavel Liška\, Milan Hein \n\nTento tip na kulturní akci v Hranice najdete v přehledu na Dnesnivylet.cz spolu s dalšími koncerty\, festivaly a divadelními představeními.Každý si vybere co se mu líbí. Nezapomeňte koupit vstupenky včas\, stačí kliknout a budete přesměrování na oficiálního prodejce vstupenek.
URL:https://dnesnivylet.cz/event/divadelni-predstaveni-housle/
LOCATION:Divadlo Stará střelnice\, Hranice\, Divadlo Stará střelnice\, Hranice\, Česká republika
CATEGORIES:Divadlo
ATTACH;FMTTYPE=image/jpeg:https://dnesnivylet.cz/wp-content/uploads/2026/03/320-bcf7d7c199804ac0a44a024bb371e5f9.jpg
END:VEVENT
BEGIN:VEVENT
DTSTART;TZID=Europe/Prague:20260303T190000
DTEND;TZID=Europe/Prague:20260303T220000
DTSTAMP:20260420T022849
CREATED:20251211T071732Z
LAST-MODIFIED:20251211T071733Z
UID:14769-1772564400-1772575200@dnesnivylet.cz
SUMMARY:Ludovico Einaudi Music | Hranice
DESCRIPTION:Ludovico Einaudi Music | Hranice se uskuteční dne 2026-03-03 v 19:00 v Hranice\, Divadlo Stará střelnice. \n🎟️ Koupit vstupenku \n\nNenechte si ujít nezapomenutelný večer krásné hudby\, kde zazní melodie jednoho z nejlepších pianistů a skladatelů na světe\, Ludovica Einaudiho v podání předního českého klavíristy Františka Panáčka. \nEinaudi je známý svými jednoduchými\, ale strašidelně krásnými minimalistickými díly pro klavír a ohromující filmovou hudbou. Za téměř třicet let své činnosti vydal řadu alb\, která se dostala na přední příčky poslechovosti\, vyprodává nejprestižnější koncertní sály po celém světě a jeho hudba zazněla v mnoha slavných filmech (Nedotknutelní\, Doktor Živago\, To je Anglie\, Nomadland a další). \nTento jedinečný koncert nabídne více než jen hudbu. Symfonie třpytivých svíček rozsvítí celý prostor a přidá na mystičnu a kouzlu večera. Každá svíčka přispěje k vytvoření kouzelného prostředí\, které dokonale doplní hudební zážitek. \nV rámci Evropské tour alternují také: Alexandr Starý a Lucie Kubátová.  \nAkce je přístupná od 12 let. Každý účastník musí předložit platnou vstupenku  zakoupenou výhradně v síti smsticket. \n\nTento tip na kulturní akci v Hranice najdete v přehledu na Dnesnivylet.cz spolu s dalšími koncerty\, festivaly a divadelními představeními.Každý si vybere co se mu líbí. Nezapomeňte koupit vstupenky včas\, stačí kliknout a budete přesměrování na oficiálního prodejce vstupenek.
URL:https://dnesnivylet.cz/event/ludovico-einaudi-music-hranice/
LOCATION:Divadlo Stará střelnice\, Hranice\, Divadlo Stará střelnice\, Hranice\, Česká republika
CATEGORIES:Koncert
ATTACH;FMTTYPE=image/jpeg:https://dnesnivylet.cz/wp-content/uploads/2025/12/320-15b116658dbf43159d7e89dcd8ee3367.jpg
END:VEVENT
BEGIN:VEVENT
DTSTART;TZID=Europe/Prague:20251211T190000
DTEND;TZID=Europe/Prague:20251211T220000
DTSTAMP:20260420T022849
CREATED:20251102T123359Z
LAST-MODIFIED:20251102T123359Z
UID:11014-1765479600-1765490400@dnesnivylet.cz
SUMMARY:KOUZLO VÁNOC - Grande Moravia Ladislava Pavluše
DESCRIPTION:KOUZLO VÁNOC – Grande Moravia Ladislava Pavluše se uskuteční dne 2025-12-11 v 19:00 v Hranice\, Sokolovna Hranice. \n🎟️ Koupit vstupenku \n\nKOUZLO VÁNOCGrande Moravia Ladislava Pavluše&Tři Barvy – Mária Bikárová\, Eliška Trtíková\, Lucie Bikárová(alt. Leona Klempárová) \nPonořte se do kouzelné vánoční atmosféry a nechte se unést melodiemi\, které rozezní srdce i nejchladnější zimní večer.Velmi oblíbený orchestr Grande Moravia spolu s půvabným dívčím triem Tři Barvy přinášejí výběr nejkrásnějších vánočních písní\,  které vám vykouzlí úsměv na tváři a zahřejí duši. \nZažijte večer plný radosti\, hudby a společných chvil\, které rozsvítí vaše předvánoční dny. \n\nTento tip na kulturní akci v Hranice najdete v přehledu na Dnesnivylet.cz spolu s dalšími koncerty\, festivaly a divadelními představeními.Každý si vybere co se mu líbí. Nezapomeňte koupit vstupenky včas\, stačí kliknout a budete přesměrování na oficiálního prodejce vstupenek.
URL:https://dnesnivylet.cz/event/kouzlo-vanoc-grande-moravia-ladislava-pavluse-5/
LOCATION:Sokolovna Hranice\, Hranice\, Sokolovna Hranice\, Hranice\, Česká republika
CATEGORIES:Koncert
ATTACH;FMTTYPE=image/jpeg:https://dnesnivylet.cz/wp-content/uploads/2025/11/320-c7af94036ab9493fb17588a1c9b6e3d7.jpg
END:VEVENT
BEGIN:VEVENT
DTSTART;TZID=Europe/Prague:20251127T190000
DTEND;TZID=Europe/Prague:20251127T220000
DTSTAMP:20260420T022849
CREATED:20251020T064119Z
LAST-MODIFIED:20251020T064119Z
UID:7922-1764270000-1764280800@dnesnivylet.cz
SUMMARY:Travesti Divoké kočky v Hranicích
DESCRIPTION:Travesti Divoké kočky v Hranicích se uskuteční dne 2025-11-27 v 19:00 v Hranice\, Divadlo Stará střelnice. \n🎟️ Koupit vstupenku \n\nTravesti skupina Divoké kočky z Ostravy přijíždí v rámci svého podzimního turné se svým celovečerním programem opět do Hranic\, kde po velkém úspěchu vystoupí 27.11.2025 od 19:00 v divadelním sále Stará střelnice. \nCelovečerní zábavný program je plný nezapomenutelných legračních scének\, písniček\, známých zpěvaček\, krásných kostýmů\, situačního humoru a hlavně smíchu a je vhodný jak pro ženské tak pánské publikum. Jejich vystoupení se těší stálé větší oblibě a tak si každý divák přijde na své. Přijdte se sami přesvědčit\, že na travesti představení není nic špatného a v podání ostravských umělců se budete určitě dobře bavit. \nDivoké kočky již v minulosti v Hranicích několikrát učinkovali se svým programem\, a proto se těší opět na úžasné publikum\, atmosféru a skvělý večer. Na závěr programu Vám členové souboru ukážou svou pravou tvář. \n\nTento tip na kulturní akci v Hranice najdete v přehledu na Dnesnivylet.cz spolu s dalšími koncerty\, festivaly a divadelními představeními.Každý si vybere co se mu líbí. Nezapomeňte koupit vstupenky včas\, stačí kliknout a budete přesměrování na oficiálního prodejce vstupenek.
URL:https://dnesnivylet.cz/event/travesti-divoke-kocky-v-hranicich/
LOCATION:Divadlo Stará střelnice\, Hranice\, Divadlo Stará střelnice\, Hranice\, Česká republika
CATEGORIES:Zábava
ATTACH;FMTTYPE=image/jpeg:https://dnesnivylet.cz/wp-content/uploads/2025/10/320-f60a617957614d79bb9aa1471d828cb1-1.jpg
END:VEVENT
BEGIN:VEVENT
DTSTART;TZID=Europe/Prague:20251123T190000
DTEND;TZID=Europe/Prague:20251123T220000
DTSTAMP:20260420T022849
CREATED:20251103T193022Z
LAST-MODIFIED:20251103T193023Z
UID:12042-1763924400-1763935200@dnesnivylet.cz
SUMMARY:Divadelní představení / Pro tebe cokoliv
DESCRIPTION:Divadelní představení / Pro tebe cokoliv se uskuteční dne 2025-11-23 v 19:00 v Hranice\, Divadlo Stará střelnice. \n🎟️ Koupit vstupenku \n\nMateřská láska nemá žádné hranice. Takže když si vaše milovaná dcera usmyslí\, že se chce stát humanitární pracovnicí v Africe\, co uděláte? Samozřejmě ji podpoříte\, protože pro ni byste udělali cokoliv! I kdyby to mělo znamenat\, že se z kožešin převlečete do oblečení z biobavlny\, sundáte paroží ze zdí a nově zařídíte celý byt\, namísto steaku připravíte zeleninové hody a na výběrovou komisi zahrajete divadlo\, že jste „alter-globalizační nadšenci“\, i když nemáte ponětí\, co to je. Završte to adoptováním hluchého\, slepého\, pajdajícího králíka\, a to by bylo\, abyste nebyli přesvědčiví…! \n„Paulová do komediální role dává všechno\, Pavel Zedníček jí jako lehce uťáplý manžel dobře nahrává.“ MF Dnes \n„Pokud se chcete zasmát a zamyslet nad vážným nevážně\, komedie Pro tebe cokoliv tato očekávání zaručeně naplní. Svědčí o tom i opakovaná\, neutuchající standing ovation v rámci jeho premiérového uvedení.“ Informuji.cz \n\nTento tip na kulturní akci v Hranice najdete v přehledu na Dnesnivylet.cz spolu s dalšími koncerty\, festivaly a divadelními představeními.Každý si vybere co se mu líbí. Nezapomeňte koupit vstupenky včas\, stačí kliknout a budete přesměrování na oficiálního prodejce vstupenek.
URL:https://dnesnivylet.cz/event/divadelni-predstaveni-pro-tebe-cokoliv/
LOCATION:Divadlo Stará střelnice\, Hranice\, Divadlo Stará střelnice\, Hranice\, Česká republika
CATEGORIES:Divadlo
ATTACH;FMTTYPE=image/jpeg:https://dnesnivylet.cz/wp-content/uploads/2025/11/320-c9a75b1cdbf443fb8ff5d100e6c34a4c.jpg
END:VEVENT
BEGIN:VEVENT
DTSTART;TZID=Europe/Prague:20251106T190000
DTEND;TZID=Europe/Prague:20251106T220000
DTSTAMP:20260420T022849
CREATED:20251020T065250Z
LAST-MODIFIED:20251020T065251Z
UID:8324-1762455600-1762466400@dnesnivylet.cz
SUMMARY:Martin Hranáč - CRAZY SHOW - Hranice
DESCRIPTION:Martin Hranáč – CRAZY SHOW – Hranice se uskuteční dne 2025-11-06 v 19:00 v Hranice\, Sokolovna Hranice. \n🎟️ Koupit vstupenku \n\nChcete vstoupit do světa humoru a improvizace? Tak je CRAZY SHOW právě pro VÁS! Připravte se na nezapomenutelný večer plný smíchu s Martinem Hranáčem – komikem\, hercem\, číšníkem a optimistou\, který svým jedinečným smyslem pro humor baví lidi na sociálních sítích. Martinův příběh číšníka a jeho každodenní zážitky z gastronomie se stávají zábavným vyprávěním\, které osloví naprosto všechny. \nKaždé vystoupení je unikátní a plné improvizace\, protože Martin miluje improvizaci a scénáře mění v průběhu večera\, což občas vykolejí jeho sestru Štěpánku Šmídovou\, která mu dělá skvělou společnost během celé show. Všechny scénky a historky vychází z Martinových zkušeností a zážitků\, jak profesního\, tak soukromého života. Jeho humor je nekorektní\, sebeironický a nebojí se jít na hranu – právě to dělá jeho show nezapomenutelnou! \nNenechte si ujít tento jedinečný zážitek! Vstupenky v prodeji! \nPořad není vhodný mladším 15 let! \nhttps://www.standupshow.cz/ \n\nTento tip na kulturní akci v Hranice najdete v přehledu na Dnesnivylet.cz spolu s dalšími koncerty\, festivaly a divadelními představeními.Každý si vybere co se mu líbí. Nezapomeňte koupit vstupenky včas\, stačí kliknout a budete přesměrování na oficiálního prodejce vstupenek.
URL:https://dnesnivylet.cz/event/martin-hranac-crazy-show-hranice/
LOCATION:Sokolovna Hranice\, Hranice\, Sokolovna Hranice\, Hranice\, Česká republika
CATEGORIES:Zábava
ATTACH;FMTTYPE=image/jpeg:https://dnesnivylet.cz/wp-content/uploads/2025/10/320-624b842346e14361b8491663747001d0-1.jpg
END:VEVENT
BEGIN:VEVENT
DTSTART;TZID=Europe/Prague:20251104T193000
DTEND;TZID=Europe/Prague:20251104T223000
DTSTAMP:20260420T022849
CREATED:20251102T182004Z
LAST-MODIFIED:20251102T182006Z
UID:11154-1762284600-1762295400@dnesnivylet.cz
SUMMARY:O lásce v Hranicích
DESCRIPTION:O lásce v Hranicích se uskuteční dne 2025-11-04 v 19:30 v Hranice\, Divadlo Stará střelnice. \n🎟️ Koupit vstupenku \n\nJe půlnoc. Hodina pravdy. Hodina\, kterou ON a ONA vybrali pro uspořádání vzájemného zúčtování. Ve francouzské konverzační komedii se ve strhujícím manželském duelu\, po úspěšné inscenaci Otevřené manželství\, opět představují Jana Krausová a Karel Roden. \n\nTento tip na kulturní akci v Hranice najdete v přehledu na Dnesnivylet.cz spolu s dalšími koncerty\, festivaly a divadelními představeními.Každý si vybere co se mu líbí. Nezapomeňte koupit vstupenky včas\, stačí kliknout a budete přesměrování na oficiálního prodejce vstupenek.
URL:https://dnesnivylet.cz/event/o-lasce-v-hranicich/
LOCATION:Divadlo Stará střelnice\, Hranice\, Divadlo Stará střelnice\, Hranice\, Česká republika
CATEGORIES:Divadlo
ATTACH;FMTTYPE=image/jpeg:https://dnesnivylet.cz/wp-content/uploads/2025/11/320-08d9e63d2bdd4568a1954af357f106a9.jpg
END:VEVENT
END:VCALENDAR